| Back to Multiple platform build/check report for BioC 3.19: simplified long |
|
This page was generated on 2024-10-08 20:44 -0400 (Tue, 08 Oct 2024).
| Hostname | OS | Arch (*) | R version | Installed pkgs |
|---|---|---|---|---|
| nebbiolo1 | Linux (Ubuntu 22.04.3 LTS) | x86_64 | 4.4.1 (2024-06-14) -- "Race for Your Life" | 4763 |
| palomino7 | Windows Server 2022 Datacenter | x64 | 4.4.1 (2024-06-14 ucrt) -- "Race for Your Life" | 4500 |
| merida1 | macOS 12.7.5 Monterey | x86_64 | 4.4.1 (2024-06-14) -- "Race for Your Life" | 4529 |
| kjohnson1 | macOS 13.6.6 Ventura | arm64 | 4.4.1 (2024-06-14) -- "Race for Your Life" | 4479 |
| Click on any hostname to see more info about the system (e.g. compilers) (*) as reported by 'uname -p', except on Windows and Mac OS X | ||||
| Package 1952/2300 | Hostname | OS / Arch | INSTALL | BUILD | CHECK | BUILD BIN | ||||||||
| sesame 1.22.2 (landing page) Wanding Zhou
| nebbiolo1 | Linux (Ubuntu 22.04.3 LTS) / x86_64 | OK | OK | OK | |||||||||
| palomino7 | Windows Server 2022 Datacenter / x64 | OK | OK | OK | OK | |||||||||
| merida1 | macOS 12.7.5 Monterey / x86_64 | OK | OK | OK | OK | |||||||||
| kjohnson1 | macOS 13.6.6 Ventura / arm64 | OK | OK | OK | OK | |||||||||
|
To the developers/maintainers of the sesame package: - Allow up to 24 hours (and sometimes 48 hours) for your latest push to git@git.bioconductor.org:packages/sesame.git to reflect on this report. See Troubleshooting Build Report for more information. - Use the following Renviron settings to reproduce errors and warnings. - If 'R CMD check' started to fail recently on the Linux builder(s) over a missing dependency, add the missing dependency to 'Suggests:' in your DESCRIPTION file. See Renviron.bioc for more information. |
| Package: sesame |
| Version: 1.22.2 |
| Command: /Library/Frameworks/R.framework/Resources/bin/R CMD check --install=check:sesame.install-out.txt --library=/Library/Frameworks/R.framework/Resources/library --no-vignettes --timings sesame_1.22.2.tar.gz |
| StartedAt: 2024-10-08 11:16:26 -0400 (Tue, 08 Oct 2024) |
| EndedAt: 2024-10-08 11:39:06 -0400 (Tue, 08 Oct 2024) |
| EllapsedTime: 1360.0 seconds |
| RetCode: 0 |
| Status: OK |
| CheckDir: sesame.Rcheck |
| Warnings: 0 |
##############################################################################
##############################################################################
###
### Running command:
###
### /Library/Frameworks/R.framework/Resources/bin/R CMD check --install=check:sesame.install-out.txt --library=/Library/Frameworks/R.framework/Resources/library --no-vignettes --timings sesame_1.22.2.tar.gz
###
##############################################################################
##############################################################################
* using log directory ‘/Users/biocbuild/bbs-3.19-bioc/meat/sesame.Rcheck’
* using R version 4.4.1 (2024-06-14)
* using platform: aarch64-apple-darwin20
* R was compiled by
Apple clang version 14.0.0 (clang-1400.0.29.202)
GNU Fortran (GCC) 12.2.0
* running under: macOS Ventura 13.6.6
* using session charset: UTF-8
* using option ‘--no-vignettes’
* checking for file ‘sesame/DESCRIPTION’ ... OK
* checking extension type ... Package
* this is package ‘sesame’ version ‘1.22.2’
* package encoding: UTF-8
* checking package namespace information ... OK
* checking package dependencies ... OK
* checking if this is a source package ... OK
* checking if there is a namespace ... OK
* checking for hidden files and directories ... OK
* checking for portable file names ... OK
* checking for sufficient/correct file permissions ... OK
* checking whether package ‘sesame’ can be installed ... OK
* checking installed package size ... OK
* checking package directory ... OK
* checking ‘build’ directory ... OK
* checking DESCRIPTION meta-information ... OK
* checking top-level files ... OK
* checking for left-over files ... OK
* checking index information ... OK
* checking package subdirectories ... OK
* checking code files for non-ASCII characters ... OK
* checking R files for syntax errors ... OK
* checking whether the package can be loaded ... OK
* checking whether the package can be loaded with stated dependencies ... OK
* checking whether the package can be unloaded cleanly ... OK
* checking whether the namespace can be loaded with stated dependencies ... OK
* checking whether the namespace can be unloaded cleanly ... OK
* checking whether startup messages can be suppressed ... OK
* checking dependencies in R code ... OK
* checking S3 generic/method consistency ... OK
* checking replacement functions ... OK
* checking foreign function calls ... OK
* checking R code for possible problems ... OK
* checking Rd files ... OK
* checking Rd metadata ... OK
* checking Rd cross-references ... OK
* checking for missing documentation entries ... OK
* checking for code/documentation mismatches ... OK
* checking Rd \usage sections ... OK
* checking Rd contents ... OK
* checking for unstated dependencies in examples ... OK
* checking files in ‘vignettes’ ... OK
* checking examples ... OK
Examples with CPU (user + system) or elapsed time > 5s
user system elapsed
testEnrichmentGene 166.284 6.213 184.789
imputeBetasByGenomicNeighbors 45.271 1.723 53.389
inferSex 30.618 1.114 33.961
sesameQC_calcStats 26.181 2.589 30.112
KYCG_plotMeta 27.313 1.173 31.967
KYCG_plotEnrichAll 26.993 1.058 31.912
imputeBetas 24.099 2.093 28.650
sesameQC_plotHeatSNPs 22.659 1.342 25.616
ELBAR 16.908 3.579 21.368
sesameQC_plotBar 19.405 0.489 21.818
inferSpecies 18.382 0.824 21.481
diffRefSet 17.821 0.845 22.058
KYCG_annoProbes 17.864 0.754 20.769
getRefSet 17.293 0.609 19.997
KYCG_plotMetaEnrichment 16.409 0.715 21.293
KYCG_buildGeneDBs 15.466 0.580 17.815
visualizeGene 14.240 0.575 16.237
sesameQC_plotBetaByDesign 12.654 2.148 15.849
matchDesign 13.971 0.799 15.563
testEnrichmentSEA 13.909 0.855 16.118
compareMouseStrainReference 13.388 0.612 16.519
compareReference 12.195 0.490 14.850
sdf_read_table 11.367 0.721 13.058
inferStrain 10.880 0.726 12.827
DMR 10.580 0.290 11.922
estimateLeukocyte 9.936 0.494 12.708
dyeBiasCorrMostBalanced 10.077 0.351 12.460
DML 9.123 0.932 11.218
getMask 9.423 0.553 12.897
dbStats 8.803 0.711 11.436
createUCSCtrack 8.764 0.472 11.258
openSesame 7.440 0.848 9.331
testEnrichment 7.542 0.730 9.895
bisConversionControl 7.753 0.246 9.676
probeSuccessRate 7.366 0.628 10.320
inferTissue 6.398 1.037 8.897
KYCG_plotSetEnrichment 6.407 0.587 8.786
deidentify 5.862 0.370 7.578
dyeBiasNL 5.210 0.641 6.953
mapToMammal40 4.772 0.451 6.162
noMasked 4.653 0.340 5.924
prepSesame 4.586 0.322 5.657
reIdentify 4.724 0.147 5.854
totalIntensities 4.435 0.269 5.553
parseGEOsignalMU 4.327 0.238 5.052
summaryExtractTest 3.987 0.538 5.828
print.DMLSummary 3.795 0.505 5.237
sesameQC_rankStats 3.809 0.362 5.104
* checking for unstated dependencies in ‘tests’ ... OK
* checking tests ...
Running ‘testthat.R’
OK
* checking for unstated dependencies in vignettes ... OK
* checking package vignettes ... OK
* checking running R code from vignettes ... SKIPPED
* checking re-building of vignette outputs ... SKIPPED
* checking PDF version of manual ... OK
* DONE
Status: OK
sesame.Rcheck/00install.out
############################################################################## ############################################################################## ### ### Running command: ### ### /Library/Frameworks/R.framework/Resources/bin/R CMD INSTALL sesame ### ############################################################################## ############################################################################## * installing to library ‘/Library/Frameworks/R.framework/Versions/4.4-arm64/Resources/library’ * installing *source* package ‘sesame’ ... ** using staged installation ** R ** inst ** byte-compile and prepare package for lazy loading ** help *** installing help indices ** building package indices ** installing vignettes ** testing if installed package can be loaded from temporary location ** testing if installed package can be loaded from final location ** testing if installed package keeps a record of temporary installation path * DONE (sesame)
sesame.Rcheck/tests/testthat.Rout
R version 4.4.1 (2024-06-14) -- "Race for Your Life"
Copyright (C) 2024 The R Foundation for Statistical Computing
Platform: aarch64-apple-darwin20
R is free software and comes with ABSOLUTELY NO WARRANTY.
You are welcome to redistribute it under certain conditions.
Type 'license()' or 'licence()' for distribution details.
R is a collaborative project with many contributors.
Type 'contributors()' for more information and
'citation()' on how to cite R or R packages in publications.
Type 'demo()' for some demos, 'help()' for on-line help, or
'help.start()' for an HTML browser interface to help.
Type 'q()' to quit R.
> library(testthat)
> library(sesame)
Loading required package: sesameData
Loading required package: ExperimentHub
Loading required package: BiocGenerics
Attaching package: 'BiocGenerics'
The following objects are masked from 'package:stats':
IQR, mad, sd, var, xtabs
The following objects are masked from 'package:base':
Filter, Find, Map, Position, Reduce, anyDuplicated, aperm, append,
as.data.frame, basename, cbind, colnames, dirname, do.call,
duplicated, eval, evalq, get, grep, grepl, intersect, is.unsorted,
lapply, mapply, match, mget, order, paste, pmax, pmax.int, pmin,
pmin.int, rank, rbind, rownames, sapply, setdiff, table, tapply,
union, unique, unsplit, which.max, which.min
Loading required package: AnnotationHub
Loading required package: BiocFileCache
Loading required package: dbplyr
Loading sesameData.
----------------------------------------------------------
| SEnsible Step-wise Analysis of DNA MEthylation (SeSAMe)
| --------------------------------------------------------
| Please cache auxiliary data by "sesameDataCache()".
| This needs to be done only once per SeSAMe installation.
----------------------------------------------------------
>
> test_check("sesame")
[ FAIL 0 | WARN 0 | SKIP 0 | PASS 5 ]
>
> proc.time()
user system elapsed
25.702 1.683 29.050
sesame.Rcheck/sesame-Ex.timings
| name | user | system | elapsed | |
| BetaValueToMValue | 0.000 | 0.000 | 0.001 | |
| DML | 9.123 | 0.932 | 11.218 | |
| DMLpredict | 1.554 | 0.115 | 2.375 | |
| DMR | 10.580 | 0.290 | 11.922 | |
| ELBAR | 16.908 | 3.579 | 21.368 | |
| KYCG_annoProbes | 17.864 | 0.754 | 20.769 | |
| KYCG_buildGeneDBs | 15.466 | 0.580 | 17.815 | |
| KYCG_getDBs | 3.470 | 0.211 | 4.662 | |
| KYCG_listDBGroups | 0.038 | 0.002 | 0.043 | |
| KYCG_loadDBs | 0.000 | 0.001 | 0.000 | |
| KYCG_plotBar | 0.229 | 0.011 | 0.247 | |
| KYCG_plotDot | 0.644 | 0.025 | 0.686 | |
| KYCG_plotEnrichAll | 26.993 | 1.058 | 31.912 | |
| KYCG_plotLollipop | 0.167 | 0.003 | 0.174 | |
| KYCG_plotManhattan | 1.871 | 0.158 | 2.071 | |
| KYCG_plotMeta | 27.313 | 1.173 | 31.967 | |
| KYCG_plotMetaEnrichment | 16.409 | 0.715 | 21.293 | |
| KYCG_plotPointRange | 2.832 | 0.248 | 3.847 | |
| KYCG_plotSetEnrichment | 6.407 | 0.587 | 8.786 | |
| KYCG_plotVolcano | 0.153 | 0.003 | 0.174 | |
| KYCG_plotWaterfall | 3.019 | 0.206 | 4.303 | |
| MValueToBetaValue | 0.000 | 0.000 | 0.001 | |
| SigDF | 0.333 | 0.043 | 0.774 | |
| addMask | 0.082 | 0.004 | 0.094 | |
| aggregateTestEnrichments | 2.272 | 0.147 | 2.782 | |
| betasCollapseToPfx | 0.017 | 0.001 | 0.019 | |
| bisConversionControl | 7.753 | 0.246 | 9.676 | |
| calcEffectSize | 2.081 | 0.138 | 2.872 | |
| checkLevels | 3.786 | 0.221 | 4.859 | |
| cnSegmentation | 0.358 | 0.060 | 0.843 | |
| compareMouseStrainReference | 13.388 | 0.612 | 16.519 | |
| compareMouseTissueReference | 0 | 0 | 0 | |
| compareReference | 12.195 | 0.490 | 14.850 | |
| controls | 2.585 | 0.214 | 3.910 | |
| createUCSCtrack | 8.764 | 0.472 | 11.258 | |
| dataFrame2sesameQC | 1.312 | 0.130 | 2.012 | |
| dbStats | 8.803 | 0.711 | 11.436 | |
| deidentify | 5.862 | 0.370 | 7.578 | |
| detectionPnegEcdf | 3.406 | 0.201 | 4.637 | |
| diffRefSet | 17.821 | 0.845 | 22.058 | |
| dmContrasts | 2.488 | 0.156 | 3.364 | |
| dyeBiasCorr | 3.418 | 0.288 | 4.917 | |
| dyeBiasCorrMostBalanced | 10.077 | 0.351 | 12.460 | |
| dyeBiasL | 3.200 | 0.245 | 4.233 | |
| dyeBiasNL | 5.210 | 0.641 | 6.953 | |
| estimateLeukocyte | 9.936 | 0.494 | 12.708 | |
| formatVCF | 2.695 | 0.252 | 4.080 | |
| getAFTypeIbySumAlleles | 2.352 | 0.312 | 3.794 | |
| getAFs | 1.483 | 0.234 | 2.318 | |
| getBetas | 0.936 | 0.166 | 1.839 | |
| getMask | 9.423 | 0.553 | 12.897 | |
| getRefSet | 17.293 | 0.609 | 19.997 | |
| imputeBetas | 24.099 | 2.093 | 28.650 | |
| imputeBetasByGenomicNeighbors | 45.271 | 1.723 | 53.389 | |
| imputeBetasMatrixByMean | 0.002 | 0.000 | 0.001 | |
| inferEthnicity | 0.001 | 0.001 | 0.001 | |
| inferInfiniumIChannel | 0.464 | 0.459 | 0.978 | |
| inferSex | 30.618 | 1.114 | 33.961 | |
| inferSpecies | 18.382 | 0.824 | 21.481 | |
| inferStrain | 10.880 | 0.726 | 12.827 | |
| inferTissue | 6.398 | 1.037 | 8.897 | |
| initFileSet | 1.505 | 0.333 | 2.281 | |
| listAvailableMasks | 1.880 | 0.194 | 2.574 | |
| mLiftOver | 0.000 | 0.002 | 0.001 | |
| mapFileSet | 0.048 | 0.006 | 0.060 | |
| mapToMammal40 | 4.772 | 0.451 | 6.162 | |
| matchDesign | 13.971 | 0.799 | 15.563 | |
| meanIntensity | 3.293 | 0.330 | 4.506 | |
| medianTotalIntensity | 0.929 | 0.122 | 1.491 | |
| noMasked | 4.653 | 0.340 | 5.924 | |
| noob | 2.494 | 0.415 | 2.985 | |
| openSesame | 7.440 | 0.848 | 9.331 | |
| openSesameToFile | 1.866 | 0.178 | 2.096 | |
| pOOBAH | 1.710 | 0.059 | 1.796 | |
| palgen | 0.062 | 0.011 | 0.098 | |
| parseGEOsignalMU | 4.327 | 0.238 | 5.052 | |
| predictAge | 3.599 | 0.131 | 4.259 | |
| predictAgeHorvath353 | 0 | 0 | 0 | |
| predictAgeSkinBlood | 0 | 0 | 0 | |
| predictMouseAgeInMonth | 0 | 0 | 0 | |
| prefixMask | 0.579 | 0.008 | 0.651 | |
| prefixMaskButC | 0.153 | 0.005 | 0.223 | |
| prefixMaskButCG | 0.055 | 0.003 | 0.069 | |
| prepSesame | 4.586 | 0.322 | 5.657 | |
| prepSesameList | 0.001 | 0.001 | 0.002 | |
| print.DMLSummary | 3.795 | 0.505 | 5.237 | |
| print.fileSet | 1.285 | 0.170 | 1.897 | |
| probeID_designType | 0.000 | 0.000 | 0.001 | |
| probeSuccessRate | 7.366 | 0.628 | 10.320 | |
| qualityMask | 3.436 | 0.331 | 4.647 | |
| reIdentify | 4.724 | 0.147 | 5.854 | |
| readFileSet | 0.083 | 0.010 | 0.104 | |
| readIDATpair | 0.151 | 0.015 | 0.197 | |
| recommendedMaskNames | 0 | 0 | 0 | |
| resetMask | 0.407 | 0.073 | 0.910 | |
| scrub | 2.778 | 0.502 | 3.637 | |
| scrubSoft | 3.999 | 0.660 | 4.876 | |
| sdfPlatform | 0.332 | 0.043 | 0.741 | |
| sdf_read_table | 11.367 | 0.721 | 13.058 | |
| sdf_write_table | 2.979 | 0.153 | 3.625 | |
| searchIDATprefixes | 0.004 | 0.004 | 0.015 | |
| sesame-package | 2.608 | 0.179 | 3.221 | |
| sesameAnno_attachManifest | 0 | 0 | 0 | |
| sesameAnno_buildAddressFile | 0 | 0 | 0 | |
| sesameAnno_buildManifestGRanges | 0 | 0 | 0 | |
| sesameAnno_download | 0.000 | 0.001 | 0.000 | |
| sesameAnno_readManifestTSV | 0 | 0 | 0 | |
| sesameQC_calcStats | 26.181 | 2.589 | 30.112 | |
| sesameQC_getStats | 2.554 | 0.057 | 2.780 | |
| sesameQC_plotBar | 19.405 | 0.489 | 21.818 | |
| sesameQC_plotBetaByDesign | 12.654 | 2.148 | 15.849 | |
| sesameQC_plotHeatSNPs | 22.659 | 1.342 | 25.616 | |
| sesameQC_plotIntensVsBetas | 2.123 | 0.204 | 2.819 | |
| sesameQC_plotRedGrnQQ | 1.420 | 0.102 | 2.041 | |
| sesameQC_rankStats | 3.809 | 0.362 | 5.104 | |
| sesame_checkVersion | 0.004 | 0.001 | 0.005 | |
| sesamize | 0.000 | 0.000 | 0.001 | |
| setMask | 0.084 | 0.007 | 0.093 | |
| signalMU | 0.586 | 0.067 | 1.115 | |
| sliceFileSet | 0.019 | 0.002 | 0.026 | |
| summaryExtractTest | 3.987 | 0.538 | 5.828 | |
| testEnrichment | 7.542 | 0.730 | 9.895 | |
| testEnrichmentGene | 166.284 | 6.213 | 184.789 | |
| testEnrichmentSEA | 13.909 | 0.855 | 16.118 | |
| totalIntensities | 4.435 | 0.269 | 5.553 | |
| updateSigDF | 3.754 | 0.301 | 4.854 | |
| visualizeGene | 14.240 | 0.575 | 16.237 | |
| visualizeProbes | 1.084 | 0.028 | 1.131 | |
| visualizeRegion | 4.668 | 0.107 | 4.950 | |
| visualizeSegments | 2.340 | 0.459 | 3.216 | |