| Back to Multiple platform build/check report for BioC 3.19: simplified long |
|
This page was generated on 2024-10-18 20:41 -0400 (Fri, 18 Oct 2024).
| Hostname | OS | Arch (*) | R version | Installed pkgs |
|---|---|---|---|---|
| nebbiolo1 | Linux (Ubuntu 22.04.3 LTS) | x86_64 | 4.4.1 (2024-06-14) -- "Race for Your Life" | 4763 |
| palomino7 | Windows Server 2022 Datacenter | x64 | 4.4.1 (2024-06-14 ucrt) -- "Race for Your Life" | 4500 |
| merida1 | macOS 12.7.5 Monterey | x86_64 | 4.4.1 (2024-06-14) -- "Race for Your Life" | 4530 |
| kjohnson1 | macOS 13.6.6 Ventura | arm64 | 4.4.1 (2024-06-14) -- "Race for Your Life" | 4480 |
| Click on any hostname to see more info about the system (e.g. compilers) (*) as reported by 'uname -p', except on Windows and Mac OS X | ||||
| Package 1952/2300 | Hostname | OS / Arch | INSTALL | BUILD | CHECK | BUILD BIN | ||||||||
| sesame 1.22.2 (landing page) Wanding Zhou
| nebbiolo1 | Linux (Ubuntu 22.04.3 LTS) / x86_64 | OK | OK | OK | |||||||||
| palomino7 | Windows Server 2022 Datacenter / x64 | OK | OK | OK | OK | |||||||||
| merida1 | macOS 12.7.5 Monterey / x86_64 | OK | OK | OK | OK | |||||||||
| kjohnson1 | macOS 13.6.6 Ventura / arm64 | OK | ERROR | skipped | skipped | |||||||||
|
To the developers/maintainers of the sesame package: - Allow up to 24 hours (and sometimes 48 hours) for your latest push to git@git.bioconductor.org:packages/sesame.git to reflect on this report. See Troubleshooting Build Report for more information. - Use the following Renviron settings to reproduce errors and warnings. - If 'R CMD check' started to fail recently on the Linux builder(s) over a missing dependency, add the missing dependency to 'Suggests:' in your DESCRIPTION file. See Renviron.bioc for more information. |
| Package: sesame |
| Version: 1.22.2 |
| Command: /Library/Frameworks/R.framework/Resources/bin/R CMD check --install=check:sesame.install-out.txt --library=/Library/Frameworks/R.framework/Resources/library --no-vignettes --timings sesame_1.22.2.tar.gz |
| StartedAt: 2024-10-17 13:05:09 -0400 (Thu, 17 Oct 2024) |
| EndedAt: 2024-10-17 13:38:30 -0400 (Thu, 17 Oct 2024) |
| EllapsedTime: 2001.3 seconds |
| RetCode: 0 |
| Status: OK |
| CheckDir: sesame.Rcheck |
| Warnings: 0 |
##############################################################################
##############################################################################
###
### Running command:
###
### /Library/Frameworks/R.framework/Resources/bin/R CMD check --install=check:sesame.install-out.txt --library=/Library/Frameworks/R.framework/Resources/library --no-vignettes --timings sesame_1.22.2.tar.gz
###
##############################################################################
##############################################################################
* using log directory ‘/Users/biocbuild/bbs-3.19-bioc/meat/sesame.Rcheck’
* using R version 4.4.1 (2024-06-14)
* using platform: x86_64-apple-darwin20
* R was compiled by
Apple clang version 14.0.0 (clang-1400.0.29.202)
GNU Fortran (GCC) 12.2.0
* running under: macOS Monterey 12.7.6
* using session charset: UTF-8
* using option ‘--no-vignettes’
* checking for file ‘sesame/DESCRIPTION’ ... OK
* checking extension type ... Package
* this is package ‘sesame’ version ‘1.22.2’
* package encoding: UTF-8
* checking package namespace information ... OK
* checking package dependencies ... OK
* checking if this is a source package ... OK
* checking if there is a namespace ... OK
* checking for hidden files and directories ... OK
* checking for portable file names ... OK
* checking for sufficient/correct file permissions ... OK
* checking whether package ‘sesame’ can be installed ... OK
* checking installed package size ... OK
* checking package directory ... OK
* checking ‘build’ directory ... OK
* checking DESCRIPTION meta-information ... OK
* checking top-level files ... OK
* checking for left-over files ... OK
* checking index information ... OK
* checking package subdirectories ... OK
* checking code files for non-ASCII characters ... OK
* checking R files for syntax errors ... OK
* checking whether the package can be loaded ... OK
* checking whether the package can be loaded with stated dependencies ... OK
* checking whether the package can be unloaded cleanly ... OK
* checking whether the namespace can be loaded with stated dependencies ... OK
* checking whether the namespace can be unloaded cleanly ... OK
* checking whether startup messages can be suppressed ... OK
* checking dependencies in R code ... OK
* checking S3 generic/method consistency ... OK
* checking replacement functions ... OK
* checking foreign function calls ... OK
* checking R code for possible problems ... OK
* checking Rd files ... OK
* checking Rd metadata ... OK
* checking Rd cross-references ... OK
* checking for missing documentation entries ... OK
* checking for code/documentation mismatches ... OK
* checking Rd \usage sections ... OK
* checking Rd contents ... OK
* checking for unstated dependencies in examples ... OK
* checking files in ‘vignettes’ ... OK
* checking examples ... OK
Examples with CPU (user + system) or elapsed time > 5s
user system elapsed
testEnrichmentGene 174.643 7.950 216.705
imputeBetasByGenomicNeighbors 62.375 1.723 72.220
inferSex 37.950 1.282 44.473
sesameQC_calcStats 35.614 2.320 43.745
KYCG_plotMeta 34.077 1.186 40.852
compareMouseStrainReference 31.561 0.999 52.034
KYCG_plotEnrichAll 30.603 1.519 38.892
imputeBetas 29.233 1.785 36.011
sesameQC_plotHeatSNPs 28.537 1.665 36.009
compareReference 28.823 0.821 35.857
KYCG_annoProbes 24.460 1.364 30.209
diffRefSet 24.193 0.916 29.644
ELBAR 22.275 2.689 29.139
matchDesign 21.742 1.021 25.589
inferSpecies 21.444 1.106 25.513
getRefSet 19.568 0.680 22.944
sesameQC_plotBar 18.920 0.506 23.095
KYCG_plotMetaEnrichment 18.679 0.738 22.371
DML 17.134 1.768 21.913
testEnrichmentSEA 16.992 1.144 22.081
sesameQC_plotBetaByDesign 16.130 1.547 21.137
sdf_read_table 16.090 1.467 20.046
DMR 16.508 0.469 20.102
KYCG_buildGeneDBs 16.247 0.722 20.071
visualizeGene 15.776 0.616 19.863
inferStrain 14.707 0.986 19.851
deidentify 14.585 0.503 17.869
inferTissue 11.593 1.743 15.208
reIdentify 12.324 0.334 14.467
estimateLeukocyte 11.785 0.676 17.592
getMask 11.291 0.726 14.459
openSesame 10.322 1.194 13.309
dbStats 10.356 0.802 13.386
KYCG_plotSetEnrichment 9.849 0.529 11.963
createUCSCtrack 9.864 0.467 12.145
testEnrichment 8.917 1.075 11.800
dyeBiasCorrMostBalanced 9.423 0.392 11.686
probeSuccessRate 8.799 0.801 11.314
updateSigDF 8.657 0.635 11.628
dyeBiasNL 8.165 0.510 10.256
sesameQC_rankStats 6.923 0.799 9.136
bisConversionControl 7.156 0.296 8.502
prepSesame 6.802 0.527 9.010
noMasked 5.869 0.339 7.290
scrubSoft 5.138 0.957 6.944
sdf_write_table 5.572 0.355 6.858
totalIntensities 5.145 0.399 7.137
summaryExtractTest 4.272 1.153 6.536
KYCG_plotWaterfall 5.124 0.250 6.215
print.DMLSummary 4.355 1.011 6.458
mapToMammal40 4.861 0.477 6.116
detectionPnegEcdf 5.056 0.209 6.307
KYCG_getDBs 4.871 0.374 6.633
parseGEOsignalMU 4.970 0.221 6.042
meanIntensity 4.557 0.490 5.839
dyeBiasCorr 4.639 0.317 5.973
checkLevels 4.383 0.326 8.549
KYCG_plotPointRange 4.156 0.234 5.226
qualityMask 3.812 0.545 5.087
* checking for unstated dependencies in ‘tests’ ... OK
* checking tests ...
Running ‘testthat.R’
OK
* checking for unstated dependencies in vignettes ... OK
* checking package vignettes ... OK
* checking running R code from vignettes ... SKIPPED
* checking re-building of vignette outputs ... SKIPPED
* checking PDF version of manual ... OK
* DONE
Status: OK
sesame.Rcheck/00install.out
############################################################################## ############################################################################## ### ### Running command: ### ### /Library/Frameworks/R.framework/Resources/bin/R CMD INSTALL sesame ### ############################################################################## ############################################################################## * installing to library ‘/Library/Frameworks/R.framework/Versions/4.4-x86_64/Resources/library’ * installing *source* package ‘sesame’ ... ** using staged installation ** R ** inst ** byte-compile and prepare package for lazy loading ** help *** installing help indices ** building package indices ** installing vignettes ** testing if installed package can be loaded from temporary location ** testing if installed package can be loaded from final location ** testing if installed package keeps a record of temporary installation path * DONE (sesame)
sesame.Rcheck/tests/testthat.Rout
R version 4.4.1 (2024-06-14) -- "Race for Your Life"
Copyright (C) 2024 The R Foundation for Statistical Computing
Platform: x86_64-apple-darwin20
R is free software and comes with ABSOLUTELY NO WARRANTY.
You are welcome to redistribute it under certain conditions.
Type 'license()' or 'licence()' for distribution details.
R is a collaborative project with many contributors.
Type 'contributors()' for more information and
'citation()' on how to cite R or R packages in publications.
Type 'demo()' for some demos, 'help()' for on-line help, or
'help.start()' for an HTML browser interface to help.
Type 'q()' to quit R.
> library(testthat)
> library(sesame)
Loading required package: sesameData
Loading required package: ExperimentHub
Loading required package: BiocGenerics
Attaching package: 'BiocGenerics'
The following objects are masked from 'package:stats':
IQR, mad, sd, var, xtabs
The following objects are masked from 'package:base':
Filter, Find, Map, Position, Reduce, anyDuplicated, aperm, append,
as.data.frame, basename, cbind, colnames, dirname, do.call,
duplicated, eval, evalq, get, grep, grepl, intersect, is.unsorted,
lapply, mapply, match, mget, order, paste, pmax, pmax.int, pmin,
pmin.int, rank, rbind, rownames, sapply, setdiff, table, tapply,
union, unique, unsplit, which.max, which.min
Loading required package: AnnotationHub
Loading required package: BiocFileCache
Loading required package: dbplyr
Loading sesameData.
----------------------------------------------------------
| SEnsible Step-wise Analysis of DNA MEthylation (SeSAMe)
| --------------------------------------------------------
| Please cache auxiliary data by "sesameDataCache()".
| This needs to be done only once per SeSAMe installation.
----------------------------------------------------------
>
> test_check("sesame")
[ FAIL 0 | WARN 0 | SKIP 0 | PASS 5 ]
>
> proc.time()
user system elapsed
36.189 3.520 46.119
sesame.Rcheck/sesame-Ex.timings
| name | user | system | elapsed | |
| BetaValueToMValue | 0.000 | 0.001 | 0.001 | |
| DML | 17.134 | 1.768 | 21.913 | |
| DMLpredict | 2.493 | 0.179 | 3.194 | |
| DMR | 16.508 | 0.469 | 20.102 | |
| ELBAR | 22.275 | 2.689 | 29.139 | |
| KYCG_annoProbes | 24.460 | 1.364 | 30.209 | |
| KYCG_buildGeneDBs | 16.247 | 0.722 | 20.071 | |
| KYCG_getDBs | 4.871 | 0.374 | 6.633 | |
| KYCG_listDBGroups | 0.058 | 0.003 | 0.074 | |
| KYCG_loadDBs | 0.000 | 0.001 | 0.001 | |
| KYCG_plotBar | 0.407 | 0.029 | 0.521 | |
| KYCG_plotDot | 1.302 | 0.072 | 1.683 | |
| KYCG_plotEnrichAll | 30.603 | 1.519 | 38.892 | |
| KYCG_plotLollipop | 0.397 | 0.012 | 0.481 | |
| KYCG_plotManhattan | 1.548 | 0.294 | 2.258 | |
| KYCG_plotMeta | 34.077 | 1.186 | 40.852 | |
| KYCG_plotMetaEnrichment | 18.679 | 0.738 | 22.371 | |
| KYCG_plotPointRange | 4.156 | 0.234 | 5.226 | |
| KYCG_plotSetEnrichment | 9.849 | 0.529 | 11.963 | |
| KYCG_plotVolcano | 0.322 | 0.003 | 0.345 | |
| KYCG_plotWaterfall | 5.124 | 0.250 | 6.215 | |
| MValueToBetaValue | 0.001 | 0.001 | 0.001 | |
| SigDF | 0.565 | 0.073 | 0.800 | |
| addMask | 0.143 | 0.000 | 0.160 | |
| aggregateTestEnrichments | 3.432 | 0.164 | 3.972 | |
| betasCollapseToPfx | 0.029 | 0.001 | 0.035 | |
| bisConversionControl | 7.156 | 0.296 | 8.502 | |
| calcEffectSize | 2.579 | 0.173 | 3.363 | |
| checkLevels | 4.383 | 0.326 | 8.549 | |
| cnSegmentation | 0.559 | 0.098 | 0.767 | |
| compareMouseStrainReference | 31.561 | 0.999 | 52.034 | |
| compareMouseTissueReference | 0.000 | 0.000 | 0.001 | |
| compareReference | 28.823 | 0.821 | 35.857 | |
| controls | 3.642 | 0.310 | 4.921 | |
| createUCSCtrack | 9.864 | 0.467 | 12.145 | |
| dataFrame2sesameQC | 2.097 | 0.195 | 2.759 | |
| dbStats | 10.356 | 0.802 | 13.386 | |
| deidentify | 14.585 | 0.503 | 17.869 | |
| detectionPnegEcdf | 5.056 | 0.209 | 6.307 | |
| diffRefSet | 24.193 | 0.916 | 29.644 | |
| dmContrasts | 3.070 | 0.251 | 3.993 | |
| dyeBiasCorr | 4.639 | 0.317 | 5.973 | |
| dyeBiasCorrMostBalanced | 9.423 | 0.392 | 11.686 | |
| dyeBiasL | 3.813 | 0.202 | 4.795 | |
| dyeBiasNL | 8.165 | 0.510 | 10.256 | |
| estimateLeukocyte | 11.785 | 0.676 | 17.592 | |
| formatVCF | 3.668 | 0.335 | 4.894 | |
| getAFTypeIbySumAlleles | 2.984 | 0.298 | 3.953 | |
| getAFs | 1.741 | 0.140 | 2.296 | |
| getBetas | 1.384 | 0.136 | 1.862 | |
| getMask | 11.291 | 0.726 | 14.459 | |
| getRefSet | 19.568 | 0.680 | 22.944 | |
| imputeBetas | 29.233 | 1.785 | 36.011 | |
| imputeBetasByGenomicNeighbors | 62.375 | 1.723 | 72.220 | |
| imputeBetasMatrixByMean | 0.002 | 0.001 | 0.004 | |
| inferEthnicity | 0.001 | 0.000 | 0.002 | |
| inferInfiniumIChannel | 0.893 | 1.550 | 2.770 | |
| inferSex | 37.950 | 1.282 | 44.473 | |
| inferSpecies | 21.444 | 1.106 | 25.513 | |
| inferStrain | 14.707 | 0.986 | 19.851 | |
| inferTissue | 11.593 | 1.743 | 15.208 | |
| initFileSet | 2.282 | 0.330 | 3.003 | |
| listAvailableMasks | 2.309 | 0.238 | 2.812 | |
| mLiftOver | 0.001 | 0.005 | 0.006 | |
| mapFileSet | 0.061 | 0.005 | 0.071 | |
| mapToMammal40 | 4.861 | 0.477 | 6.116 | |
| matchDesign | 21.742 | 1.021 | 25.589 | |
| meanIntensity | 4.557 | 0.490 | 5.839 | |
| medianTotalIntensity | 1.368 | 0.120 | 1.666 | |
| noMasked | 5.869 | 0.339 | 7.290 | |
| noob | 3.328 | 0.316 | 4.143 | |
| openSesame | 10.322 | 1.194 | 13.309 | |
| openSesameToFile | 3.105 | 0.361 | 3.897 | |
| pOOBAH | 2.230 | 0.015 | 2.445 | |
| palgen | 0.069 | 0.014 | 0.128 | |
| parseGEOsignalMU | 4.970 | 0.221 | 6.042 | |
| predictAge | 3.930 | 0.187 | 4.712 | |
| predictAgeHorvath353 | 0.000 | 0.001 | 0.000 | |
| predictAgeSkinBlood | 0.001 | 0.001 | 0.001 | |
| predictMouseAgeInMonth | 0.000 | 0.000 | 0.001 | |
| prefixMask | 1.200 | 0.008 | 1.380 | |
| prefixMaskButC | 0.349 | 0.004 | 0.417 | |
| prefixMaskButCG | 0.141 | 0.004 | 0.175 | |
| prepSesame | 6.802 | 0.527 | 9.010 | |
| prepSesameList | 0.003 | 0.002 | 0.007 | |
| print.DMLSummary | 4.355 | 1.011 | 6.458 | |
| print.fileSet | 2.204 | 0.329 | 3.006 | |
| probeID_designType | 0.000 | 0.000 | 0.001 | |
| probeSuccessRate | 8.799 | 0.801 | 11.314 | |
| qualityMask | 3.812 | 0.545 | 5.087 | |
| reIdentify | 12.324 | 0.334 | 14.467 | |
| readFileSet | 0.091 | 0.012 | 0.110 | |
| readIDATpair | 0.239 | 0.004 | 0.252 | |
| recommendedMaskNames | 0.000 | 0.000 | 0.001 | |
| resetMask | 0.728 | 0.117 | 1.161 | |
| scrub | 3.575 | 0.061 | 3.952 | |
| scrubSoft | 5.138 | 0.957 | 6.944 | |
| sdfPlatform | 0.582 | 0.086 | 0.825 | |
| sdf_read_table | 16.090 | 1.467 | 20.046 | |
| sdf_write_table | 5.572 | 0.355 | 6.858 | |
| searchIDATprefixes | 0.008 | 0.005 | 0.017 | |
| sesame-package | 3.575 | 0.204 | 4.356 | |
| sesameAnno_attachManifest | 0.000 | 0.000 | 0.001 | |
| sesameAnno_buildAddressFile | 0.000 | 0.001 | 0.001 | |
| sesameAnno_buildManifestGRanges | 0.001 | 0.000 | 0.001 | |
| sesameAnno_download | 0.000 | 0.001 | 0.002 | |
| sesameAnno_readManifestTSV | 0.000 | 0.001 | 0.002 | |
| sesameQC_calcStats | 35.614 | 2.320 | 43.745 | |
| sesameQC_getStats | 3.431 | 0.024 | 3.989 | |
| sesameQC_plotBar | 18.920 | 0.506 | 23.095 | |
| sesameQC_plotBetaByDesign | 16.130 | 1.547 | 21.137 | |
| sesameQC_plotHeatSNPs | 28.537 | 1.665 | 36.009 | |
| sesameQC_plotIntensVsBetas | 2.883 | 0.258 | 3.581 | |
| sesameQC_plotRedGrnQQ | 2.358 | 0.349 | 3.094 | |
| sesameQC_rankStats | 6.923 | 0.799 | 9.136 | |
| sesame_checkVersion | 0.006 | 0.001 | 0.007 | |
| sesamize | 0.000 | 0.001 | 0.001 | |
| setMask | 0.158 | 0.002 | 0.168 | |
| signalMU | 1.303 | 0.101 | 1.675 | |
| sliceFileSet | 0.060 | 0.006 | 0.081 | |
| summaryExtractTest | 4.272 | 1.153 | 6.536 | |
| testEnrichment | 8.917 | 1.075 | 11.800 | |
| testEnrichmentGene | 174.643 | 7.950 | 216.705 | |
| testEnrichmentSEA | 16.992 | 1.144 | 22.081 | |
| totalIntensities | 5.145 | 0.399 | 7.137 | |
| updateSigDF | 8.657 | 0.635 | 11.628 | |
| visualizeGene | 15.776 | 0.616 | 19.863 | |
| visualizeProbes | 3.412 | 0.054 | 4.044 | |
| visualizeRegion | 0.773 | 0.006 | 0.887 | |
| visualizeSegments | 2.383 | 0.829 | 3.894 | |