| Back to Multiple platform build/check report for BioC 3.19: simplified long |
|
This page was generated on 2024-10-18 20:40 -0400 (Fri, 18 Oct 2024).
| Hostname | OS | Arch (*) | R version | Installed pkgs |
|---|---|---|---|---|
| nebbiolo1 | Linux (Ubuntu 22.04.3 LTS) | x86_64 | 4.4.1 (2024-06-14) -- "Race for Your Life" | 4763 |
| palomino7 | Windows Server 2022 Datacenter | x64 | 4.4.1 (2024-06-14 ucrt) -- "Race for Your Life" | 4500 |
| merida1 | macOS 12.7.5 Monterey | x86_64 | 4.4.1 (2024-06-14) -- "Race for Your Life" | 4530 |
| kjohnson1 | macOS 13.6.6 Ventura | arm64 | 4.4.1 (2024-06-14) -- "Race for Your Life" | 4480 |
| Click on any hostname to see more info about the system (e.g. compilers) (*) as reported by 'uname -p', except on Windows and Mac OS X | ||||
| Package 1948/2300 | Hostname | OS / Arch | INSTALL | BUILD | CHECK | BUILD BIN | ||||||||
| seqsetvis 1.24.0 (landing page) Joseph R Boyd
| nebbiolo1 | Linux (Ubuntu 22.04.3 LTS) / x86_64 | OK | OK | OK | |||||||||
| palomino7 | Windows Server 2022 Datacenter / x64 | OK | OK | OK | OK | |||||||||
| merida1 | macOS 12.7.5 Monterey / x86_64 | OK | OK | OK | OK | |||||||||
| kjohnson1 | macOS 13.6.6 Ventura / arm64 | OK | OK | OK | NA | |||||||||
|
To the developers/maintainers of the seqsetvis package: - Allow up to 24 hours (and sometimes 48 hours) for your latest push to git@git.bioconductor.org:packages/seqsetvis.git to reflect on this report. See Troubleshooting Build Report for more information. - Use the following Renviron settings to reproduce errors and warnings. - If 'R CMD check' started to fail recently on the Linux builder(s) over a missing dependency, add the missing dependency to 'Suggests:' in your DESCRIPTION file. See Renviron.bioc for more information. |
| Package: seqsetvis |
| Version: 1.24.0 |
| Command: E:\biocbuild\bbs-3.19-bioc\R\bin\R.exe CMD check --no-multiarch --install=check:seqsetvis.install-out.txt --library=E:\biocbuild\bbs-3.19-bioc\R\library --no-vignettes --timings seqsetvis_1.24.0.tar.gz |
| StartedAt: 2024-10-17 05:42:28 -0400 (Thu, 17 Oct 2024) |
| EndedAt: 2024-10-17 05:52:58 -0400 (Thu, 17 Oct 2024) |
| EllapsedTime: 629.6 seconds |
| RetCode: 0 |
| Status: OK |
| CheckDir: seqsetvis.Rcheck |
| Warnings: 0 |
##############################################################################
##############################################################################
###
### Running command:
###
### E:\biocbuild\bbs-3.19-bioc\R\bin\R.exe CMD check --no-multiarch --install=check:seqsetvis.install-out.txt --library=E:\biocbuild\bbs-3.19-bioc\R\library --no-vignettes --timings seqsetvis_1.24.0.tar.gz
###
##############################################################################
##############################################################################
* using log directory 'E:/biocbuild/bbs-3.19-bioc/meat/seqsetvis.Rcheck'
* using R version 4.4.1 (2024-06-14 ucrt)
* using platform: x86_64-w64-mingw32
* R was compiled by
gcc.exe (GCC) 13.2.0
GNU Fortran (GCC) 13.2.0
* running under: Windows Server 2022 x64 (build 20348)
* using session charset: UTF-8
* using option '--no-vignettes'
* checking for file 'seqsetvis/DESCRIPTION' ... OK
* checking extension type ... Package
* this is package 'seqsetvis' version '1.24.0'
* package encoding: UTF-8
* checking package namespace information ... OK
* checking package dependencies ... OK
* checking if this is a source package ... OK
* checking if there is a namespace ... OK
* checking for hidden files and directories ... OK
* checking for portable file names ... OK
* checking whether package 'seqsetvis' can be installed ... OK
* checking installed package size ... OK
* checking package directory ... OK
* checking 'build' directory ... OK
* checking DESCRIPTION meta-information ... OK
* checking top-level files ... OK
* checking for left-over files ... OK
* checking index information ... OK
* checking package subdirectories ... OK
* checking code files for non-ASCII characters ... OK
* checking R files for syntax errors ... OK
* checking whether the package can be loaded ... OK
* checking whether the package can be loaded with stated dependencies ... OK
* checking whether the package can be unloaded cleanly ... OK
* checking whether the namespace can be loaded with stated dependencies ... OK
* checking whether the namespace can be unloaded cleanly ... OK
* checking dependencies in R code ... OK
* checking S3 generic/method consistency ... OK
* checking replacement functions ... OK
* checking foreign function calls ... OK
* checking R code for possible problems ... OK
* checking Rd files ... OK
* checking Rd metadata ... OK
* checking Rd cross-references ... OK
* checking for missing documentation entries ... OK
* checking for code/documentation mismatches ... OK
* checking Rd \usage sections ... OK
* checking Rd contents ... OK
* checking for unstated dependencies in examples ... OK
* checking contents of 'data' directory ... OK
* checking data for non-ASCII characters ... OK
* checking LazyData ... OK
* checking data for ASCII and uncompressed saves ... OK
* checking files in 'vignettes' ... OK
* checking examples ... OK
Examples with CPU (user + system) or elapsed time > 5s
user system elapsed
ssvFeatureBinaryHeatmap 8.16 0.38 8.58
add_cluster_annotation 4.02 0.09 7.24
* checking for unstated dependencies in 'tests' ... OK
* checking tests ...
Running 'testthat.R'
OK
* checking for unstated dependencies in vignettes ... OK
* checking package vignettes ... OK
* checking running R code from vignettes ... SKIPPED
* checking re-building of vignette outputs ... SKIPPED
* checking PDF version of manual ... OK
* DONE
Status: OK
seqsetvis.Rcheck/00install.out
############################################################################## ############################################################################## ### ### Running command: ### ### E:\biocbuild\bbs-3.19-bioc\R\bin\R.exe CMD INSTALL seqsetvis ### ############################################################################## ############################################################################## * installing to library 'E:/biocbuild/bbs-3.19-bioc/R/library' * installing *source* package 'seqsetvis' ... ** using staged installation ** R ** data *** moving datasets to lazyload DB ** inst ** byte-compile and prepare package for lazy loading ** help *** installing help indices ** building package indices ** installing vignettes ** testing if installed package can be loaded from temporary location ** testing if installed package can be loaded from final location ** testing if installed package keeps a record of temporary installation path * DONE (seqsetvis)
seqsetvis.Rcheck/tests/testthat.Rout
R version 4.4.1 (2024-06-14 ucrt) -- "Race for Your Life" Copyright (C) 2024 The R Foundation for Statistical Computing Platform: x86_64-w64-mingw32/x64 R is free software and comes with ABSOLUTELY NO WARRANTY. You are welcome to redistribute it under certain conditions. Type 'license()' or 'licence()' for distribution details. R is a collaborative project with many contributors. Type 'contributors()' for more information and 'citation()' on how to cite R or R packages in publications. Type 'demo()' for some demos, 'help()' for on-line help, or 'help.start()' for an HTML browser interface to help. Type 'q()' to quit R. > > ## load dependencies > library(testthat) > library(seqsetvis) Loading required package: ggplot2 > library(data.table) > > ## test package > test_check(package = "seqsetvis") [ FAIL 0 | WARN 0 | SKIP 37 | PASS 800 ] ══ Skipped tests (37) ══════════════════════════════════════════════════════════ • On Windows (37): 'test_anchor.R:203:5', 'test_anchor.R:258:5', 'test_fetchBam.R:98:5', 'test_fetchBam.R:142:5', 'test_fetchBam.R:170:5', 'test_fetchBam.R:201:5', 'test_fetchBw.R:17:5', 'test_fetchBw.R:32:5', 'test_fetchBw.R:46:5', 'test_fetchBw.R:63:5', 'test_fetchBw.R:73:5', 'test_fetchBw.R:86:5', 'test_fetchBw.R:97:5', 'test_fetchBw.R:108:5', 'test_fetchBw.R:120:5', 'test_fetchBw.R:143:5', 'test_fetchBw.R:153:5', 'test_fetchBw.R:165:5', 'test_fetchBw.R:175:5', 'test_fetchBw.R:190:5', 'test_fetchBw.R:205:5', 'test_fetchBw.R:220:5', 'test_fetchBw_dt.R:15:5', 'test_fetchBw_dt.R:31:5', 'test_fetchBw_dt.R:46:5', 'test_fetchBw_dt.R:64:5', 'test_fetchBw_dt.R:74:5', 'test_fetchBw_dt.R:87:5', 'test_fetchBw_dt.R:98:5', 'test_fetchBw_dt.R:109:5', 'test_fetchBw_dt.R:121:5', 'test_fetchBw_dt.R:133:5', 'test_fetch_parallel.R:16:5', 'test_fetch_parallel.R:44:5', 'test_force_skip.R:33:5', 'test_viewGrangesWin_sample_vs_summary.R:115:5', 'test_viewGrangesWin_sample_vs_summary.R:136:5' [ FAIL 0 | WARN 0 | SKIP 37 | PASS 800 ] > > proc.time() user system elapsed 242.15 4.51 247.04
seqsetvis.Rcheck/seqsetvis-Ex.timings
| name | user | system | elapsed | |
| add_cluster_annotation | 4.02 | 0.09 | 7.24 | |
| append_ynorm | 0.03 | 0.02 | 0.04 | |
| applyMovingAverage | 0.70 | 0.11 | 0.81 | |
| applySpline | 0.35 | 0.00 | 0.36 | |
| assemble_heatmap_cluster_bars | 1.02 | 0.03 | 1.04 | |
| calc_norm_factors | 0.02 | 0.00 | 0.02 | |
| centerAtMax | 0.28 | 0.00 | 0.28 | |
| centerFixedSizeGRanges | 0.15 | 0.02 | 0.17 | |
| centerGRangesAtMax | 0.36 | 0.00 | 0.36 | |
| clusteringKmeans | 0.05 | 0.00 | 0.03 | |
| clusteringKmeansNestedHclust | 0.03 | 0.00 | 0.03 | |
| col2hex | 0 | 0 | 0 | |
| collapse_gr | 0.73 | 0.01 | 0.75 | |
| convert_collapsed_coord | 0.22 | 0.03 | 0.25 | |
| copy_clust_info | 1.72 | 0.02 | 1.73 | |
| crossCorrByRle | 0.34 | 0.02 | 0.36 | |
| easyLoad_FUN | 0.05 | 0.00 | 0.05 | |
| easyLoad_IDRmerged | 0.03 | 0.01 | 0.05 | |
| easyLoad_bed | 0.17 | 0.00 | 0.17 | |
| easyLoad_broadPeak | 0.05 | 0.02 | 0.06 | |
| easyLoad_narrowPeak | 0.03 | 0.00 | 0.03 | |
| easyLoad_seacr | 0.05 | 0.00 | 0.05 | |
| expandCigar | 0.14 | 0.01 | 0.16 | |
| findMaxPos | 0.01 | 0.00 | 0.01 | |
| fragLen_calcStranded | 1.71 | 0.03 | 1.74 | |
| fragLen_fromMacs2Xls | 0 | 0 | 0 | |
| getReadLength | 0.04 | 0.00 | 0.04 | |
| get_mapped_reads | 0.02 | 0.00 | 0.02 | |
| ggellipse | 0.47 | 0.02 | 0.48 | |
| harmonize_seqlengths | 0.08 | 0.05 | 0.13 | |
| make_clustering_matrix | 0.06 | 0.00 | 0.06 | |
| merge_clusters | 3.69 | 0.07 | 3.77 | |
| prepare_fetch_GRanges | 0.01 | 0.00 | 0.01 | |
| prepare_fetch_GRanges_names | 0.06 | 0.02 | 0.08 | |
| prepare_fetch_GRanges_width | 0.04 | 0.00 | 0.03 | |
| quantileGRangesWidth | 0 | 0 | 0 | |
| reorder_clusters_hclust | 1.98 | 0.03 | 2.02 | |
| reorder_clusters_manual | 1.25 | 0.02 | 1.26 | |
| reorder_clusters_stepdown | 1.84 | 0.00 | 1.85 | |
| reverse_clusters | 2.30 | 0.01 | 2.31 | |
| safeBrew | 0.03 | 0.00 | 0.03 | |
| split_cluster | 2.33 | 0.02 | 2.34 | |
| ssvConsensusIntervalSets | 0.33 | 0.04 | 0.38 | |
| ssvFactorizeMembTable | 0.01 | 0.00 | 0.01 | |
| ssvFeatureBars | 0.72 | 0.00 | 0.72 | |
| ssvFeatureBinaryHeatmap | 8.16 | 0.38 | 8.58 | |
| ssvFeatureEuler | 0.64 | 0.00 | 0.64 | |
| ssvFeaturePie | 0.67 | 0.02 | 0.69 | |
| ssvFeatureUpset | 2.70 | 0.03 | 2.73 | |
| ssvFeatureVenn | 1.25 | 0.01 | 1.27 | |
| ssvFetchBam | 0 | 0 | 0 | |
| ssvFetchBamPE | 0 | 0 | 0 | |
| ssvFetchBigwig | 0 | 0 | 0 | |
| ssvFetchGRanges | 1.13 | 0.00 | 1.12 | |
| ssvFetchSignal | 1.89 | 0.05 | 1.94 | |
| ssvMakeMembTable-methods | 0.50 | 0.08 | 0.58 | |
| ssvOverlapIntervalSets | 0.28 | 0.03 | 0.31 | |
| ssvSignalBandedQuantiles | 3.81 | 0.08 | 3.91 | |
| ssvSignalClustering | 2.22 | 0.07 | 2.30 | |
| ssvSignalHeatmap.ClusterBars | 3.52 | 0.05 | 3.59 | |
| ssvSignalHeatmap | 3.94 | 0.10 | 4.03 | |
| ssvSignalLineplot | 2.99 | 0.04 | 3.04 | |
| ssvSignalLineplotAgg | 0.92 | 0.00 | 0.93 | |
| ssvSignalScatterplot | 0.79 | 0.02 | 0.82 | |
| viewGRangesWinSample_dt | 1.13 | 0.03 | 1.16 | |
| viewGRangesWinSummary_dt | 1.30 | 0.03 | 1.33 | |
| within_clust_sort | 1.93 | 0.00 | 1.95 | |