| Back to Multiple platform build/check report for BioC 3.19: simplified long |
|
This page was generated on 2024-10-18 20:38 -0400 (Fri, 18 Oct 2024).
| Hostname | OS | Arch (*) | R version | Installed pkgs |
|---|---|---|---|---|
| nebbiolo1 | Linux (Ubuntu 22.04.3 LTS) | x86_64 | 4.4.1 (2024-06-14) -- "Race for Your Life" | 4763 |
| palomino7 | Windows Server 2022 Datacenter | x64 | 4.4.1 (2024-06-14 ucrt) -- "Race for Your Life" | 4500 |
| merida1 | macOS 12.7.5 Monterey | x86_64 | 4.4.1 (2024-06-14) -- "Race for Your Life" | 4530 |
| kjohnson1 | macOS 13.6.6 Ventura | arm64 | 4.4.1 (2024-06-14) -- "Race for Your Life" | 4480 |
| Click on any hostname to see more info about the system (e.g. compilers) (*) as reported by 'uname -p', except on Windows and Mac OS X | ||||
| Package 1948/2300 | Hostname | OS / Arch | INSTALL | BUILD | CHECK | BUILD BIN | ||||||||
| seqsetvis 1.24.0 (landing page) Joseph R Boyd
| nebbiolo1 | Linux (Ubuntu 22.04.3 LTS) / x86_64 | OK | OK | OK | |||||||||
| palomino7 | Windows Server 2022 Datacenter / x64 | OK | OK | OK | OK | |||||||||
| merida1 | macOS 12.7.5 Monterey / x86_64 | OK | OK | OK | OK | |||||||||
| kjohnson1 | macOS 13.6.6 Ventura / arm64 | OK | OK | OK | NA | |||||||||
|
To the developers/maintainers of the seqsetvis package: - Allow up to 24 hours (and sometimes 48 hours) for your latest push to git@git.bioconductor.org:packages/seqsetvis.git to reflect on this report. See Troubleshooting Build Report for more information. - Use the following Renviron settings to reproduce errors and warnings. - If 'R CMD check' started to fail recently on the Linux builder(s) over a missing dependency, add the missing dependency to 'Suggests:' in your DESCRIPTION file. See Renviron.bioc for more information. |
| Package: seqsetvis |
| Version: 1.24.0 |
| Command: /home/biocbuild/bbs-3.19-bioc/R/bin/R CMD check --install=check:seqsetvis.install-out.txt --library=/home/biocbuild/bbs-3.19-bioc/R/site-library --timings seqsetvis_1.24.0.tar.gz |
| StartedAt: 2024-10-17 05:03:56 -0400 (Thu, 17 Oct 2024) |
| EndedAt: 2024-10-17 05:13:39 -0400 (Thu, 17 Oct 2024) |
| EllapsedTime: 583.3 seconds |
| RetCode: 0 |
| Status: OK |
| CheckDir: seqsetvis.Rcheck |
| Warnings: 0 |
##############################################################################
##############################################################################
###
### Running command:
###
### /home/biocbuild/bbs-3.19-bioc/R/bin/R CMD check --install=check:seqsetvis.install-out.txt --library=/home/biocbuild/bbs-3.19-bioc/R/site-library --timings seqsetvis_1.24.0.tar.gz
###
##############################################################################
##############################################################################
* using log directory ‘/home/biocbuild/bbs-3.19-bioc/meat/seqsetvis.Rcheck’
* using R version 4.4.1 (2024-06-14)
* using platform: x86_64-pc-linux-gnu
* R was compiled by
gcc (Ubuntu 11.4.0-1ubuntu1~22.04) 11.4.0
GNU Fortran (Ubuntu 11.4.0-1ubuntu1~22.04) 11.4.0
* running under: Ubuntu 22.04.5 LTS
* using session charset: UTF-8
* checking for file ‘seqsetvis/DESCRIPTION’ ... OK
* checking extension type ... Package
* this is package ‘seqsetvis’ version ‘1.24.0’
* package encoding: UTF-8
* checking package namespace information ... OK
* checking package dependencies ... OK
* checking if this is a source package ... OK
* checking if there is a namespace ... OK
* checking for hidden files and directories ... OK
* checking for portable file names ... OK
* checking for sufficient/correct file permissions ... OK
* checking whether package ‘seqsetvis’ can be installed ... OK
* checking installed package size ... OK
* checking package directory ... OK
* checking ‘build’ directory ... OK
* checking DESCRIPTION meta-information ... OK
* checking top-level files ... OK
* checking for left-over files ... OK
* checking index information ... OK
* checking package subdirectories ... OK
* checking code files for non-ASCII characters ... OK
* checking R files for syntax errors ... OK
* checking whether the package can be loaded ... OK
* checking whether the package can be loaded with stated dependencies ... OK
* checking whether the package can be unloaded cleanly ... OK
* checking whether the namespace can be loaded with stated dependencies ... OK
* checking whether the namespace can be unloaded cleanly ... OK
* checking loading without being on the library search path ... OK
* checking dependencies in R code ... OK
* checking S3 generic/method consistency ... OK
* checking replacement functions ... OK
* checking foreign function calls ... OK
* checking R code for possible problems ... OK
* checking Rd files ... OK
* checking Rd metadata ... OK
* checking Rd cross-references ... OK
* checking for missing documentation entries ... OK
* checking for code/documentation mismatches ... OK
* checking Rd \usage sections ... OK
* checking Rd contents ... OK
* checking for unstated dependencies in examples ... OK
* checking contents of ‘data’ directory ... OK
* checking data for non-ASCII characters ... OK
* checking LazyData ... OK
* checking data for ASCII and uncompressed saves ... OK
* checking files in ‘vignettes’ ... OK
* checking examples ... OK
Examples with CPU (user + system) or elapsed time > 5s
user system elapsed
ssvFeatureBinaryHeatmap 6.231 0.271 6.503
ssvFetchBam 5.436 0.012 5.414
* checking for unstated dependencies in ‘tests’ ... OK
* checking tests ...
Running ‘testthat.R’
OK
* checking for unstated dependencies in vignettes ... OK
* checking package vignettes ... OK
* checking re-building of vignette outputs ... OK
* checking PDF version of manual ... OK
* DONE
Status: OK
seqsetvis.Rcheck/00install.out
############################################################################## ############################################################################## ### ### Running command: ### ### /home/biocbuild/bbs-3.19-bioc/R/bin/R CMD INSTALL seqsetvis ### ############################################################################## ############################################################################## * installing to library ‘/home/biocbuild/bbs-3.19-bioc/R/site-library’ * installing *source* package ‘seqsetvis’ ... ** using staged installation ** R ** data *** moving datasets to lazyload DB ** inst ** byte-compile and prepare package for lazy loading ** help *** installing help indices ** building package indices ** installing vignettes ** testing if installed package can be loaded from temporary location ** testing if installed package can be loaded from final location ** testing if installed package keeps a record of temporary installation path * DONE (seqsetvis)
seqsetvis.Rcheck/tests/testthat.Rout
R version 4.4.1 (2024-06-14) -- "Race for Your Life" Copyright (C) 2024 The R Foundation for Statistical Computing Platform: x86_64-pc-linux-gnu R is free software and comes with ABSOLUTELY NO WARRANTY. You are welcome to redistribute it under certain conditions. Type 'license()' or 'licence()' for distribution details. R is a collaborative project with many contributors. Type 'contributors()' for more information and 'citation()' on how to cite R or R packages in publications. Type 'demo()' for some demos, 'help()' for on-line help, or 'help.start()' for an HTML browser interface to help. Type 'q()' to quit R. > > ## load dependencies > library(testthat) > library(seqsetvis) Loading required package: ggplot2 > library(data.table) > > ## test package > test_check(package = "seqsetvis") [ FAIL 0 | WARN 0 | SKIP 0 | PASS 1266 ] > > proc.time() user system elapsed 242.460 2.404 240.207
seqsetvis.Rcheck/seqsetvis-Ex.timings
| name | user | system | elapsed | |
| add_cluster_annotation | 2.624 | 0.203 | 2.792 | |
| append_ynorm | 0.064 | 0.005 | 0.039 | |
| applyMovingAverage | 0.605 | 0.052 | 0.646 | |
| applySpline | 0.297 | 0.008 | 0.271 | |
| assemble_heatmap_cluster_bars | 0.670 | 0.028 | 0.646 | |
| calc_norm_factors | 0.019 | 0.000 | 0.012 | |
| centerAtMax | 0.314 | 0.004 | 0.243 | |
| centerFixedSizeGRanges | 0.097 | 0.012 | 0.109 | |
| centerGRangesAtMax | 0.329 | 0.000 | 0.291 | |
| clusteringKmeans | 0.023 | 0.000 | 0.014 | |
| clusteringKmeansNestedHclust | 0.027 | 0.000 | 0.018 | |
| col2hex | 0.002 | 0.000 | 0.001 | |
| collapse_gr | 0.620 | 0.004 | 0.624 | |
| convert_collapsed_coord | 0.169 | 0.008 | 0.176 | |
| copy_clust_info | 1.495 | 0.005 | 1.384 | |
| crossCorrByRle | 0.337 | 0.007 | 0.345 | |
| easyLoad_FUN | 0.068 | 0.000 | 0.068 | |
| easyLoad_IDRmerged | 0.034 | 0.003 | 0.039 | |
| easyLoad_bed | 0.129 | 0.000 | 0.129 | |
| easyLoad_broadPeak | 0.033 | 0.000 | 0.033 | |
| easyLoad_narrowPeak | 0.034 | 0.000 | 0.034 | |
| easyLoad_seacr | 0.045 | 0.007 | 0.052 | |
| expandCigar | 0.218 | 0.024 | 0.221 | |
| findMaxPos | 0.024 | 0.000 | 0.017 | |
| fragLen_calcStranded | 1.566 | 0.020 | 1.572 | |
| fragLen_fromMacs2Xls | 0.000 | 0.002 | 0.003 | |
| getReadLength | 0.048 | 0.005 | 0.052 | |
| get_mapped_reads | 0.008 | 0.000 | 0.008 | |
| ggellipse | 0.493 | 0.012 | 0.505 | |
| harmonize_seqlengths | 0.079 | 0.004 | 0.083 | |
| make_clustering_matrix | 0.067 | 0.000 | 0.056 | |
| merge_clusters | 2.975 | 0.044 | 2.934 | |
| prepare_fetch_GRanges | 0.023 | 0.004 | 0.027 | |
| prepare_fetch_GRanges_names | 0.075 | 0.000 | 0.075 | |
| prepare_fetch_GRanges_width | 0.027 | 0.000 | 0.026 | |
| quantileGRangesWidth | 0.002 | 0.000 | 0.001 | |
| reorder_clusters_hclust | 1.671 | 0.072 | 1.701 | |
| reorder_clusters_manual | 0.907 | 0.000 | 0.870 | |
| reorder_clusters_stepdown | 1.707 | 0.068 | 1.734 | |
| reverse_clusters | 2.879 | 0.088 | 2.842 | |
| safeBrew | 0.022 | 0.000 | 0.022 | |
| split_cluster | 1.628 | 0.008 | 1.526 | |
| ssvConsensusIntervalSets | 0.253 | 0.004 | 0.257 | |
| ssvFactorizeMembTable | 0.009 | 0.004 | 0.013 | |
| ssvFeatureBars | 0.447 | 0.000 | 0.447 | |
| ssvFeatureBinaryHeatmap | 6.231 | 0.271 | 6.503 | |
| ssvFeatureEuler | 0.458 | 0.009 | 0.466 | |
| ssvFeaturePie | 0.529 | 0.000 | 0.529 | |
| ssvFeatureUpset | 2.994 | 0.060 | 3.054 | |
| ssvFeatureVenn | 0.786 | 0.000 | 0.786 | |
| ssvFetchBam | 5.436 | 0.012 | 5.414 | |
| ssvFetchBamPE | 1.694 | 0.044 | 1.739 | |
| ssvFetchBigwig | 1.226 | 0.008 | 1.234 | |
| ssvFetchGRanges | 0.658 | 0.000 | 0.657 | |
| ssvFetchSignal | 1.380 | 0.008 | 1.388 | |
| ssvMakeMembTable-methods | 0.558 | 0.004 | 0.561 | |
| ssvOverlapIntervalSets | 0.258 | 0.016 | 0.273 | |
| ssvSignalBandedQuantiles | 3.417 | 0.072 | 3.305 | |
| ssvSignalClustering | 1.924 | 0.004 | 1.767 | |
| ssvSignalHeatmap.ClusterBars | 2.999 | 0.004 | 2.821 | |
| ssvSignalHeatmap | 3.553 | 0.084 | 3.398 | |
| ssvSignalLineplot | 1.948 | 0.004 | 1.945 | |
| ssvSignalLineplotAgg | 0.669 | 0.000 | 0.651 | |
| ssvSignalScatterplot | 0.772 | 0.008 | 0.736 | |
| viewGRangesWinSample_dt | 1.089 | 0.000 | 1.084 | |
| viewGRangesWinSummary_dt | 1.060 | 0.004 | 1.040 | |
| within_clust_sort | 1.312 | 0.000 | 1.252 | |