| Back to Multiple platform build/check report for BioC 3.19: simplified long |
|
This page was generated on 2024-06-11 14:44 -0400 (Tue, 11 Jun 2024).
| Hostname | OS | Arch (*) | R version | Installed pkgs |
|---|---|---|---|---|
| nebbiolo1 | Linux (Ubuntu 22.04.3 LTS) | x86_64 | 4.4.0 (2024-04-24) -- "Puppy Cup" | 4757 |
| palomino3 | Windows Server 2022 Datacenter | x64 | 4.4.0 (2024-04-24 ucrt) -- "Puppy Cup" | 4491 |
| lconway | macOS 12.7.1 Monterey | x86_64 | 4.4.0 (2024-04-24) -- "Puppy Cup" | 4522 |
| kjohnson3 | macOS 13.6.5 Ventura | arm64 | 4.4.0 (2024-04-24) -- "Puppy Cup" | 4468 |
| Click on any hostname to see more info about the system (e.g. compilers) (*) as reported by 'uname -p', except on Windows and Mac OS X | ||||
| Package 1948/2300 | Hostname | OS / Arch | INSTALL | BUILD | CHECK | BUILD BIN | ||||||||
| seqsetvis 1.24.0 (landing page) Joseph R Boyd
| nebbiolo1 | Linux (Ubuntu 22.04.3 LTS) / x86_64 | OK | OK | OK | |||||||||
| palomino3 | Windows Server 2022 Datacenter / x64 | OK | OK | OK | OK | |||||||||
| lconway | macOS 12.7.1 Monterey / x86_64 | OK | OK | OK | OK | |||||||||
| kjohnson3 | macOS 13.6.5 Ventura / arm64 | OK | OK | OK | OK | |||||||||
|
To the developers/maintainers of the seqsetvis package: - Allow up to 24 hours (and sometimes 48 hours) for your latest push to git@git.bioconductor.org:packages/seqsetvis.git to reflect on this report. See Troubleshooting Build Report for more information. - Use the following Renviron settings to reproduce errors and warnings. - If 'R CMD check' started to fail recently on the Linux builder(s) over a missing dependency, add the missing dependency to 'Suggests:' in your DESCRIPTION file. See Renviron.bioc for more information. |
| Package: seqsetvis |
| Version: 1.24.0 |
| Command: /Library/Frameworks/R.framework/Resources/bin/R CMD check --install=check:seqsetvis.install-out.txt --library=/Library/Frameworks/R.framework/Resources/library --no-vignettes --timings seqsetvis_1.24.0.tar.gz |
| StartedAt: 2024-06-11 05:24:39 -0400 (Tue, 11 Jun 2024) |
| EndedAt: 2024-06-11 05:40:05 -0400 (Tue, 11 Jun 2024) |
| EllapsedTime: 925.7 seconds |
| RetCode: 0 |
| Status: OK |
| CheckDir: seqsetvis.Rcheck |
| Warnings: 0 |
##############################################################################
##############################################################################
###
### Running command:
###
### /Library/Frameworks/R.framework/Resources/bin/R CMD check --install=check:seqsetvis.install-out.txt --library=/Library/Frameworks/R.framework/Resources/library --no-vignettes --timings seqsetvis_1.24.0.tar.gz
###
##############################################################################
##############################################################################
* using log directory ‘/Users/biocbuild/bbs-3.19-bioc/meat/seqsetvis.Rcheck’
* using R version 4.4.0 (2024-04-24)
* using platform: aarch64-apple-darwin20
* R was compiled by
Apple clang version 14.0.0 (clang-1400.0.29.202)
GNU Fortran (GCC) 12.2.0
* running under: macOS Ventura 13.6.5
* using session charset: UTF-8
* using option ‘--no-vignettes’
* checking for file ‘seqsetvis/DESCRIPTION’ ... OK
* checking extension type ... Package
* this is package ‘seqsetvis’ version ‘1.24.0’
* package encoding: UTF-8
* checking package namespace information ... OK
* checking package dependencies ... OK
* checking if this is a source package ... OK
* checking if there is a namespace ... OK
* checking for hidden files and directories ... OK
* checking for portable file names ... OK
* checking for sufficient/correct file permissions ... OK
* checking whether package ‘seqsetvis’ can be installed ... OK
* checking installed package size ... OK
* checking package directory ... OK
* checking ‘build’ directory ... OK
* checking DESCRIPTION meta-information ... OK
* checking top-level files ... OK
* checking for left-over files ... OK
* checking index information ... OK
* checking package subdirectories ... OK
* checking code files for non-ASCII characters ... OK
* checking R files for syntax errors ... OK
* checking whether the package can be loaded ... OK
* checking whether the package can be loaded with stated dependencies ... OK
* checking whether the package can be unloaded cleanly ... OK
* checking whether the namespace can be loaded with stated dependencies ... OK
* checking whether the namespace can be unloaded cleanly ... OK
* checking dependencies in R code ... OK
* checking S3 generic/method consistency ... OK
* checking replacement functions ... OK
* checking foreign function calls ... OK
* checking R code for possible problems ... OK
* checking Rd files ... OK
* checking Rd metadata ... OK
* checking Rd cross-references ... OK
* checking for missing documentation entries ... OK
* checking for code/documentation mismatches ... OK
* checking Rd \usage sections ... OK
* checking Rd contents ... OK
* checking for unstated dependencies in examples ... OK
* checking contents of ‘data’ directory ... OK
* checking data for non-ASCII characters ... OK
* checking LazyData ... OK
* checking data for ASCII and uncompressed saves ... OK
* checking files in ‘vignettes’ ... OK
* checking examples ... OK
Examples with CPU (user + system) or elapsed time > 5s
user system elapsed
ssvFeatureBinaryHeatmap 9.864 0.504 14.704
ssvFetchBam 6.780 0.281 10.071
add_cluster_annotation 3.594 0.156 5.309
ssvSignalBandedQuantiles 3.674 0.074 5.558
ssvSignalHeatmap 3.591 0.075 5.133
* checking for unstated dependencies in ‘tests’ ... OK
* checking tests ...
Running ‘testthat.R’
OK
* checking for unstated dependencies in vignettes ... OK
* checking package vignettes ... OK
* checking running R code from vignettes ... SKIPPED
* checking re-building of vignette outputs ... SKIPPED
* checking PDF version of manual ... OK
* DONE
Status: OK
seqsetvis.Rcheck/00install.out
############################################################################## ############################################################################## ### ### Running command: ### ### /Library/Frameworks/R.framework/Resources/bin/R CMD INSTALL seqsetvis ### ############################################################################## ############################################################################## * installing to library ‘/Library/Frameworks/R.framework/Versions/4.4-arm64/Resources/library’ * installing *source* package ‘seqsetvis’ ... ** using staged installation ** R ** data *** moving datasets to lazyload DB ** inst ** byte-compile and prepare package for lazy loading ** help *** installing help indices ** building package indices ** installing vignettes ** testing if installed package can be loaded from temporary location ** testing if installed package can be loaded from final location ** testing if installed package keeps a record of temporary installation path * DONE (seqsetvis)
seqsetvis.Rcheck/tests/testthat.Rout
R version 4.4.0 (2024-04-24) -- "Puppy Cup" Copyright (C) 2024 The R Foundation for Statistical Computing Platform: aarch64-apple-darwin20 R is free software and comes with ABSOLUTELY NO WARRANTY. You are welcome to redistribute it under certain conditions. Type 'license()' or 'licence()' for distribution details. R is a collaborative project with many contributors. Type 'contributors()' for more information and 'citation()' on how to cite R or R packages in publications. Type 'demo()' for some demos, 'help()' for on-line help, or 'help.start()' for an HTML browser interface to help. Type 'q()' to quit R. > > ## load dependencies > library(testthat) > library(seqsetvis) Loading required package: ggplot2 > library(data.table) > > ## test package > test_check(package = "seqsetvis") [ FAIL 0 | WARN 0 | SKIP 0 | PASS 1266 ] > > proc.time() user system elapsed 284.854 6.910 409.967
seqsetvis.Rcheck/seqsetvis-Ex.timings
| name | user | system | elapsed | |
| add_cluster_annotation | 3.594 | 0.156 | 5.309 | |
| append_ynorm | 0.034 | 0.003 | 0.049 | |
| applyMovingAverage | 0.690 | 0.012 | 0.977 | |
| applySpline | 0.328 | 0.009 | 0.476 | |
| assemble_heatmap_cluster_bars | 0.747 | 0.013 | 1.103 | |
| calc_norm_factors | 0.015 | 0.001 | 0.024 | |
| centerAtMax | 0.290 | 0.006 | 0.399 | |
| centerFixedSizeGRanges | 0.201 | 0.012 | 0.301 | |
| centerGRangesAtMax | 0.387 | 0.009 | 0.534 | |
| clusteringKmeans | 0.017 | 0.001 | 0.028 | |
| clusteringKmeansNestedHclust | 0.023 | 0.002 | 0.034 | |
| col2hex | 0.002 | 0.001 | 0.006 | |
| collapse_gr | 0.782 | 0.019 | 1.086 | |
| convert_collapsed_coord | 0.257 | 0.012 | 0.379 | |
| copy_clust_info | 1.676 | 0.021 | 2.448 | |
| crossCorrByRle | 0.381 | 0.010 | 0.520 | |
| easyLoad_FUN | 0.059 | 0.002 | 0.092 | |
| easyLoad_IDRmerged | 0.047 | 0.004 | 0.079 | |
| easyLoad_bed | 0.133 | 0.003 | 0.178 | |
| easyLoad_broadPeak | 0.044 | 0.002 | 0.068 | |
| easyLoad_narrowPeak | 0.038 | 0.002 | 0.047 | |
| easyLoad_seacr | 0.046 | 0.002 | 0.069 | |
| expandCigar | 0.170 | 0.012 | 0.259 | |
| findMaxPos | 0.015 | 0.003 | 0.029 | |
| fragLen_calcStranded | 1.705 | 0.034 | 2.460 | |
| fragLen_fromMacs2Xls | 0.003 | 0.001 | 0.004 | |
| getReadLength | 0.057 | 0.004 | 0.086 | |
| get_mapped_reads | 0.009 | 0.001 | 0.014 | |
| ggellipse | 0.600 | 0.013 | 0.856 | |
| harmonize_seqlengths | 0.170 | 0.011 | 0.246 | |
| make_clustering_matrix | 0.036 | 0.001 | 0.042 | |
| merge_clusters | 3.470 | 0.046 | 4.866 | |
| prepare_fetch_GRanges | 0.031 | 0.001 | 0.046 | |
| prepare_fetch_GRanges_names | 0.086 | 0.003 | 0.111 | |
| prepare_fetch_GRanges_width | 0.028 | 0.001 | 0.028 | |
| quantileGRangesWidth | 0.002 | 0.000 | 0.002 | |
| reorder_clusters_hclust | 1.921 | 0.021 | 2.621 | |
| reorder_clusters_manual | 1.067 | 0.015 | 1.518 | |
| reorder_clusters_stepdown | 2.015 | 0.024 | 2.910 | |
| reverse_clusters | 2.221 | 0.032 | 3.133 | |
| safeBrew | 0.027 | 0.005 | 0.049 | |
| split_cluster | 1.949 | 0.030 | 2.838 | |
| ssvConsensusIntervalSets | 0.415 | 0.015 | 0.581 | |
| ssvFactorizeMembTable | 0.016 | 0.002 | 0.028 | |
| ssvFeatureBars | 0.582 | 0.010 | 0.851 | |
| ssvFeatureBinaryHeatmap | 9.864 | 0.504 | 14.704 | |
| ssvFeatureEuler | 0.533 | 0.014 | 0.759 | |
| ssvFeaturePie | 0.685 | 0.032 | 1.044 | |
| ssvFeatureUpset | 2.517 | 0.037 | 3.717 | |
| ssvFeatureVenn | 0.922 | 0.018 | 1.165 | |
| ssvFetchBam | 6.780 | 0.281 | 10.071 | |
| ssvFetchBamPE | 2.395 | 0.154 | 4.081 | |
| ssvFetchBigwig | 1.616 | 0.031 | 2.550 | |
| ssvFetchGRanges | 0.847 | 0.009 | 1.329 | |
| ssvFetchSignal | 1.695 | 0.069 | 2.653 | |
| ssvMakeMembTable-methods | 0.613 | 0.017 | 0.980 | |
| ssvOverlapIntervalSets | 0.296 | 0.013 | 0.477 | |
| ssvSignalBandedQuantiles | 3.674 | 0.074 | 5.558 | |
| ssvSignalClustering | 2.118 | 0.038 | 2.808 | |
| ssvSignalHeatmap.ClusterBars | 3.188 | 0.074 | 4.368 | |
| ssvSignalHeatmap | 3.591 | 0.075 | 5.133 | |
| ssvSignalLineplot | 2.151 | 0.025 | 3.097 | |
| ssvSignalLineplotAgg | 0.845 | 0.016 | 1.436 | |
| ssvSignalScatterplot | 0.895 | 0.017 | 1.458 | |
| viewGRangesWinSample_dt | 1.243 | 0.046 | 1.574 | |
| viewGRangesWinSummary_dt | 1.267 | 0.044 | 2.119 | |
| within_clust_sort | 1.427 | 0.015 | 1.998 | |