| Back to Multiple platform build/check report for BioC 3.19: simplified long | 
  | 
This page was generated on 2024-06-28 17:42 -0400 (Fri, 28 Jun 2024).
| Hostname | OS | Arch (*) | R version | Installed pkgs | 
|---|---|---|---|---|
| nebbiolo1 | Linux (Ubuntu 22.04.3 LTS) | x86_64 | 4.4.0 (2024-04-24) -- "Puppy Cup" | 4760 | 
| palomino3 | Windows Server 2022 Datacenter | x64 | 4.4.0 (2024-04-24 ucrt) -- "Puppy Cup" | 4494 | 
| merida1 | macOS 12.7.4 Monterey | x86_64 | 4.4.0 (2024-04-24) -- "Puppy Cup" | 4508 | 
| kjohnson1 | macOS 13.6.6 Ventura | arm64 | 4.4.0 (2024-04-24) -- "Puppy Cup" | 4466 | 
| palomino7 | Windows Server 2022 Datacenter | x64 | 4.4.1 (2024-06-14 ucrt) -- "Race for Your Life" | 4362 | 
| Click on any hostname to see more info about the system (e.g. compilers) (*) as reported by 'uname -p', except on Windows and Mac OS X | ||||
| Package 1819/2300 | Hostname | OS / Arch | INSTALL | BUILD | CHECK | BUILD BIN | ||||||||
| rqubic 1.50.0  (landing page) Jitao David Zhang 
  | nebbiolo1 | Linux (Ubuntu 22.04.3 LTS) / x86_64 | OK | OK | WARNINGS | |||||||||
| palomino3 | Windows Server 2022 Datacenter / x64 | OK | OK | WARNINGS | OK | |||||||||
| merida1 | macOS 12.7.4 Monterey / x86_64 | OK | OK | OK | OK | |||||||||
| kjohnson1 | macOS 13.6.6 Ventura / arm64 | OK | OK | OK | OK | |||||||||
| palomino7 | Windows Server 2022 Datacenter / x64 | OK | OK | WARNINGS | OK | |||||||||
| 
To the developers/maintainers of the rqubic package: - Allow up to 24 hours (and sometimes 48 hours) for your latest push to git@git.bioconductor.org:packages/rqubic.git to reflect on this report. See Troubleshooting Build Report for more information. - Use the following Renviron settings to reproduce errors and warnings. - If 'R CMD check' started to fail recently on the Linux builder(s) over a missing dependency, add the missing dependency to 'Suggests:' in your DESCRIPTION file. See Renviron.bioc for more information.  | 
| Package: rqubic | 
| Version: 1.50.0 | 
| Command: rm -rf rqubic.buildbin-libdir && mkdir rqubic.buildbin-libdir && F:\biocbuild\bbs-3.19-bioc\R\bin\R.exe CMD INSTALL --build --library=rqubic.buildbin-libdir rqubic_1.50.0.tar.gz | 
| StartedAt: 2024-06-27 08:49:47 -0400 (Thu, 27 Jun 2024) | 
| EndedAt: 2024-06-27 08:50:08 -0400 (Thu, 27 Jun 2024) | 
| EllapsedTime: 20.5 seconds | 
| RetCode: 0 | 
| Status: OK | 
| PackageFile: rqubic_1.50.0.zip | 
| PackageFileSize: 435.8 KiB | 
##############################################################################
##############################################################################
###
### Running command:
###
###   rm -rf rqubic.buildbin-libdir && mkdir rqubic.buildbin-libdir && F:\biocbuild\bbs-3.19-bioc\R\bin\R.exe CMD INSTALL --build --library=rqubic.buildbin-libdir rqubic_1.50.0.tar.gz
###
##############################################################################
##############################################################################
* installing *source* package 'rqubic' ...
** using staged installation
** libs
using C compiler: 'gcc.exe (GCC) 13.2.0'
gcc  -I"F:/biocbuild/bbs-3.19-bioc/R/include" -DNDEBUG     -I"C:/rtools44/x86_64-w64-mingw32.static.posix/include"     -O2 -Wall  -mfpmath=sse -msse2 -mstackrealign  -c bicluster.c -o bicluster.o
bicluster.c: In function 'seed_intersect_r':
bicluster.c:354:11: warning: suggest parentheses around assignment used as truth value [-Wparentheses]
  354 |       if (flag=ss) (*m_cnt)++;
      |           ^~~~
gcc  -I"F:/biocbuild/bbs-3.19-bioc/R/include" -DNDEBUG     -I"C:/rtools44/x86_64-w64-mingw32.static.posix/include"     -O2 -Wall  -mfpmath=sse -msse2 -mstackrealign  -c discretize.c -o discretize.o
In file included from discretize.c:9:
rqubic.h:62:20: warning: 'MINCOL_ATT_NAME' defined but not used [-Wunused-variable]
   62 | static const char *MINCOL_ATT_NAME="minimumCol";
      |                    ^~~~~~~~~~~~~~~
rqubic.h:61:20: warning: 'EDGELIST_ATT_NAME' defined but not used [-Wunused-variable]
   61 | static const char *EDGELIST_ATT_NAME="edgelist";
      |                    ^~~~~~~~~~~~~~~~~
gcc  -I"F:/biocbuild/bbs-3.19-bioc/R/include" -DNDEBUG     -I"C:/rtools44/x86_64-w64-mingw32.static.posix/include"     -O2 -Wall  -mfpmath=sse -msse2 -mstackrealign  -c fib.c -o fib.o
In file included from fib.c:35:
rqubic.h:62:20: warning: 'MINCOL_ATT_NAME' defined but not used [-Wunused-variable]
   62 | static const char *MINCOL_ATT_NAME="minimumCol";
      |                    ^~~~~~~~~~~~~~~
rqubic.h:61:20: warning: 'EDGELIST_ATT_NAME' defined but not used [-Wunused-variable]
   61 | static const char *EDGELIST_ATT_NAME="edgelist";
      |                    ^~~~~~~~~~~~~~~~~
gcc  -I"F:/biocbuild/bbs-3.19-bioc/R/include" -DNDEBUG     -I"C:/rtools44/x86_64-w64-mingw32.static.posix/include"     -O2 -Wall  -mfpmath=sse -msse2 -mstackrealign  -c graph.c -o graph.o
In function 'compare_edges',
    inlined from 'fh_insert_fixed' at graph.c:41:9,
    inlined from 'generate_sorted_seeds' at graph.c:147:7:
graph.c:31:13: warning: array subscript 'struct Edge[0]' is partly outside array bounds of 'struct Edge[0]' [-Warray-bounds=]
   31 |   const int score_a = ((pEdge)a)->score;
      |             ^~~~~~~
graph.c: In function 'generate_sorted_seeds':
graph.c:131:9: note: object '_cur_min' of size 8
  131 |   pEdge _cur_min = &__cur_min;
      |         ^~~~~~~~
gcc  -I"F:/biocbuild/bbs-3.19-bioc/R/include" -DNDEBUG     -I"C:/rtools44/x86_64-w64-mingw32.static.posix/include"     -O2 -Wall  -mfpmath=sse -msse2 -mstackrealign  -c rqubic.c -o rqubic.o
In file included from rqubic.c:5:
rqubic.h:62:20: warning: 'MINCOL_ATT_NAME' defined but not used [-Wunused-variable]
   62 | static const char *MINCOL_ATT_NAME="minimumCol";
      |                    ^~~~~~~~~~~~~~~
rqubic.h:61:20: warning: 'EDGELIST_ATT_NAME' defined but not used [-Wunused-variable]
   61 | static const char *EDGELIST_ATT_NAME="edgelist";
      |                    ^~~~~~~~~~~~~~~~~
gcc -shared -s -static-libgcc -o rqubic.dll tmp.def bicluster.o discretize.o fib.o graph.o rqubic.o -LC:/rtools44/x86_64-w64-mingw32.static.posix/lib/x64 -LC:/rtools44/x86_64-w64-mingw32.static.posix/lib -LF:/biocbuild/bbs-3.19-bioc/R/bin/x64 -lR
installing to F:/biocbuild/bbs-3.19-bioc/meat/rqubic.buildbin-libdir/00LOCK-rqubic/00new/rqubic/libs/x64
** R
** inst
** byte-compile and prepare package for lazy loading
** help
*** installing help indices
** building package indices
** installing vignettes
** testing if installed package can be loaded from temporary location
** testing if installed package can be loaded from final location
** testing if installed package keeps a record of temporary installation path
* MD5 sums
packaged installation of 'rqubic' as rqubic_1.50.0.zip
* DONE (rqubic)