| Back to Multiple platform build/check report for BioC 3.19: simplified long |
|
This page was generated on 2024-05-09 11:41:17 -0400 (Thu, 09 May 2024).
| Hostname | OS | Arch (*) | R version | Installed pkgs |
|---|---|---|---|---|
| nebbiolo1 | Linux (Ubuntu 22.04.3 LTS) | x86_64 | 4.4.0 (2024-04-24) -- "Puppy Cup" | 4748 |
| palomino3 | Windows Server 2022 Datacenter | x64 | 4.4.0 (2024-04-24 ucrt) -- "Puppy Cup" | 4484 |
| lconway | macOS 12.7.1 Monterey | x86_64 | 4.4.0 (2024-04-24) -- "Puppy Cup" | 4514 |
| kunpeng2 | Linux (openEuler 22.03 LTS-SP1) | aarch64 | 4.4.0 beta (2024-04-15 r86425) -- "Puppy Cup" | 4480 |
| Click on any hostname to see more info about the system (e.g. compilers) (*) as reported by 'uname -p', except on Windows and Mac OS X | ||||
| Package 1627/2300 | Hostname | OS / Arch | INSTALL | BUILD | CHECK | BUILD BIN | ||||||||
| psichomics 1.30.0 (landing page) Nuno Saraiva-Agostinho
| nebbiolo1 | Linux (Ubuntu 22.04.3 LTS) / x86_64 | OK | OK | OK | |||||||||
| palomino3 | Windows Server 2022 Datacenter / x64 | OK | OK | OK | OK | |||||||||
| lconway | macOS 12.7.1 Monterey / x86_64 | OK | OK | OK | OK | |||||||||
| kunpeng2 | Linux (openEuler 22.03 LTS-SP1) / aarch64 | OK | OK | OK | ||||||||||
| kjohnson3 | macOS 13.6.5 Ventura / arm64 | see weekly results here | ||||||||||||
|
To the developers/maintainers of the psichomics package: - Allow up to 24 hours (and sometimes 48 hours) for your latest push to git@git.bioconductor.org:packages/psichomics.git to reflect on this report. See Troubleshooting Build Report for more information. - Use the following Renviron settings to reproduce errors and warnings. - If 'R CMD check' started to fail recently on the Linux builder(s) over a missing dependency, add the missing dependency to 'Suggests:' in your DESCRIPTION file. See Renviron.bioc for more information. - See Martin Grigorov's blog post for how to debug Linux ARM64 related issues on a x86_64 host. |
| Package: psichomics |
| Version: 1.30.0 |
| Command: /home/biocbuild/R/R-beta-2024-04-15_r86425/bin/R CMD check --install=check:psichomics.install-out.txt --library=/home/biocbuild/R/R-beta-2024-04-15_r86425/site-library --no-vignettes --timings psichomics_1.30.0.tar.gz |
| StartedAt: 2024-05-09 10:46:25 -0000 (Thu, 09 May 2024) |
| EndedAt: 2024-05-09 10:57:16 -0000 (Thu, 09 May 2024) |
| EllapsedTime: 651.1 seconds |
| RetCode: 0 |
| Status: OK |
| CheckDir: psichomics.Rcheck |
| Warnings: 0 |
##############################################################################
##############################################################################
###
### Running command:
###
### /home/biocbuild/R/R-beta-2024-04-15_r86425/bin/R CMD check --install=check:psichomics.install-out.txt --library=/home/biocbuild/R/R-beta-2024-04-15_r86425/site-library --no-vignettes --timings psichomics_1.30.0.tar.gz
###
##############################################################################
##############################################################################
* using log directory ‘/home/biocbuild/bbs-3.19-bioc/meat/psichomics.Rcheck’
* using R version 4.4.0 beta (2024-04-15 r86425)
* using platform: aarch64-unknown-linux-gnu
* R was compiled by
gcc (GCC) 10.3.1
GNU Fortran (GCC) 10.3.1
* running under: openEuler 22.03 (LTS-SP1)
* using session charset: UTF-8
* using option ‘--no-vignettes’
* checking for file ‘psichomics/DESCRIPTION’ ... OK
* this is package ‘psichomics’ version ‘1.30.0’
* package encoding: UTF-8
* checking package namespace information ... OK
* checking package dependencies ... OK
* checking if this is a source package ... OK
* checking if there is a namespace ... OK
* checking for hidden files and directories ... NOTE
Found the following hidden files and directories:
.devcontainer
These were most likely included in error. See section ‘Package
structure’ in the ‘Writing R Extensions’ manual.
* checking for portable file names ... OK
* checking for sufficient/correct file permissions ... OK
* checking whether package ‘psichomics’ can be installed ... OK
* used C++ compiler: ‘g++ (GCC) 10.3.1’
* checking installed package size ... OK
* checking package directory ... OK
* checking ‘build’ directory ... OK
* checking DESCRIPTION meta-information ... OK
* checking top-level files ... OK
* checking for left-over files ... OK
* checking index information ... OK
* checking package subdirectories ... OK
* checking code files for non-ASCII characters ... OK
* checking R files for syntax errors ... OK
* checking whether the package can be loaded ... OK
* checking whether the package can be loaded with stated dependencies ... OK
* checking whether the package can be unloaded cleanly ... OK
* checking whether the namespace can be loaded with stated dependencies ... OK
* checking whether the namespace can be unloaded cleanly ... OK
* checking loading without being on the library search path ... OK
* checking whether startup messages can be suppressed ... OK
* checking dependencies in R code ... OK
* checking S3 generic/method consistency ... OK
* checking replacement functions ... OK
* checking foreign function calls ... OK
* checking R code for possible problems ... OK
* checking Rd files ... OK
* checking Rd metadata ... OK
* checking Rd cross-references ... OK
* checking for missing documentation entries ... OK
* checking for code/documentation mismatches ... OK
* checking Rd \usage sections ... NOTE
Documented arguments not in \usage in Rd file 'createSparklines.Rd':
‘id’
Documented arguments not in \usage in Rd file 'renderGeneticInfo.Rd':
‘ns’
Functions with \usage entries need to have the appropriate \alias
entries, and all their arguments documented.
The \usage entries must correspond to syntactically valid R code.
See chapter ‘Writing R documentation files’ in the ‘Writing R
Extensions’ manual.
* checking Rd contents ... OK
* checking for unstated dependencies in examples ... OK
* checking line endings in C/C++/Fortran sources/headers ... OK
* checking compiled code ... NOTE
Note: information on .o files is not available
* checking files in ‘vignettes’ ... OK
* checking examples ... OK
Examples with CPU (user + system) or elapsed time > 5s
user system elapsed
convertGeneIdentifiers 19.348 1.457 29.829
listSplicingAnnotations 13.548 1.849 21.857
loadAnnotation 3.583 0.483 5.968
queryEnsemblByGene 0.123 0.008 5.472
* checking for unstated dependencies in ‘tests’ ... OK
* checking tests ...
Running ‘spelling.R’
Running ‘testthat.R’
OK
* checking for unstated dependencies in vignettes ... OK
* checking package vignettes ... OK
* checking running R code from vignettes ... SKIPPED
* checking re-building of vignette outputs ... SKIPPED
* checking PDF version of manual ... OK
* DONE
Status: 3 NOTEs
See
‘/home/biocbuild/bbs-3.19-bioc/meat/psichomics.Rcheck/00check.log’
for details.
psichomics.Rcheck/00install.out
############################################################################## ############################################################################## ### ### Running command: ### ### /home/biocbuild/R/R-beta-2024-04-15_r86425/bin/R CMD INSTALL psichomics ### ############################################################################## ############################################################################## * installing to library ‘/home/biocbuild/R/R-beta-2024-04-15_r86425/site-library’ * installing *source* package ‘psichomics’ ... ** using staged installation ** libs using C++ compiler: ‘g++ (GCC) 10.3.1’ g++ -std=gnu++17 -I"/home/biocbuild/R/R-beta-2024-04-15_r86425/include" -DNDEBUG -I'/home/biocbuild/R/R-beta-2024-04-15_r86425/site-library/Rcpp/include' -I/usr/local/include -fPIC -g -O2 -Wall -c RcppExports.cpp -o RcppExports.o g++ -std=gnu++17 -I"/home/biocbuild/R/R-beta-2024-04-15_r86425/include" -DNDEBUG -I'/home/biocbuild/R/R-beta-2024-04-15_r86425/site-library/Rcpp/include' -I/usr/local/include -fPIC -g -O2 -Wall -c progressBar.cpp -o progressBar.o g++ -std=gnu++17 -I"/home/biocbuild/R/R-beta-2024-04-15_r86425/include" -DNDEBUG -I'/home/biocbuild/R/R-beta-2024-04-15_r86425/site-library/Rcpp/include' -I/usr/local/include -fPIC -g -O2 -Wall -c psiFastCalc.cpp -o psiFastCalc.o g++ -std=gnu++17 -I"/home/biocbuild/R/R-beta-2024-04-15_r86425/include" -DNDEBUG -I'/home/biocbuild/R/R-beta-2024-04-15_r86425/site-library/Rcpp/include' -I/usr/local/include -fPIC -g -O2 -Wall -c vastToolsParser.cpp -o vastToolsParser.o g++ -std=gnu++17 -shared -L/home/biocbuild/R/R-beta-2024-04-15_r86425/lib -L/usr/local/lib -o psichomics.so RcppExports.o progressBar.o psiFastCalc.o vastToolsParser.o -L/home/biocbuild/R/R-beta-2024-04-15_r86425/lib -lR installing to /home/biocbuild/R/R-beta-2024-04-15_r86425/site-library/00LOCK-psichomics/00new/psichomics/libs ** R ** inst ** byte-compile and prepare package for lazy loading Creating a generic function for ‘colSums’ from package ‘base’ in package ‘psichomics’ ** help *** installing help indices *** copying figures ** building package indices ** installing vignettes ** testing if installed package can be loaded from temporary location ** checking absolute paths in shared objects and dynamic libraries ** testing if installed package can be loaded from final location ** testing if installed package keeps a record of temporary installation path * DONE (psichomics)
psichomics.Rcheck/tests/spelling.Rout
R version 4.4.0 beta (2024-04-15 r86425) -- "Puppy Cup"
Copyright (C) 2024 The R Foundation for Statistical Computing
Platform: aarch64-unknown-linux-gnu
R is free software and comes with ABSOLUTELY NO WARRANTY.
You are welcome to redistribute it under certain conditions.
Type 'license()' or 'licence()' for distribution details.
R is a collaborative project with many contributors.
Type 'contributors()' for more information and
'citation()' on how to cite R or R packages in publications.
Type 'demo()' for some demos, 'help()' for on-line help, or
'help.start()' for an HTML browser interface to help.
Type 'q()' to quit R.
> if(requireNamespace('spelling', quietly = TRUE))
+ spelling::spell_check_test(vignettes = TRUE, error = FALSE,
+ skip_on_cran = TRUE)
NULL
>
> proc.time()
user system elapsed
0.191 0.038 0.214
psichomics.Rcheck/tests/testthat.Rout
R version 4.4.0 beta (2024-04-15 r86425) -- "Puppy Cup"
Copyright (C) 2024 The R Foundation for Statistical Computing
Platform: aarch64-unknown-linux-gnu
R is free software and comes with ABSOLUTELY NO WARRANTY.
You are welcome to redistribute it under certain conditions.
Type 'license()' or 'licence()' for distribution details.
R is a collaborative project with many contributors.
Type 'contributors()' for more information and
'citation()' on how to cite R or R packages in publications.
Type 'demo()' for some demos, 'help()' for on-line help, or
'help.start()' for an HTML browser interface to help.
Type 'q()' to quit R.
> library(testthat)
> library(psichomics)
Loading required package: shiny
Loading required package: shinyBS
Setting options('download.file.method.GEOquery'='auto')
Setting options('GEOquery.inmemory.gpl'=FALSE)
psichomics 1.30.0: start the visual interface by running psichomics()
Full documentation and tutorials at https://nuno-agostinho.github.io/psichomics
>
> test_check("psichomics")
| | 0%
|======== | 20%
|================ | 40%
|======================== | 60%
|================================ | 80%
|========================================| 100%
| | 0%
|======== | 20%
|================ | 40%
|======================== | 60%
|================================ | 80%
|========================================| 100%
| | 0%
|======== | 20%
|================ | 40%
|======================== | 60%
|================================ | 80%
|========================================| 100%
| | 0%
|======== | 20%
|================ | 40%
|======================== | 60%
|================================ | 80%
|========================================| 100%
Retrieving rMATS annotation...
Parsing rMATS annotation...
Retrieving rMATS annotation...
Parsing rMATS annotation...
Retrieving MISO annotation...
Parsing MISO annotation...
| | 0%
|======== | 20%
|================ | 40%
|======================== | 60%
|================================ | 80%
|========================================| 100%
| | 0%
|======== | 20%
|================ | 40%
|======================== | 60%
|================================ | 80%
|========================================| 100%
| | 0%
|======== | 20%
|================ | 40%
|======================== | 60%
|================================ | 80%
|========================================| 100%
| | 0%
|======== | 20%
|================ | 40%
|======================== | 60%
|================================ | 80%
|========================================| 100%
| | 0%
|======== | 20%
|================ | 40%
|======================== | 60%
|================================ | 80%
|========================================| 100%
| | 0%
|======== | 20%
|================ | 40%
|======================== | 60%
|================================ | 80%
|========================================| 100%
| | 0%
|======== | 20%
|================ | 40%
|======================== | 60%
|================================ | 80%
|========================================| 100%
| | 0%
|======== | 20%
|================ | 40%
|======================== | 60%
|================================ | 80%
|========================================| 100%
Retrieving SUPPA annotation...
Parsing SUPPA annotation...
Retrieving VAST-TOOLS annotation...
Parsing VAST-TOOLS annotation...
ALT3
ALT5
COMBI
EXSK
IR
MERGE3m
MIC
MULTI
[ FAIL 0 | WARN 0 | SKIP 4 | PASS 1418 ]
══ Skipped tests (4) ═══════════════════════════════════════════════════════════
• Couldn't resolve host name (1): 'testGeneInfo.R:99:5'
• On Bioconductor (2): 'testDiscardLowCoveragePSIs.R:62:5',
'testGeneInfo.R:50:5'
• On CRAN (1): 'testSRAloading.R:4:5'
[ FAIL 0 | WARN 0 | SKIP 4 | PASS 1418 ]
>
> proc.time()
user system elapsed
31.847 1.622 42.341
psichomics.Rcheck/psichomics-Ex.timings
| name | user | system | elapsed | |
| addObjectAttrs | 0.000 | 0.000 | 0.001 | |
| assignValuePerSubject | 0.024 | 0.000 | 0.025 | |
| blendColours | 0.001 | 0.000 | 0.001 | |
| calculateLoadingsContribution | 0.003 | 0.008 | 0.012 | |
| convertGeneIdentifiers | 19.348 | 1.457 | 29.829 | |
| correlateGEandAS | 0.021 | 0.008 | 0.031 | |
| createGroupByAttribute | 0.002 | 0.000 | 0.001 | |
| createJunctionsTemplate | 0.003 | 0.000 | 0.003 | |
| customRowMeans | 0.001 | 0.000 | 0.000 | |
| diffAnalyses | 0.09 | 0.06 | 0.15 | |
| downloadFiles | 0 | 0 | 0 | |
| ensemblToUniprot | 0.030 | 0.012 | 1.548 | |
| filterGeneExpr | 0.006 | 0.007 | 0.013 | |
| filterGroups | 0.002 | 0.000 | 0.003 | |
| filterPSI | 0.027 | 0.000 | 0.026 | |
| getAttributesTime | 0.002 | 0.004 | 0.006 | |
| getDownloadsFolder | 0.000 | 0.001 | 0.000 | |
| getFirebrowseDateFormat | 0 | 0 | 0 | |
| getGeneList | 0.005 | 0.001 | 0.010 | |
| getGtexDataTypes | 0.001 | 0.000 | 0.001 | |
| getGtexTissues | 0.000 | 0.000 | 0.001 | |
| getNumerics | 0.003 | 0.000 | 0.003 | |
| getSampleFromSubject | 0.002 | 0.000 | 0.001 | |
| getSplicingEventFromGenes | 0.003 | 0.002 | 0.006 | |
| getSplicingEventTypes | 0 | 0 | 0 | |
| getSubjectFromSample | 0.001 | 0.000 | 0.000 | |
| getTCGAdataTypes | 0.044 | 0.012 | 2.735 | |
| getValidEvents | 0.003 | 0.003 | 0.006 | |
| groupPerElem | 0.001 | 0.000 | 0.000 | |
| hchart.survfit | 0.273 | 0.168 | 0.499 | |
| isFirebrowseUp | 0.016 | 0.000 | 0.268 | |
| labelBasedOnCutoff | 0 | 0 | 0 | |
| leveneTest | 0.006 | 0.003 | 0.010 | |
| listAllAnnotations | 2.938 | 0.172 | 4.997 | |
| listSplicingAnnotations | 13.548 | 1.849 | 21.857 | |
| loadAnnotation | 3.583 | 0.483 | 5.968 | |
| loadGtexData | 0.000 | 0.001 | 0.000 | |
| loadLocalFiles | 0 | 0 | 0 | |
| loadSRAproject | 0 | 0 | 0 | |
| loadTCGAdata | 0.014 | 0.001 | 0.506 | |
| missingDataModal | 0 | 0 | 0 | |
| normaliseGeneExpression | 0.035 | 0.004 | 0.040 | |
| optimalSurvivalCutoff | 0.154 | 0.016 | 0.170 | |
| parseCategoricalGroups | 0.001 | 0.000 | 0.001 | |
| parseFirebrowseMetadata | 0.068 | 0.016 | 1.318 | |
| parseMatsEvent | 0.000 | 0.007 | 0.008 | |
| parseMatsGeneric | 0.029 | 0.004 | 0.033 | |
| parseMisoAnnotation | 0.191 | 0.043 | 0.253 | |
| parseMisoEvent | 0.007 | 0.000 | 0.006 | |
| parseMisoEventID | 0.008 | 0.000 | 0.010 | |
| parseMisoGeneric | 0.043 | 0.004 | 0.048 | |
| parseMisoId | 0.000 | 0.000 | 0.001 | |
| parseSplicingEvent | 0.007 | 0.000 | 0.008 | |
| parseSuppaEvent | 0.006 | 0.000 | 0.006 | |
| parseSuppaGeneric | 0.023 | 0.004 | 0.028 | |
| parseTcgaSampleInfo | 0.003 | 0.004 | 0.006 | |
| parseUrlsFromFirebrowseResponse | 0.045 | 0.004 | 0.825 | |
| parseVastToolsEvent | 0.004 | 0.004 | 0.008 | |
| parseVastToolsSE | 0.036 | 0.000 | 0.036 | |
| performICA | 0.008 | 0.004 | 0.012 | |
| performPCA | 0.003 | 0.000 | 0.002 | |
| plot.GEandAScorrelation | 0.803 | 0.164 | 0.970 | |
| plotDistribution | 1.026 | 0.479 | 1.508 | |
| plotGeneExprPerSample | 0.135 | 0.016 | 0.151 | |
| plotGroupIndependence | 0.255 | 0.148 | 0.403 | |
| plotICA | 0.188 | 0.035 | 0.229 | |
| plotLibrarySize | 0.258 | 0.076 | 0.334 | |
| plotPCA | 0.368 | 0.040 | 0.409 | |
| plotPCAvariance | 0.063 | 0.020 | 0.082 | |
| plotProtein | 0.977 | 0.175 | 3.395 | |
| plotRowStats | 0.761 | 0.467 | 1.231 | |
| plotSingleICA | 0.260 | 0.044 | 0.304 | |
| plotSplicingEvent | 0.063 | 0.004 | 0.067 | |
| plotSurvivalCurves | 0.123 | 0.008 | 0.132 | |
| plotSurvivalPvaluesByCutoff | 0.649 | 0.040 | 0.691 | |
| plotTranscripts | 0.021 | 0.016 | 1.879 | |
| prepareAnnotationFromEvents | 0.296 | 0.152 | 0.449 | |
| prepareFirebrowseArchives | 0.000 | 0.000 | 0.001 | |
| prepareJunctionQuantSTAR | 0 | 0 | 0 | |
| prepareSRAmetadata | 0 | 0 | 0 | |
| processSurvTerms | 0.005 | 0.012 | 0.016 | |
| psichomics | 0 | 0 | 0 | |
| quantifySplicing | 0.011 | 0.008 | 0.019 | |
| queryEnsembl | 0.043 | 0.004 | 1.029 | |
| queryEnsemblByGene | 0.123 | 0.008 | 5.472 | |
| queryFirebrowseData | 0.051 | 0.012 | 1.640 | |
| queryPubMed | 0.063 | 0.013 | 2.298 | |
| queryUniprot | 0.043 | 0.004 | 0.994 | |
| readFile | 0.001 | 0.000 | 0.001 | |
| renameDuplicated | 0.001 | 0.000 | 0.001 | |
| renderBoxplot | 0.109 | 0.008 | 0.118 | |
| survdiffTerms | 0.008 | 0.000 | 0.008 | |
| survfit.survTerms | 0.038 | 0.004 | 0.043 | |
| testGroupIndependence | 0.005 | 0.000 | 0.005 | |
| testSurvival | 0.031 | 0.000 | 0.031 | |
| textSuggestions | 0.001 | 0.000 | 0.001 | |
| trimWhitespace | 0.001 | 0.000 | 0.000 | |