| Back to Multiple platform build/check report for BioC 3.19: simplified long |
|
This page was generated on 2024-10-18 20:38 -0400 (Fri, 18 Oct 2024).
| Hostname | OS | Arch (*) | R version | Installed pkgs |
|---|---|---|---|---|
| nebbiolo1 | Linux (Ubuntu 22.04.3 LTS) | x86_64 | 4.4.1 (2024-06-14) -- "Race for Your Life" | 4763 |
| palomino7 | Windows Server 2022 Datacenter | x64 | 4.4.1 (2024-06-14 ucrt) -- "Race for Your Life" | 4500 |
| merida1 | macOS 12.7.5 Monterey | x86_64 | 4.4.1 (2024-06-14) -- "Race for Your Life" | 4530 |
| kjohnson1 | macOS 13.6.6 Ventura | arm64 | 4.4.1 (2024-06-14) -- "Race for Your Life" | 4480 |
| Click on any hostname to see more info about the system (e.g. compilers) (*) as reported by 'uname -p', except on Windows and Mac OS X | ||||
| Package 1627/2300 | Hostname | OS / Arch | INSTALL | BUILD | CHECK | BUILD BIN | ||||||||
| psichomics 1.30.0 (landing page) Nuno Saraiva-Agostinho
| nebbiolo1 | Linux (Ubuntu 22.04.3 LTS) / x86_64 | OK | OK | OK | |||||||||
| palomino7 | Windows Server 2022 Datacenter / x64 | OK | OK | OK | OK | |||||||||
| merida1 | macOS 12.7.5 Monterey / x86_64 | OK | OK | ERROR | OK | |||||||||
| kjohnson1 | macOS 13.6.6 Ventura / arm64 | OK | OK | OK | OK | |||||||||
|
To the developers/maintainers of the psichomics package: - Allow up to 24 hours (and sometimes 48 hours) for your latest push to git@git.bioconductor.org:packages/psichomics.git to reflect on this report. See Troubleshooting Build Report for more information. - Use the following Renviron settings to reproduce errors and warnings. - If 'R CMD check' started to fail recently on the Linux builder(s) over a missing dependency, add the missing dependency to 'Suggests:' in your DESCRIPTION file. See Renviron.bioc for more information. |
| Package: psichomics |
| Version: 1.30.0 |
| Command: /home/biocbuild/bbs-3.19-bioc/R/bin/R CMD check --install=check:psichomics.install-out.txt --library=/home/biocbuild/bbs-3.19-bioc/R/site-library --timings psichomics_1.30.0.tar.gz |
| StartedAt: 2024-10-17 03:58:18 -0400 (Thu, 17 Oct 2024) |
| EndedAt: 2024-10-17 04:06:58 -0400 (Thu, 17 Oct 2024) |
| EllapsedTime: 519.1 seconds |
| RetCode: 0 |
| Status: OK |
| CheckDir: psichomics.Rcheck |
| Warnings: 0 |
##############################################################################
##############################################################################
###
### Running command:
###
### /home/biocbuild/bbs-3.19-bioc/R/bin/R CMD check --install=check:psichomics.install-out.txt --library=/home/biocbuild/bbs-3.19-bioc/R/site-library --timings psichomics_1.30.0.tar.gz
###
##############################################################################
##############################################################################
* using log directory ‘/home/biocbuild/bbs-3.19-bioc/meat/psichomics.Rcheck’
* using R version 4.4.1 (2024-06-14)
* using platform: x86_64-pc-linux-gnu
* R was compiled by
gcc (Ubuntu 11.4.0-1ubuntu1~22.04) 11.4.0
GNU Fortran (Ubuntu 11.4.0-1ubuntu1~22.04) 11.4.0
* running under: Ubuntu 22.04.5 LTS
* using session charset: UTF-8
* checking for file ‘psichomics/DESCRIPTION’ ... OK
* this is package ‘psichomics’ version ‘1.30.0’
* package encoding: UTF-8
* checking package namespace information ... OK
* checking package dependencies ... OK
* checking if this is a source package ... OK
* checking if there is a namespace ... OK
* checking for hidden files and directories ... NOTE
Found the following hidden files and directories:
.devcontainer
These were most likely included in error. See section ‘Package
structure’ in the ‘Writing R Extensions’ manual.
* checking for portable file names ... OK
* checking for sufficient/correct file permissions ... OK
* checking whether package ‘psichomics’ can be installed ... OK
* used C++ compiler: ‘g++ (Ubuntu 11.4.0-1ubuntu1~22.04) 11.4.0’
* checking installed package size ... OK
* checking package directory ... OK
* checking ‘build’ directory ... OK
* checking DESCRIPTION meta-information ... OK
* checking top-level files ... OK
* checking for left-over files ... OK
* checking index information ... OK
* checking package subdirectories ... OK
* checking code files for non-ASCII characters ... OK
* checking R files for syntax errors ... OK
* checking whether the package can be loaded ... OK
* checking whether the package can be loaded with stated dependencies ... OK
* checking whether the package can be unloaded cleanly ... OK
* checking whether the namespace can be loaded with stated dependencies ... OK
* checking whether the namespace can be unloaded cleanly ... OK
* checking loading without being on the library search path ... OK
* checking whether startup messages can be suppressed ... OK
* checking dependencies in R code ... OK
* checking S3 generic/method consistency ... OK
* checking replacement functions ... OK
* checking foreign function calls ... OK
* checking R code for possible problems ... OK
* checking Rd files ... OK
* checking Rd metadata ... OK
* checking Rd cross-references ... OK
* checking for missing documentation entries ... OK
* checking for code/documentation mismatches ... OK
* checking Rd \usage sections ... NOTE
Documented arguments not in \usage in Rd file 'createSparklines.Rd':
‘id’
Documented arguments not in \usage in Rd file 'renderGeneticInfo.Rd':
‘ns’
Functions with \usage entries need to have the appropriate \alias
entries, and all their arguments documented.
The \usage entries must correspond to syntactically valid R code.
See chapter ‘Writing R documentation files’ in the ‘Writing R
Extensions’ manual.
* checking Rd contents ... OK
* checking for unstated dependencies in examples ... OK
* checking line endings in C/C++/Fortran sources/headers ... OK
* checking compiled code ... NOTE
Note: information on .o files is not available
* checking files in ‘vignettes’ ... OK
* checking examples ... OK
Examples with CPU (user + system) or elapsed time > 5s
user system elapsed
convertGeneIdentifiers 14.244 1.501 17.429
listSplicingAnnotations 11.465 1.300 14.451
* checking for unstated dependencies in ‘tests’ ... OK
* checking tests ...
Running ‘spelling.R’
Running ‘testthat.R’
OK
* checking for unstated dependencies in vignettes ... OK
* checking package vignettes ... OK
* checking re-building of vignette outputs ... OK
* checking PDF version of manual ... OK
* DONE
Status: 3 NOTEs
See
‘/home/biocbuild/bbs-3.19-bioc/meat/psichomics.Rcheck/00check.log’
for details.
psichomics.Rcheck/00install.out
############################################################################## ############################################################################## ### ### Running command: ### ### /home/biocbuild/bbs-3.19-bioc/R/bin/R CMD INSTALL psichomics ### ############################################################################## ############################################################################## * installing to library ‘/home/biocbuild/bbs-3.19-bioc/R/site-library’ * installing *source* package ‘psichomics’ ... ** using staged installation ** libs using C++ compiler: ‘g++ (Ubuntu 11.4.0-1ubuntu1~22.04) 11.4.0’ g++ -std=gnu++17 -I"/home/biocbuild/bbs-3.19-bioc/R/include" -DNDEBUG -I'/home/biocbuild/bbs-3.19-bioc/R/site-library/Rcpp/include' -I/usr/local/include -fpic -g -O2 -Wall -c RcppExports.cpp -o RcppExports.o g++ -std=gnu++17 -I"/home/biocbuild/bbs-3.19-bioc/R/include" -DNDEBUG -I'/home/biocbuild/bbs-3.19-bioc/R/site-library/Rcpp/include' -I/usr/local/include -fpic -g -O2 -Wall -c progressBar.cpp -o progressBar.o g++ -std=gnu++17 -I"/home/biocbuild/bbs-3.19-bioc/R/include" -DNDEBUG -I'/home/biocbuild/bbs-3.19-bioc/R/site-library/Rcpp/include' -I/usr/local/include -fpic -g -O2 -Wall -c psiFastCalc.cpp -o psiFastCalc.o g++ -std=gnu++17 -I"/home/biocbuild/bbs-3.19-bioc/R/include" -DNDEBUG -I'/home/biocbuild/bbs-3.19-bioc/R/site-library/Rcpp/include' -I/usr/local/include -fpic -g -O2 -Wall -c vastToolsParser.cpp -o vastToolsParser.o g++ -std=gnu++17 -shared -L/home/biocbuild/bbs-3.19-bioc/R/lib -L/usr/local/lib -o psichomics.so RcppExports.o progressBar.o psiFastCalc.o vastToolsParser.o -L/home/biocbuild/bbs-3.19-bioc/R/lib -lR installing to /home/biocbuild/bbs-3.19-bioc/R/site-library/00LOCK-psichomics/00new/psichomics/libs ** R ** inst ** byte-compile and prepare package for lazy loading Creating a generic function for ‘colSums’ from package ‘base’ in package ‘psichomics’ ** help *** installing help indices *** copying figures ** building package indices ** installing vignettes ** testing if installed package can be loaded from temporary location ** checking absolute paths in shared objects and dynamic libraries ** testing if installed package can be loaded from final location ** testing if installed package keeps a record of temporary installation path * DONE (psichomics)
psichomics.Rcheck/tests/spelling.Rout
R version 4.4.1 (2024-06-14) -- "Race for Your Life"
Copyright (C) 2024 The R Foundation for Statistical Computing
Platform: x86_64-pc-linux-gnu
R is free software and comes with ABSOLUTELY NO WARRANTY.
You are welcome to redistribute it under certain conditions.
Type 'license()' or 'licence()' for distribution details.
R is a collaborative project with many contributors.
Type 'contributors()' for more information and
'citation()' on how to cite R or R packages in publications.
Type 'demo()' for some demos, 'help()' for on-line help, or
'help.start()' for an HTML browser interface to help.
Type 'q()' to quit R.
> if(requireNamespace('spelling', quietly = TRUE))
+ spelling::spell_check_test(vignettes = TRUE, error = FALSE,
+ skip_on_cran = TRUE)
NULL
>
> proc.time()
user system elapsed
0.156 0.040 0.186
psichomics.Rcheck/tests/testthat.Rout
R version 4.4.1 (2024-06-14) -- "Race for Your Life"
Copyright (C) 2024 The R Foundation for Statistical Computing
Platform: x86_64-pc-linux-gnu
R is free software and comes with ABSOLUTELY NO WARRANTY.
You are welcome to redistribute it under certain conditions.
Type 'license()' or 'licence()' for distribution details.
R is a collaborative project with many contributors.
Type 'contributors()' for more information and
'citation()' on how to cite R or R packages in publications.
Type 'demo()' for some demos, 'help()' for on-line help, or
'help.start()' for an HTML browser interface to help.
Type 'q()' to quit R.
> library(testthat)
> library(psichomics)
Loading required package: shiny
Loading required package: shinyBS
Setting options('download.file.method.GEOquery'='auto')
Setting options('GEOquery.inmemory.gpl'=FALSE)
psichomics 1.30.0: start the visual interface by running psichomics()
Full documentation and tutorials at https://nuno-agostinho.github.io/psichomics
>
> test_check("psichomics")
| | 0%
|======== | 20%
|================ | 40%
|======================== | 60%
|================================ | 80%
|========================================| 100%
| | 0%
|======== | 20%
|================ | 40%
|======================== | 60%
|================================ | 80%
|========================================| 100%
| | 0%
|======== | 20%
|================ | 40%
|======================== | 60%
|================================ | 80%
|========================================| 100%
| | 0%
|======== | 20%
|================ | 40%
|======================== | 60%
|================================ | 80%
|========================================| 100%
Retrieving rMATS annotation...
Parsing rMATS annotation...
Retrieving rMATS annotation...
Parsing rMATS annotation...
Retrieving MISO annotation...
Parsing MISO annotation...
| | 0%
|======== | 20%
|================ | 40%
|======================== | 60%
|================================ | 80%
|========================================| 100%
| | 0%
|======== | 20%
|================ | 40%
|======================== | 60%
|================================ | 80%
|========================================| 100%
| | 0%
|======== | 20%
|================ | 40%
|======================== | 60%
|================================ | 80%
|========================================| 100%
| | 0%
|======== | 20%
|================ | 40%
|======================== | 60%
|================================ | 80%
|========================================| 100%
| | 0%
|======== | 20%
|================ | 40%
|======================== | 60%
|================================ | 80%
|========================================| 100%
| | 0%
|======== | 20%
|================ | 40%
|======================== | 60%
|================================ | 80%
|========================================| 100%
| | 0%
|======== | 20%
|================ | 40%
|======================== | 60%
|================================ | 80%
|========================================| 100%
| | 0%
|======== | 20%
|================ | 40%
|======================== | 60%
|================================ | 80%
|========================================| 100%
Retrieving SUPPA annotation...
Parsing SUPPA annotation...
Retrieving VAST-TOOLS annotation...
Parsing VAST-TOOLS annotation...
ALT3
ALT5
COMBI
EXSK
IR
MERGE3m
MIC
MULTI
[ FAIL 0 | WARN 0 | SKIP 4 | PASS 1418 ]
══ Skipped tests (4) ═══════════════════════════════════════════════════════════
• Couldn't resolve host name (1): 'testGeneInfo.R:99:5'
• On Bioconductor (2): 'testDiscardLowCoveragePSIs.R:62:5',
'testGeneInfo.R:50:5'
• On CRAN (1): 'testSRAloading.R:4:5'
[ FAIL 0 | WARN 0 | SKIP 4 | PASS 1418 ]
>
> proc.time()
user system elapsed
22.411 1.203 25.937
psichomics.Rcheck/psichomics-Ex.timings
| name | user | system | elapsed | |
| addObjectAttrs | 0.000 | 0.000 | 0.001 | |
| assignValuePerSubject | 0.023 | 0.000 | 0.024 | |
| blendColours | 0.001 | 0.000 | 0.001 | |
| calculateLoadingsContribution | 0.008 | 0.003 | 0.011 | |
| convertGeneIdentifiers | 14.244 | 1.501 | 17.429 | |
| correlateGEandAS | 0.019 | 0.000 | 0.018 | |
| createGroupByAttribute | 0.001 | 0.000 | 0.001 | |
| createJunctionsTemplate | 0.002 | 0.000 | 0.001 | |
| customRowMeans | 0.001 | 0.000 | 0.001 | |
| diffAnalyses | 0.066 | 0.004 | 0.070 | |
| downloadFiles | 0.000 | 0.000 | 0.001 | |
| ensemblToUniprot | 0.032 | 0.000 | 1.530 | |
| filterGeneExpr | 0.015 | 0.000 | 0.015 | |
| filterGroups | 0.003 | 0.000 | 0.003 | |
| filterPSI | 0.019 | 0.007 | 0.027 | |
| getAttributesTime | 0.003 | 0.000 | 0.003 | |
| getDownloadsFolder | 0.001 | 0.000 | 0.001 | |
| getFirebrowseDateFormat | 0.001 | 0.001 | 0.001 | |
| getGeneList | 0.001 | 0.003 | 0.004 | |
| getGtexDataTypes | 0.001 | 0.000 | 0.001 | |
| getGtexTissues | 0.000 | 0.000 | 0.001 | |
| getNumerics | 0.000 | 0.002 | 0.003 | |
| getSampleFromSubject | 0.001 | 0.001 | 0.002 | |
| getSplicingEventFromGenes | 0.005 | 0.000 | 0.005 | |
| getSplicingEventTypes | 0.001 | 0.000 | 0.001 | |
| getSubjectFromSample | 0.001 | 0.001 | 0.000 | |
| getTCGAdataTypes | 0.030 | 0.003 | 0.173 | |
| getValidEvents | 0.004 | 0.001 | 0.003 | |
| groupPerElem | 0.001 | 0.000 | 0.001 | |
| hchart.survfit | 0.217 | 0.028 | 0.260 | |
| isFirebrowseUp | 0.005 | 0.000 | 0.015 | |
| labelBasedOnCutoff | 0.001 | 0.000 | 0.001 | |
| leveneTest | 0.000 | 0.007 | 0.007 | |
| listAllAnnotations | 2.433 | 0.312 | 2.929 | |
| listSplicingAnnotations | 11.465 | 1.300 | 14.451 | |
| loadAnnotation | 2.908 | 0.336 | 3.750 | |
| loadGtexData | 0 | 0 | 0 | |
| loadLocalFiles | 0 | 0 | 0 | |
| loadSRAproject | 0.000 | 0.000 | 0.001 | |
| loadTCGAdata | 0.009 | 0.002 | 0.029 | |
| missingDataModal | 0 | 0 | 0 | |
| normaliseGeneExpression | 0.025 | 0.000 | 0.024 | |
| optimalSurvivalCutoff | 0.087 | 0.000 | 0.087 | |
| parseCategoricalGroups | 0.000 | 0.001 | 0.001 | |
| parseFirebrowseMetadata | 0.045 | 0.002 | 0.116 | |
| parseMatsEvent | 0.005 | 0.000 | 0.004 | |
| parseMatsGeneric | 0.014 | 0.003 | 0.017 | |
| parseMisoAnnotation | 0.105 | 0.009 | 0.118 | |
| parseMisoEvent | 0.000 | 0.003 | 0.004 | |
| parseMisoEventID | 0.006 | 0.000 | 0.006 | |
| parseMisoGeneric | 0.028 | 0.000 | 0.029 | |
| parseMisoId | 0 | 0 | 0 | |
| parseSplicingEvent | 0.005 | 0.000 | 0.005 | |
| parseSuppaEvent | 0.004 | 0.000 | 0.003 | |
| parseSuppaGeneric | 0.017 | 0.000 | 0.017 | |
| parseTcgaSampleInfo | 0.004 | 0.000 | 0.005 | |
| parseUrlsFromFirebrowseResponse | 0.030 | 0.000 | 0.098 | |
| parseVastToolsEvent | 0.006 | 0.000 | 0.005 | |
| parseVastToolsSE | 0.017 | 0.000 | 0.017 | |
| performICA | 0.006 | 0.003 | 0.009 | |
| performPCA | 0.002 | 0.000 | 0.002 | |
| plot.GEandAScorrelation | 0.502 | 0.036 | 0.537 | |
| plotDistribution | 0.581 | 0.016 | 0.597 | |
| plotGeneExprPerSample | 0.079 | 0.004 | 0.083 | |
| plotGroupIndependence | 0.166 | 0.000 | 0.166 | |
| plotICA | 0.101 | 0.004 | 0.106 | |
| plotLibrarySize | 0.156 | 0.008 | 0.164 | |
| plotPCA | 0.219 | 0.020 | 0.239 | |
| plotPCAvariance | 0.046 | 0.004 | 0.049 | |
| plotProtein | 0.625 | 0.015 | 1.717 | |
| plotRowStats | 0.418 | 0.004 | 0.421 | |
| plotSingleICA | 0.156 | 0.036 | 0.192 | |
| plotSplicingEvent | 0.035 | 0.004 | 0.039 | |
| plotSurvivalCurves | 0.073 | 0.004 | 0.077 | |
| plotSurvivalPvaluesByCutoff | 0.362 | 0.008 | 0.371 | |
| plotTranscripts | 0.024 | 0.000 | 0.967 | |
| prepareAnnotationFromEvents | 0.196 | 0.001 | 0.196 | |
| prepareFirebrowseArchives | 0 | 0 | 0 | |
| prepareJunctionQuantSTAR | 0 | 0 | 0 | |
| prepareSRAmetadata | 0 | 0 | 0 | |
| processSurvTerms | 0.006 | 0.002 | 0.009 | |
| psichomics | 0 | 0 | 0 | |
| quantifySplicing | 0.012 | 0.000 | 0.012 | |
| queryEnsembl | 0.033 | 0.000 | 0.536 | |
| queryEnsemblByGene | 0.144 | 0.024 | 3.594 | |
| queryFirebrowseData | 0.055 | 0.001 | 0.179 | |
| queryPubMed | 0.100 | 0.000 | 2.495 | |
| queryUniprot | 0.070 | 0.000 | 0.524 | |
| readFile | 0.000 | 0.002 | 0.003 | |
| renameDuplicated | 0.001 | 0.000 | 0.001 | |
| renderBoxplot | 0.069 | 0.008 | 0.077 | |
| survdiffTerms | 0.006 | 0.000 | 0.006 | |
| survfit.survTerms | 0.020 | 0.000 | 0.021 | |
| testGroupIndependence | 0.003 | 0.000 | 0.003 | |
| testSurvival | 0.015 | 0.004 | 0.019 | |
| textSuggestions | 0 | 0 | 0 | |
| trimWhitespace | 0 | 0 | 0 | |