| Back to Multiple platform build/check report for BioC 3.19: simplified long |
|
This page was generated on 2024-06-28 17:40 -0400 (Fri, 28 Jun 2024).
| Hostname | OS | Arch (*) | R version | Installed pkgs |
|---|---|---|---|---|
| nebbiolo1 | Linux (Ubuntu 22.04.3 LTS) | x86_64 | 4.4.0 (2024-04-24) -- "Puppy Cup" | 4760 |
| palomino3 | Windows Server 2022 Datacenter | x64 | 4.4.0 (2024-04-24 ucrt) -- "Puppy Cup" | 4494 |
| merida1 | macOS 12.7.4 Monterey | x86_64 | 4.4.0 (2024-04-24) -- "Puppy Cup" | 4508 |
| kjohnson1 | macOS 13.6.6 Ventura | arm64 | 4.4.0 (2024-04-24) -- "Puppy Cup" | 4466 |
| palomino7 | Windows Server 2022 Datacenter | x64 | 4.4.1 (2024-06-14 ucrt) -- "Race for Your Life" | 4362 |
| Click on any hostname to see more info about the system (e.g. compilers) (*) as reported by 'uname -p', except on Windows and Mac OS X | ||||
| Package 1527/2300 | Hostname | OS / Arch | INSTALL | BUILD | CHECK | BUILD BIN | ||||||||
| paxtoolsr 1.38.0 (landing page) Augustin Luna
| nebbiolo1 | Linux (Ubuntu 22.04.3 LTS) / x86_64 | OK | OK | OK | |||||||||
| palomino3 | Windows Server 2022 Datacenter / x64 | OK | OK | ERROR | OK | |||||||||
| merida1 | macOS 12.7.4 Monterey / x86_64 | OK | OK | ERROR | OK | |||||||||
| kjohnson1 | macOS 13.6.6 Ventura / arm64 | OK | OK | ERROR | OK | |||||||||
| palomino7 | Windows Server 2022 Datacenter / x64 | OK | OK | ERROR | OK | |||||||||
|
To the developers/maintainers of the paxtoolsr package: - Allow up to 24 hours (and sometimes 48 hours) for your latest push to git@git.bioconductor.org:packages/paxtoolsr.git to reflect on this report. See Troubleshooting Build Report for more information. - Use the following Renviron settings to reproduce errors and warnings. - If 'R CMD check' started to fail recently on the Linux builder(s) over a missing dependency, add the missing dependency to 'Suggests:' in your DESCRIPTION file. See Renviron.bioc for more information. |
| Package: paxtoolsr |
| Version: 1.38.0 |
| Command: /home/biocbuild/bbs-3.19-bioc/R/bin/R CMD check --install=check:paxtoolsr.install-out.txt --library=/home/biocbuild/bbs-3.19-bioc/R/site-library --timings paxtoolsr_1.38.0.tar.gz |
| StartedAt: 2024-06-27 02:17:45 -0400 (Thu, 27 Jun 2024) |
| EndedAt: 2024-06-27 02:20:33 -0400 (Thu, 27 Jun 2024) |
| EllapsedTime: 168.3 seconds |
| RetCode: 0 |
| Status: OK |
| CheckDir: paxtoolsr.Rcheck |
| Warnings: 0 |
##############################################################################
##############################################################################
###
### Running command:
###
### /home/biocbuild/bbs-3.19-bioc/R/bin/R CMD check --install=check:paxtoolsr.install-out.txt --library=/home/biocbuild/bbs-3.19-bioc/R/site-library --timings paxtoolsr_1.38.0.tar.gz
###
##############################################################################
##############################################################################
* using log directory ‘/home/biocbuild/bbs-3.19-bioc/meat/paxtoolsr.Rcheck’
* using R version 4.4.0 (2024-04-24)
* using platform: x86_64-pc-linux-gnu
* R was compiled by
gcc (Ubuntu 11.4.0-1ubuntu1~22.04) 11.4.0
GNU Fortran (Ubuntu 11.4.0-1ubuntu1~22.04) 11.4.0
* running under: Ubuntu 22.04.4 LTS
* using session charset: UTF-8
* checking for file ‘paxtoolsr/DESCRIPTION’ ... OK
* checking extension type ... Package
* this is package ‘paxtoolsr’ version ‘1.38.0’
* package encoding: UTF-8
* checking package namespace information ... OK
* checking package dependencies ... OK
* checking if this is a source package ... OK
* checking if there is a namespace ... OK
* checking for hidden files and directories ... OK
* checking for portable file names ... OK
* checking for sufficient/correct file permissions ... OK
* checking whether package ‘paxtoolsr’ can be installed ... OK
* checking installed package size ... NOTE
installed size is 26.8Mb
sub-directories of 1Mb or more:
extdata 3.0Mb
java 23.5Mb
* checking package directory ... OK
* checking ‘build’ directory ... OK
* checking DESCRIPTION meta-information ... OK
* checking top-level files ... OK
* checking for left-over files ... OK
* checking index information ... OK
* checking package subdirectories ... OK
* checking code files for non-ASCII characters ... OK
* checking R files for syntax errors ... OK
* checking whether the package can be loaded ... OK
* checking whether the package can be loaded with stated dependencies ... OK
* checking whether the package can be unloaded cleanly ... OK
* checking whether the namespace can be loaded with stated dependencies ... OK
* checking whether the namespace can be unloaded cleanly ... OK
* checking loading without being on the library search path ... OK
* checking whether startup messages can be suppressed ... OK
* checking dependencies in R code ... OK
* checking S3 generic/method consistency ... OK
* checking replacement functions ... OK
* checking foreign function calls ... OK
* checking R code for possible problems ... NOTE
splitSifnxByPathway: no visible global function definition for
‘%dopar%’
Undefined global functions or variables:
%dopar%
* checking Rd files ... OK
* checking Rd metadata ... OK
* checking Rd cross-references ... OK
* checking for missing documentation entries ... OK
* checking for code/documentation mismatches ... OK
* checking Rd \usage sections ... OK
* checking Rd contents ... OK
* checking for unstated dependencies in examples ... OK
* checking files in ‘vignettes’ ... OK
* checking examples ... OK
Examples with CPU (user + system) or elapsed time > 5s
user system elapsed
readPcPathwaysInfo 34.742 0.763 35.435
* checking for unstated dependencies in ‘tests’ ... OK
* checking tests ...
Running ‘testthat.R’
OK
* checking for unstated dependencies in vignettes ... OK
* checking package vignettes ... OK
* checking re-building of vignette outputs ... OK
* checking PDF version of manual ... OK
* DONE
Status: 2 NOTEs
See
‘/home/biocbuild/bbs-3.19-bioc/meat/paxtoolsr.Rcheck/00check.log’
for details.
paxtoolsr.Rcheck/00install.out
############################################################################## ############################################################################## ### ### Running command: ### ### /home/biocbuild/bbs-3.19-bioc/R/bin/R CMD INSTALL paxtoolsr ### ############################################################################## ############################################################################## * installing to library ‘/home/biocbuild/bbs-3.19-bioc/R/site-library’ * installing *source* package ‘paxtoolsr’ ... ** using staged installation ** R ** inst ** byte-compile and prepare package for lazy loading ** help *** installing help indices ** building package indices ** installing vignettes ** testing if installed package can be loaded from temporary location ** testing if installed package can be loaded from final location ** testing if installed package keeps a record of temporary installation path * DONE (paxtoolsr)
paxtoolsr.Rcheck/tests/testthat.Rout
R version 4.4.0 (2024-04-24) -- "Puppy Cup"
Copyright (C) 2024 The R Foundation for Statistical Computing
Platform: x86_64-pc-linux-gnu
R is free software and comes with ABSOLUTELY NO WARRANTY.
You are welcome to redistribute it under certain conditions.
Type 'license()' or 'licence()' for distribution details.
R is a collaborative project with many contributors.
Type 'contributors()' for more information and
'citation()' on how to cite R or R packages in publications.
Type 'demo()' for some demos, 'help()' for on-line help, or
'help.start()' for an HTML browser interface to help.
Type 'q()' to quit R.
> library(testthat)
> library(paxtoolsr)
Loading required package: rJava
Loading required package: XML
Consider citing this package: Luna A, et al. PaxtoolsR: pathway analysis in R using Pathway Commons. PMID: 26685306; citation("paxtoolsr")
>
> test_check("paxtoolsr")
URL: http://www.pathwaycommons.org/pc2/get?uri=http%3A%2F%2Fidentifiers.org%2Funiprot%2FQ06609&uri=http%3A%2F%2Fidentifiers.org%2Funiprot%2FQ96EB6&format=BIOPAX
2024-06-27 02:19:33,142 360 [main] INFO org.biopax.paxtools.PaxtoolsMain - Collecting proteins for a pathway, the converter will also consider its sub-pathways, their sub-pathways, etc.
2024-06-27 02:19:33,152 370 [pool-1-thread-1] INFO org.biopax.paxtools.io.gsea.GSEAConverter - Begin converting Glycolysis Pathway pathway, uri=http://www.biopax.org/examples/myExamplePathway50
2024-06-27 02:19:33,158 376 [pool-1-thread-1] INFO org.biopax.paxtools.io.gsea.GSEAConverter - - fetched PRs: 2
2024-06-27 02:19:33,158 376 [pool-1-thread-1] INFO org.biopax.paxtools.io.gsea.GSEAConverter - - grouping the PRs by organism...
2024-06-27 02:19:33,165 383 [pool-1-thread-1] INFO org.biopax.paxtools.io.gsea.GSEAConverter - - creating GSEA/GMT entries...
2024-06-27 02:19:33,167 385 [pool-2-thread-1] INFO org.biopax.paxtools.io.gsea.GSEAConverter - adding uniprot IDs of proteins (PRs) from 'Glycolysis Pathway', amaze;kegg pathway...
2024-06-27 02:19:33,168 386 [pool-1-thread-1] INFO org.biopax.paxtools.io.gsea.GSEAConverter - - collected 1entries.
2024-06-27 02:19:33,169 387 [main] INFO org.biopax.paxtools.io.gsea.GSEAConverter - Creating entries for the rest fo (unused) PRs...
2024-06-27 02:19:33,603 821 [main] INFO org.biopax.paxtools.client.BiopaxValidatorClient - BioPAX Validator location: http://biopax.baderlab.org/check.html
2024-06-27 02:19:35,014 2232 [main] INFO org.biopax.paxtools.client.BiopaxValidatorClient - BioPAX Validator location: http://biopax.baderlab.org/check.html
2024-06-27 02:19:36,139 3357 [main] INFO org.biopax.paxtools.PaxtoolsMain - Elements in the result model: 240
SBGN-PD Layout is running...
success ratio: 0.8571428571428571
enhanced ratio: 0.8571428571428571
Total execution time: 58 miliseconds.
WARNING: An illegal reflective access operation has occurred
WARNING: Illegal reflective access by com.sun.xml.bind.v2.runtime.reflect.opt.Injector$1 (file:/home/biocbuild/bbs-3.19-bioc/R/site-library/paxtoolsr/java/paxtools-4.3.1.jar) to method java.lang.ClassLoader.defineClass(java.lang.String,byte[],int,int)
WARNING: Please consider reporting this to the maintainers of com.sun.xml.bind.v2.runtime.reflect.opt.Injector$1
WARNING: Use --illegal-access=warn to enable warnings of further illegal reflective access operations
WARNING: All illegal access operations will be denied in a future release
2024-06-27 02:19:36,575 3793 [main] INFO org.biopax.paxtools.PaxtoolsMain - toSifnx: not blacklisting ubiquitous molecules (no blacklist.txt found)
2024-06-27 02:19:37,101 4319 [main] INFO org.biopax.paxtools.PaxtoolsMain - toSif: not blacklisting ubiquitous molecules (no blacklist.txt found)
2024-06-27 02:19:37,507 4725 [main] INFO org.biopax.paxtools.PaxtoolsMain - toSif: not blacklisting ubiquitous molecules (no blacklist.txt found)
[ FAIL 0 | WARN 1 | SKIP 10 | PASS 40 ]
══ Skipped tests (10) ══════════════════════════════════════════════════════════
• On Bioconductor (7): 'test_pathwayCommons.R:38:5',
'test_pathwayCommons.R:63:5', 'test_pathwayCommons.R:77:5',
'test_pathwayCommons.R:131:5', 'test_pathwayCommons.R:169:5',
'test_pathwayCommons.R:185:5', 'test_pathwayCommons.R:260:5'
• empty test (3): 'test_pathwayCommons.R:266:1', 'test_pathwayCommons.R:285:1',
'test_pathwayCommons.R:286:1'
[ FAIL 0 | WARN 1 | SKIP 10 | PASS 40 ]
>
> proc.time()
user system elapsed
18.501 0.830 14.876
paxtoolsr.Rcheck/paxtoolsr-Ex.timings
| name | user | system | elapsed | |
| addAttributeList | 0.087 | 0.000 | 0.087 | |
| convertDataFrameListsToVectors | 0.001 | 0.000 | 0.001 | |
| convertSifToGmt | 0.197 | 0.010 | 0.223 | |
| downloadFile | 0.192 | 0.005 | 0.334 | |
| downloadPc2 | 0 | 0 | 0 | |
| downloadSignedPC | 0 | 0 | 0 | |
| fetch | 3.931 | 0.157 | 0.752 | |
| filterSif | 0.302 | 0.013 | 0.060 | |
| getCacheFiles | 0.000 | 0.000 | 0.001 | |
| getErrorMessage | 0.000 | 0.000 | 0.001 | |
| getNeighbors | 0.717 | 0.019 | 0.085 | |
| getPc | 0 | 0 | 0 | |
| getPcDatabaseNames | 0.372 | 0.000 | 0.578 | |
| getPcUrl | 0 | 0 | 0 | |
| getShortestPathSif | 0.046 | 0.000 | 0.047 | |
| getSifInteractionCategories | 0 | 0 | 0 | |
| graphPc | 0.000 | 0.000 | 0.001 | |
| integrateBiopax | 2.737 | 0.099 | 0.458 | |
| loadSifInIgraph | 0.018 | 0.000 | 0.010 | |
| mapValues | 0.001 | 0.004 | 0.000 | |
| mergeBiopax | 1.029 | 0.072 | 0.353 | |
| pcDirections | 0 | 0 | 0 | |
| pcFormats | 0 | 0 | 0 | |
| pcGraphQueries | 0.001 | 0.000 | 0.000 | |
| processPcRequest | 0.008 | 0.000 | 0.004 | |
| readBiopax | 0.005 | 0.000 | 0.002 | |
| readGmt | 0.031 | 0.000 | 0.016 | |
| readPcPathwaysInfo | 34.742 | 0.763 | 35.435 | |
| readSbgn | 0.002 | 0.000 | 0.002 | |
| readSif | 0.008 | 0.000 | 0.007 | |
| readSifnx | 0.015 | 0.000 | 0.015 | |
| searchListOfVectors | 0.000 | 0.001 | 0.002 | |
| searchPc | 0 | 0 | 0 | |
| summarize | 0.077 | 0.016 | 0.060 | |
| summarizeSif | 0.025 | 0.000 | 0.009 | |
| toCytoscape | 0.040 | 0.008 | 0.025 | |
| toGSEA | 0.113 | 0.012 | 0.036 | |
| toLevel3 | 0.156 | 0.016 | 0.049 | |
| toSBGN | 1.280 | 0.044 | 0.358 | |
| toSif | 2.661 | 0.184 | 0.472 | |
| toSifnx | 1.718 | 0.143 | 0.462 | |
| topPathways | 0 | 0 | 0 | |
| traverse | 0 | 0 | 0 | |
| validate | 2.364 | 0.039 | 2.055 | |