| Back to Multiple platform build/check report for BioC 3.19: simplified long | 
 | 
This page was generated on 2024-05-09 11:41:11 -0400 (Thu, 09 May 2024).
| Hostname | OS | Arch (*) | R version | Installed pkgs | 
|---|---|---|---|---|
| nebbiolo1 | Linux (Ubuntu 22.04.3 LTS) | x86_64 | 4.4.0 (2024-04-24) -- "Puppy Cup" | 4748 | 
| palomino3 | Windows Server 2022 Datacenter | x64 | 4.4.0 (2024-04-24 ucrt) -- "Puppy Cup" | 4484 | 
| lconway | macOS 12.7.1 Monterey | x86_64 | 4.4.0 (2024-04-24) -- "Puppy Cup" | 4514 | 
| kunpeng2 | Linux (openEuler 22.03 LTS-SP1) | aarch64 | 4.4.0 beta (2024-04-15 r86425) -- "Puppy Cup" | 4480 | 
| Click on any hostname to see more info about the system (e.g. compilers) (*) as reported by 'uname -p', except on Windows and Mac OS X | ||||
| Package 1429/2300 | Hostname | OS / Arch | INSTALL | BUILD | CHECK | BUILD BIN | ||||||||
| ngsReports 2.6.0  (landing page) Stevie Pederson 
 | nebbiolo1 | Linux (Ubuntu 22.04.3 LTS) / x86_64 | OK | OK | OK |  | ||||||||
| palomino3 | Windows Server 2022 Datacenter / x64 | OK | OK | OK | OK |  | ||||||||
| lconway | macOS 12.7.1 Monterey / x86_64 | OK | OK | OK | OK |  | ||||||||
| kunpeng2 | Linux (openEuler 22.03 LTS-SP1) / aarch64 | OK | OK | OK | ||||||||||
| kjohnson3 | macOS 13.6.5 Ventura / arm64 | see weekly results here | ||||||||||||
| To the developers/maintainers of the ngsReports package: - Allow up to 24 hours (and sometimes 48 hours) for your latest push to git@git.bioconductor.org:packages/ngsReports.git to reflect on this report. See Troubleshooting Build Report for more information. - Use the following Renviron settings to reproduce errors and warnings. - If 'R CMD check' started to fail recently on the Linux builder(s) over a missing dependency, add the missing dependency to 'Suggests:' in your DESCRIPTION file. See Renviron.bioc for more information. - See Martin Grigorov's blog post for how to debug Linux ARM64 related issues on a x86_64 host. | 
| Package: ngsReports | 
| Version: 2.6.0 | 
| Command: /home/biocbuild/R/R-beta-2024-04-15_r86425/bin/R CMD check --install=check:ngsReports.install-out.txt --library=/home/biocbuild/R/R-beta-2024-04-15_r86425/site-library --no-vignettes --timings ngsReports_2.6.0.tar.gz | 
| StartedAt: 2024-05-09 10:04:54 -0000 (Thu, 09 May 2024) | 
| EndedAt: 2024-05-09 10:09:03 -0000 (Thu, 09 May 2024) | 
| EllapsedTime: 248.4 seconds | 
| RetCode: 0 | 
| Status: OK | 
| CheckDir: ngsReports.Rcheck | 
| Warnings: 0 | 
##############################################################################
##############################################################################
###
### Running command:
###
###   /home/biocbuild/R/R-beta-2024-04-15_r86425/bin/R CMD check --install=check:ngsReports.install-out.txt --library=/home/biocbuild/R/R-beta-2024-04-15_r86425/site-library --no-vignettes --timings ngsReports_2.6.0.tar.gz
###
##############################################################################
##############################################################################
* using log directory ‘/home/biocbuild/bbs-3.19-bioc/meat/ngsReports.Rcheck’
* using R version 4.4.0 beta (2024-04-15 r86425)
* using platform: aarch64-unknown-linux-gnu
* R was compiled by
    gcc (GCC) 10.3.1
    GNU Fortran (GCC) 10.3.1
* running under: openEuler 22.03 (LTS-SP1)
* using session charset: UTF-8
* using option ‘--no-vignettes’
* checking for file ‘ngsReports/DESCRIPTION’ ... OK
* this is package ‘ngsReports’ version ‘2.6.0’
* package encoding: UTF-8
* checking package namespace information ... OK
* checking package dependencies ... OK
* checking if this is a source package ... OK
* checking if there is a namespace ... OK
* checking for hidden files and directories ... OK
* checking for portable file names ... OK
* checking for sufficient/correct file permissions ... OK
* checking whether package ‘ngsReports’ can be installed ... OK
* checking installed package size ... OK
* checking package directory ... OK
* checking ‘build’ directory ... OK
* checking DESCRIPTION meta-information ... OK
* checking top-level files ... OK
* checking for left-over files ... OK
* checking index information ... OK
* checking package subdirectories ... OK
* checking code files for non-ASCII characters ... OK
* checking R files for syntax errors ... OK
* checking whether the package can be loaded ... OK
* checking whether the package can be loaded with stated dependencies ... OK
* checking whether the package can be unloaded cleanly ... OK
* checking whether the namespace can be loaded with stated dependencies ... OK
* checking whether the namespace can be unloaded cleanly ... OK
* checking loading without being on the library search path ... OK
* checking dependencies in R code ... OK
* checking S3 generic/method consistency ... OK
* checking replacement functions ... OK
* checking foreign function calls ... OK
* checking R code for possible problems ... OK
* checking Rd files ... OK
* checking Rd metadata ... OK
* checking Rd cross-references ... OK
* checking for missing documentation entries ... OK
* checking for code/documentation mismatches ... OK
* checking Rd \usage sections ... OK
* checking Rd contents ... OK
* checking for unstated dependencies in examples ... OK
* checking contents of ‘data’ directory ... OK
* checking data for non-ASCII characters ... OK
* checking LazyData ... OK
* checking data for ASCII and uncompressed saves ... OK
* checking files in ‘vignettes’ ... OK
* checking examples ... OK
* checking for unstated dependencies in ‘tests’ ... OK
* checking tests ...
  Running ‘testthat.R’
 OK
* checking for unstated dependencies in vignettes ... OK
* checking package vignettes ... OK
* checking running R code from vignettes ... SKIPPED
* checking re-building of vignette outputs ... SKIPPED
* checking PDF version of manual ... OK
* DONE
Status: OK
ngsReports.Rcheck/00install.out
############################################################################## ############################################################################## ### ### Running command: ### ### /home/biocbuild/R/R-beta-2024-04-15_r86425/bin/R CMD INSTALL ngsReports ### ############################################################################## ############################################################################## * installing to library ‘/home/biocbuild/R/R-beta-2024-04-15_r86425/site-library’ * installing *source* package ‘ngsReports’ ... ** using staged installation ** R ** data *** moving datasets to lazyload DB ** inst ** byte-compile and prepare package for lazy loading ** help *** installing help indices *** copying figures ** building package indices ** installing vignettes ** testing if installed package can be loaded from temporary location ** testing if installed package can be loaded from final location ** testing if installed package keeps a record of temporary installation path * DONE (ngsReports)
ngsReports.Rcheck/tests/testthat.Rout
R version 4.4.0 beta (2024-04-15 r86425) -- "Puppy Cup"
Copyright (C) 2024 The R Foundation for Statistical Computing
Platform: aarch64-unknown-linux-gnu
R is free software and comes with ABSOLUTELY NO WARRANTY.
You are welcome to redistribute it under certain conditions.
Type 'license()' or 'licence()' for distribution details.
R is a collaborative project with many contributors.
Type 'contributors()' for more information and
'citation()' on how to cite R or R packages in publications.
Type 'demo()' for some demos, 'help()' for on-line help, or
'help.start()' for an HTML browser interface to help.
Type 'q()' to quit R.
> library(testthat)
> library(ngsReports)
Loading required package: BiocGenerics
Attaching package: 'BiocGenerics'
The following objects are masked from 'package:stats':
    IQR, mad, sd, var, xtabs
The following objects are masked from 'package:base':
    Filter, Find, Map, Position, Reduce, anyDuplicated, aperm, append,
    as.data.frame, basename, cbind, colnames, dirname, do.call,
    duplicated, eval, evalq, get, grep, grepl, intersect, is.unsorted,
    lapply, mapply, match, mget, order, paste, pmax, pmax.int, pmin,
    pmin.int, rank, rbind, rownames, sapply, setdiff, table, tapply,
    union, unique, unsplit, which.max, which.min
Loading required package: ggplot2
Loading required package: patchwork
Loading required package: tibble
> 
> test_check("ngsReports")
[ FAIL 0 | WARN 0 | SKIP 0 | PASS 387 ]
> 
> proc.time()
   user  system elapsed 
 67.995   1.085  69.314 
ngsReports.Rcheck/ngsReports-Ex.timings
| name | user | system | elapsed | |
| FastqcData | 0.109 | 0.004 | 0.160 | |
| FastqcDataList | 0.465 | 0.153 | 0.650 | |
| TheoreticalGC-class | 0.107 | 0.028 | 0.136 | |
| dot-FastqcFile-class | 0.003 | 0.000 | 0.003 | |
| dot-addPercent | 0.001 | 0.000 | 0.000 | |
| dot-emptyPlot | 0.206 | 0.076 | 0.282 | |
| dot-makeDendro | 0.615 | 0.028 | 0.646 | |
| dot-makeLabels | 0.001 | 0.000 | 0.001 | |
| dot-splitByTab | 0.004 | 0.000 | 0.005 | |
| estGcDistn | 0.028 | 0.000 | 0.028 | |
| extract-methods | 0.396 | 0.020 | 0.416 | |
| fqName-methods | 0.436 | 0.016 | 0.453 | |
| fqcVersion | 0.466 | 0.000 | 0.468 | |
| gcAvail | 0.028 | 0.000 | 0.028 | |
| gcTheoretical | 0.048 | 0.000 | 0.049 | |
| getColours-methods | 0.000 | 0.002 | 0.002 | |
| getGC | 0.023 | 0.000 | 0.023 | |
| getModule | 0.462 | 0.020 | 0.482 | |
| getSummary | 0.448 | 0.000 | 0.449 | |
| importNgsLogs | 0.028 | 0.000 | 0.030 | |
| importSJ | 0.008 | 0.000 | 0.009 | |
| isCompressed | 0.002 | 0.000 | 0.002 | |
| mData | 0.028 | 0.000 | 0.027 | |
| maxAdapterContent | 0.495 | 0.004 | 0.500 | |
| overRep2Fasta-methods | 0.583 | 0.036 | 0.620 | |
| path | 0.413 | 0.000 | 0.414 | |
| plotAdapterContent-methods | 3.341 | 0.008 | 3.358 | |
| plotAlignmentSummary | 0.778 | 0.100 | 0.880 | |
| plotAssemblyStats | 0.730 | 0.031 | 0.764 | |
| plotBaseQuals-methods | 1.909 | 0.060 | 1.972 | |
| plotDupLevels-methods | 1.310 | 0.012 | 1.324 | |
| plotFastqcPCA-methods | 0.731 | 0.016 | 0.749 | |
| plotGcContent-methods | 1.081 | 0.020 | 1.104 | |
| plotInsertSize-methods | 0.730 | 0.000 | 0.731 | |
| plotKmers-methods | 1.844 | 0.011 | 1.860 | |
| plotNContent-methods | 0.955 | 0.004 | 0.960 | |
| plotOverrep-methods | 0.941 | 0.004 | 0.946 | |
| plotReadTotals-methods | 0.923 | 0.004 | 0.929 | |
| plotSeqContent-methods | 4.490 | 0.024 | 4.524 | |
| plotSeqLengthDistn-methods | 1.443 | 0.012 | 1.459 | |
| plotSeqQuals-methods | 1.562 | 0.004 | 1.570 | |
| plotSummary-methods | 0.679 | 0.020 | 0.701 | |
| pwf | 0.006 | 0.000 | 0.005 | |
| readTotals | 0.483 | 0.020 | 0.504 | |
| summariseOverrep-methods | 0.795 | 0.012 | 0.809 | |
| writeHtmlReport | 0 | 0 | 0 | |