| Back to Multiple platform build/check report for BioC 3.19: simplified long | 
 | 
This page was generated on 2024-06-11 14:44 -0400 (Tue, 11 Jun 2024).
| Hostname | OS | Arch (*) | R version | Installed pkgs | 
|---|---|---|---|---|
| nebbiolo1 | Linux (Ubuntu 22.04.3 LTS) | x86_64 | 4.4.0 (2024-04-24) -- "Puppy Cup" | 4757 | 
| palomino3 | Windows Server 2022 Datacenter | x64 | 4.4.0 (2024-04-24 ucrt) -- "Puppy Cup" | 4491 | 
| lconway | macOS 12.7.1 Monterey | x86_64 | 4.4.0 (2024-04-24) -- "Puppy Cup" | 4522 | 
| kjohnson3 | macOS 13.6.5 Ventura | arm64 | 4.4.0 (2024-04-24) -- "Puppy Cup" | 4468 | 
| Click on any hostname to see more info about the system (e.g. compilers) (*) as reported by 'uname -p', except on Windows and Mac OS X | ||||
| Package 1257/2300 | Hostname | OS / Arch | INSTALL | BUILD | CHECK | BUILD BIN | ||||||||
| mia 1.12.0  (landing page) Tuomas Borman 
 | nebbiolo1 | Linux (Ubuntu 22.04.3 LTS) / x86_64 | OK | OK | OK |  | ||||||||
| palomino3 | Windows Server 2022 Datacenter / x64 | OK | OK | OK | OK |  | ||||||||
| lconway | macOS 12.7.1 Monterey / x86_64 | OK | OK | OK | OK |  | ||||||||
| kjohnson3 | macOS 13.6.5 Ventura / arm64 | OK | OK | OK | OK |  | ||||||||
| To the developers/maintainers of the mia package: - Allow up to 24 hours (and sometimes 48 hours) for your latest push to git@git.bioconductor.org:packages/mia.git to reflect on this report. See Troubleshooting Build Report for more information. - Use the following Renviron settings to reproduce errors and warnings. - If 'R CMD check' started to fail recently on the Linux builder(s) over a missing dependency, add the missing dependency to 'Suggests:' in your DESCRIPTION file. See Renviron.bioc for more information. | 
| Package: mia | 
| Version: 1.12.0 | 
| Command: /Library/Frameworks/R.framework/Resources/bin/R CMD check --install=check:mia.install-out.txt --library=/Library/Frameworks/R.framework/Resources/library --no-vignettes --timings mia_1.12.0.tar.gz | 
| StartedAt: 2024-06-10 21:48:54 -0400 (Mon, 10 Jun 2024) | 
| EndedAt: 2024-06-10 22:21:56 -0400 (Mon, 10 Jun 2024) | 
| EllapsedTime: 1982.8 seconds | 
| RetCode: 0 | 
| Status: OK | 
| CheckDir: mia.Rcheck | 
| Warnings: 0 | 
##############################################################################
##############################################################################
###
### Running command:
###
###   /Library/Frameworks/R.framework/Resources/bin/R CMD check --install=check:mia.install-out.txt --library=/Library/Frameworks/R.framework/Resources/library --no-vignettes --timings mia_1.12.0.tar.gz
###
##############################################################################
##############################################################################
* using log directory ‘/Users/biocbuild/bbs-3.19-bioc/meat/mia.Rcheck’
* using R version 4.4.0 (2024-04-24)
* using platform: aarch64-apple-darwin20
* R was compiled by
    Apple clang version 14.0.0 (clang-1400.0.29.202)
    GNU Fortran (GCC) 12.2.0
* running under: macOS Ventura 13.6.5
* using session charset: UTF-8
* using option ‘--no-vignettes’
* checking for file ‘mia/DESCRIPTION’ ... OK
* checking extension type ... Package
* this is package ‘mia’ version ‘1.12.0’
* package encoding: UTF-8
* checking package namespace information ... OK
* checking package dependencies ... OK
* checking if this is a source package ... OK
* checking if there is a namespace ... OK
* checking for hidden files and directories ... OK
* checking for portable file names ... OK
* checking for sufficient/correct file permissions ... OK
* checking whether package ‘mia’ can be installed ... OK
* checking installed package size ... OK
* checking package directory ... OK
* checking ‘build’ directory ... OK
* checking DESCRIPTION meta-information ... OK
* checking top-level files ... OK
* checking for left-over files ... OK
* checking index information ... OK
* checking package subdirectories ... OK
* checking code files for non-ASCII characters ... OK
* checking R files for syntax errors ... OK
* checking whether the package can be loaded ... OK
* checking whether the package can be loaded with stated dependencies ... OK
* checking whether the package can be unloaded cleanly ... OK
* checking whether the namespace can be loaded with stated dependencies ... OK
* checking whether the namespace can be unloaded cleanly ... OK
* checking dependencies in R code ... OK
* checking S3 generic/method consistency ... OK
* checking replacement functions ... OK
* checking foreign function calls ... OK
* checking R code for possible problems ... OK
* checking Rd files ... NOTE
checkRd: (-1) agglomerate-methods.Rd:73-75: Lost braces in \itemize; meant \describe ?
checkRd: (-1) agglomerate-methods.Rd:76-77: Lost braces in \itemize; meant \describe ?
checkRd: (-1) agglomerate-methods.Rd:78-80: Lost braces in \itemize; meant \describe ?
checkRd: (-1) agglomerate-methods.Rd:81-83: Lost braces in \itemize; meant \describe ?
checkRd: (-1) agglomerate-methods.Rd:84-86: Lost braces in \itemize; meant \describe ?
checkRd: (-1) estimateDiversity.Rd:94-96: Lost braces in \itemize; meant \describe ?
checkRd: (-1) estimateDiversity.Rd:97-100: Lost braces in \itemize; meant \describe ?
checkRd: (-1) estimateDiversity.Rd:101-103: Lost braces in \itemize; meant \describe ?
checkRd: (-1) estimateDiversity.Rd:104-107: Lost braces in \itemize; meant \describe ?
checkRd: (-1) estimateDiversity.Rd:149-151: Lost braces in \itemize; meant \describe ?
checkRd: (-1) estimateDiversity.Rd:153-162: Lost braces in \itemize; meant \describe ?
checkRd: (-1) estimateDiversity.Rd:164-165: Lost braces in \itemize; meant \describe ?
checkRd: (-1) estimateDiversity.Rd:167-176: Lost braces in \itemize; meant \describe ?
checkRd: (-1) estimateDiversity.Rd:178-183: Lost braces in \itemize; meant \describe ?
checkRd: (-1) estimateDiversity.Rd:185-192: Lost braces in \itemize; meant \describe ?
checkRd: (-1) estimateDiversity.Rd:194: Lost braces in \itemize; meant \describe ?
checkRd: (-1) estimateDominance.Rd:99-101: Lost braces in \itemize; meant \describe ?
checkRd: (-1) estimateDominance.Rd:103-112: Lost braces in \itemize; meant \describe ?
checkRd: (-1) estimateDominance.Rd:114-126: Lost braces in \itemize; meant \describe ?
checkRd: (-1) estimateDominance.Rd:128-137: Lost braces in \itemize; meant \describe ?
checkRd: (-1) estimateDominance.Rd:139-147: Lost braces in \itemize; meant \describe ?
checkRd: (-1) estimateDominance.Rd:149-158: Lost braces in \itemize; meant \describe ?
checkRd: (-1) estimateDominance.Rd:160-175: Lost braces in \itemize; meant \describe ?
checkRd: (-1) estimateEvenness.Rd:47-48: Lost braces in \itemize; meant \describe ?
checkRd: (-1) estimateEvenness.Rd:72: Lost braces in \itemize; meant \describe ?
checkRd: (-1) estimateEvenness.Rd:73-74: Lost braces in \itemize; meant \describe ?
checkRd: (-1) estimateEvenness.Rd:75-76: Lost braces in \itemize; meant \describe ?
checkRd: (-1) estimateEvenness.Rd:77: Lost braces in \itemize; meant \describe ?
checkRd: (-1) estimateEvenness.Rd:78: Lost braces in \itemize; meant \describe ?
checkRd: (-1) estimateRichness.Rd:87-104: Lost braces in \itemize; meant \describe ?
checkRd: (-1) estimateRichness.Rd:106-117: Lost braces in \itemize; meant \describe ?
checkRd: (-1) estimateRichness.Rd:119-126: Lost braces in \itemize; meant \describe ?
checkRd: (-1) estimateRichness.Rd:128-131: Lost braces in \itemize; meant \describe ?
checkRd: (-1) getExperimentCrossAssociation.Rd:66-70: Lost braces in \itemize; meant \describe ?
checkRd: (-1) getExperimentCrossAssociation.Rd:71-74: Lost braces in \itemize; meant \describe ?
checkRd: (-1) hierarchy-tree.Rd:28-30: Lost braces in \itemize; \value handles \item{}{} directly
checkRd: (-1) hierarchy-tree.Rd:31-32: Lost braces in \itemize; \value handles \item{}{} directly
checkRd: (-1) importHUMAnN.Rd:17-19: Lost braces in \itemize; meant \describe ?
checkRd: (-1) importHUMAnN.Rd:20-22: Lost braces in \itemize; meant \describe ?
checkRd: (-1) importHUMAnN.Rd:23-27: Lost braces in \itemize; meant \describe ?
checkRd: (-1) importMetaPhlAn.Rd:26-28: Lost braces in \itemize; meant \describe ?
checkRd: (-1) importMetaPhlAn.Rd:29-31: Lost braces in \itemize; meant \describe ?
checkRd: (-1) importMetaPhlAn.Rd:32-34: Lost braces in \itemize; meant \describe ?
checkRd: (-1) importMetaPhlAn.Rd:35-39: Lost braces in \itemize; meant \describe ?
checkRd: (-1) importMetaPhlAn.Rd:40-43: Lost braces in \itemize; meant \describe ?
checkRd: (-1) importQIIME2.Rd:47-48: Lost braces in \itemize; meant \describe ?
checkRd: (-1) importQIIME2.Rd:49-51: Lost braces in \itemize; meant \describe ?
checkRd: (-1) isContaminant.Rd:83-85: Lost braces in \itemize; meant \describe ?
checkRd: (-1) isContaminant.Rd:86-87: Lost braces in \itemize; meant \describe ?
checkRd: (-1) makeTreeSEFromBiom.Rd:26-28: Lost braces in \itemize; meant \describe ?
checkRd: (-1) meltAssay.Rd:67-70: Lost braces in \itemize; meant \describe ?
checkRd: (-1) taxonomy-methods.Rd:101-102: Lost braces in \itemize; meant \describe ?
checkRd: (-1) taxonomy-methods.Rd:116-117: Lost braces in \itemize; \value handles \item{}{} directly
checkRd: (-1) taxonomy-methods.Rd:118: Lost braces in \itemize; \value handles \item{}{} directly
checkRd: (-1) taxonomy-methods.Rd:119-122: Lost braces in \itemize; \value handles \item{}{} directly
checkRd: (-1) transformAssay.Rd:118-120: Lost braces in \itemize; meant \describe ?
checkRd: (-1) transformAssay.Rd:154-155: Lost braces in \itemize; meant \describe ?
checkRd: (-1) transformAssay.Rd:157-158: Lost braces in \itemize; meant \describe ?
checkRd: (-1) transformAssay.Rd:160-161: Lost braces in \itemize; meant \describe ?
checkRd: (-1) transformAssay.Rd:163-164: Lost braces in \itemize; meant \describe ?
checkRd: (-1) transformAssay.Rd:166-167: Lost braces in \itemize; meant \describe ?
checkRd: (-1) transformAssay.Rd:169-170: Lost braces in \itemize; meant \describe ?
checkRd: (-1) transformAssay.Rd:172-176: Lost braces in \itemize; meant \describe ?
checkRd: (-1) transformAssay.Rd:178-182: Lost braces in \itemize; meant \describe ?
checkRd: (-1) transformAssay.Rd:184-185: Lost braces in \itemize; meant \describe ?
checkRd: (-1) transformAssay.Rd:187-188: Lost braces in \itemize; meant \describe ?
checkRd: (-1) transformAssay.Rd:190-191: Lost braces in \itemize; meant \describe ?
checkRd: (-1) transformAssay.Rd:193-194: Lost braces in \itemize; meant \describe ?
checkRd: (-1) transformAssay.Rd:196-197: Lost braces in \itemize; meant \describe ?
checkRd: (-1) transformAssay.Rd:199-200: Lost braces in \itemize; meant \describe ?
checkRd: (-1) transformAssay.Rd:202-203: Lost braces in \itemize; meant \describe ?
checkRd: (-1) transformAssay.Rd:205-207: Lost braces in \itemize; meant \describe ?
checkRd: (-1) transformAssay.Rd:209-210: Lost braces in \itemize; meant \describe ?
* checking Rd metadata ... OK
* checking Rd cross-references ... NOTE
Unknown package ‘https’ in Rd xrefs
* checking for missing documentation entries ... OK
* checking for code/documentation mismatches ... OK
* checking Rd \usage sections ... OK
* checking Rd contents ... OK
* checking for unstated dependencies in examples ... OK
* checking contents of ‘data’ directory ... OK
* checking data for non-ASCII characters ... NOTE
  Note: found 101 marked UTF-8 strings
* checking data for ASCII and uncompressed saves ... OK
* checking files in ‘vignettes’ ... OK
* checking examples ... OK
Examples with CPU (user + system) or elapsed time > 5s
                                user system elapsed
runCCA                        93.239  0.670 144.110
calculateDMN                  62.298  0.244  86.115
hierarchy-tree                28.097  1.233  44.247
estimateDiversity             13.403  1.209  21.075
agglomerate-methods           12.375  0.247  15.688
splitByRanks                   9.924  0.196  17.975
makeTreeSEFromDADA2            9.294  0.414  15.738
mergeSEs                       8.998  0.226  12.460
getExperimentCrossAssociation  7.640  0.115  12.801
calculateJSD                   6.572  0.604  10.519
getPrevalence                  5.834  0.121   7.857
splitOn                        5.487  0.095  10.119
summaries                      4.318  0.063   6.357
importMetaPhlAn                4.142  0.062   7.323
* checking for unstated dependencies in ‘tests’ ... OK
* checking tests ...
  Running ‘testthat.R’
 OK
* checking for unstated dependencies in vignettes ... OK
* checking package vignettes ... OK
* checking running R code from vignettes ... SKIPPED
* checking re-building of vignette outputs ... SKIPPED
* checking PDF version of manual ... OK
* DONE
Status: 3 NOTEs
See
  ‘/Users/biocbuild/bbs-3.19-bioc/meat/mia.Rcheck/00check.log’
for details.
mia.Rcheck/00install.out
############################################################################## ############################################################################## ### ### Running command: ### ### /Library/Frameworks/R.framework/Resources/bin/R CMD INSTALL mia ### ############################################################################## ############################################################################## * installing to library ‘/Library/Frameworks/R.framework/Versions/4.4-arm64/Resources/library’ * installing *source* package ‘mia’ ... ** using staged installation ** R ** data ** inst ** byte-compile and prepare package for lazy loading ** help *** installing help indices *** copying figures ** building package indices ** installing vignettes ** testing if installed package can be loaded from temporary location ** testing if installed package can be loaded from final location ** testing if installed package keeps a record of temporary installation path * DONE (mia)
mia.Rcheck/tests/testthat.Rout
R version 4.4.0 (2024-04-24) -- "Puppy Cup"
Copyright (C) 2024 The R Foundation for Statistical Computing
Platform: aarch64-apple-darwin20
R is free software and comes with ABSOLUTELY NO WARRANTY.
You are welcome to redistribute it under certain conditions.
Type 'license()' or 'licence()' for distribution details.
R is a collaborative project with many contributors.
Type 'contributors()' for more information and
'citation()' on how to cite R or R packages in publications.
Type 'demo()' for some demos, 'help()' for on-line help, or
'help.start()' for an HTML browser interface to help.
Type 'q()' to quit R.
> library(testthat)
> library(mia)
Loading required package: SummarizedExperiment
Loading required package: MatrixGenerics
Loading required package: matrixStats
Attaching package: 'MatrixGenerics'
The following objects are masked from 'package:matrixStats':
    colAlls, colAnyNAs, colAnys, colAvgsPerRowSet, colCollapse,
    colCounts, colCummaxs, colCummins, colCumprods, colCumsums,
    colDiffs, colIQRDiffs, colIQRs, colLogSumExps, colMadDiffs,
    colMads, colMaxs, colMeans2, colMedians, colMins, colOrderStats,
    colProds, colQuantiles, colRanges, colRanks, colSdDiffs, colSds,
    colSums2, colTabulates, colVarDiffs, colVars, colWeightedMads,
    colWeightedMeans, colWeightedMedians, colWeightedSds,
    colWeightedVars, rowAlls, rowAnyNAs, rowAnys, rowAvgsPerColSet,
    rowCollapse, rowCounts, rowCummaxs, rowCummins, rowCumprods,
    rowCumsums, rowDiffs, rowIQRDiffs, rowIQRs, rowLogSumExps,
    rowMadDiffs, rowMads, rowMaxs, rowMeans2, rowMedians, rowMins,
    rowOrderStats, rowProds, rowQuantiles, rowRanges, rowRanks,
    rowSdDiffs, rowSds, rowSums2, rowTabulates, rowVarDiffs, rowVars,
    rowWeightedMads, rowWeightedMeans, rowWeightedMedians,
    rowWeightedSds, rowWeightedVars
Loading required package: GenomicRanges
Loading required package: stats4
Loading required package: BiocGenerics
Attaching package: 'BiocGenerics'
The following objects are masked from 'package:stats':
    IQR, mad, sd, var, xtabs
The following objects are masked from 'package:base':
    Filter, Find, Map, Position, Reduce, anyDuplicated, aperm, append,
    as.data.frame, basename, cbind, colnames, dirname, do.call,
    duplicated, eval, evalq, get, grep, grepl, intersect, is.unsorted,
    lapply, mapply, match, mget, order, paste, pmax, pmax.int, pmin,
    pmin.int, rank, rbind, rownames, sapply, setdiff, table, tapply,
    union, unique, unsplit, which.max, which.min
Loading required package: S4Vectors
Attaching package: 'S4Vectors'
The following object is masked from 'package:utils':
    findMatches
The following objects are masked from 'package:base':
    I, expand.grid, unname
Loading required package: IRanges
Loading required package: GenomeInfoDb
Loading required package: Biobase
Welcome to Bioconductor
    Vignettes contain introductory material; view with
    'browseVignettes()'. To cite Bioconductor, see
    'citation("Biobase")', and for packages 'citation("pkgname")'.
Attaching package: 'Biobase'
The following object is masked from 'package:MatrixGenerics':
    rowMedians
The following objects are masked from 'package:matrixStats':
    anyMissing, rowMedians
Loading required package: SingleCellExperiment
Loading required package: TreeSummarizedExperiment
Loading required package: Biostrings
Loading required package: XVector
Attaching package: 'Biostrings'
The following object is masked from 'package:base':
    strsplit
Loading required package: MultiAssayExperiment
> 
> test_check("mia")
================================================================================
Time difference of 12.31 secs
Initializing error rates to maximum possible estimate.
selfConsist step 1 .
   selfConsist step 2
   selfConsist step 3
   selfConsist step 4
Convergence after  4  rounds.
Initializing error rates to maximum possible estimate.
selfConsist step 1 .
   selfConsist step 2
   selfConsist step 3
   selfConsist step 4
Convergence after  4  rounds.
initial  value 0.383462 
iter   5 value 0.161655
iter  10 value 0.113278
final  value 0.003270 
converged
initial  value 0.000000 
final  value 0.000000 
converged
initial  value 0.000000 
final  value 0.000000 
converged
[ FAIL 0 | WARN 66 | SKIP 2 | PASS 957 ]
══ Skipped tests (2) ═══════════════════════════════════════════════════════════
• require("miaTime", quietly = TRUE) is not TRUE (2): 'test-2mergeSEs.R:382:5',
  'test-3agglomerate.R:88:5'
[ FAIL 0 | WARN 66 | SKIP 2 | PASS 957 ]
> 
> proc.time()
    user   system  elapsed 
 617.242   68.710 1030.727 
mia.Rcheck/mia-Ex.timings
| name | user | system | elapsed | |
| addCluster | 2.475 | 0.027 | 3.536 | |
| addDivergence | 1.863 | 0.075 | 2.682 | |
| agglomerate-methods | 12.375 | 0.247 | 15.688 | |
| calculateDMN | 62.298 | 0.244 | 86.115 | |
| calculateJSD | 6.572 | 0.604 | 10.519 | |
| calculateOverlap | 0.207 | 0.007 | 0.364 | |
| calculateUnifrac | 0.504 | 0.017 | 0.846 | |
| estimateDiversity | 13.403 | 1.209 | 21.075 | |
| estimateDominance | 0.370 | 0.015 | 0.593 | |
| estimateEvenness | 0.101 | 0.010 | 0.169 | |
| estimateRichness | 0.466 | 0.026 | 0.726 | |
| getExperimentCrossAssociation | 7.640 | 0.115 | 12.801 | |
| getPrevalence | 5.834 | 0.121 | 7.857 | |
| hierarchy-tree | 28.097 | 1.233 | 44.247 | |
| importHUMAnN | 0.377 | 0.008 | 0.717 | |
| importMetaPhlAn | 4.142 | 0.062 | 7.323 | |
| importMothur | 0.333 | 0.011 | 0.593 | |
| importQIIME2 | 1.234 | 0.171 | 2.376 | |
| isContaminant | 0.441 | 0.014 | 0.791 | |
| makePhyloseqFromTreeSE | 2.566 | 0.115 | 4.479 | |
| makeTreeSEFromBiom | 0.825 | 0.018 | 1.334 | |
| makeTreeSEFromDADA2 | 9.294 | 0.414 | 15.738 | |
| makeTreeSEFromPhyloseq | 1.604 | 0.033 | 1.983 | |
| meltAssay | 1.009 | 0.042 | 1.252 | |
| merge-methods | 1.953 | 0.086 | 2.856 | |
| mergeSEs | 8.998 | 0.226 | 12.460 | |
| mia-datasets | 0.705 | 0.014 | 1.166 | |
| perSampleDominantTaxa | 2.428 | 0.038 | 3.019 | |
| relabundance | 0.522 | 0.011 | 0.533 | |
| runCCA | 93.239 | 0.670 | 144.110 | |
| runDPCoA | 0.499 | 0.018 | 0.977 | |
| runNMDS | 0.404 | 0.014 | 0.795 | |
| splitByRanks | 9.924 | 0.196 | 17.975 | |
| splitOn | 5.487 | 0.095 | 10.119 | |
| subsampleCounts | 1.894 | 0.049 | 3.490 | |
| subsetSamples | 1.244 | 0.031 | 2.313 | |
| summaries | 4.318 | 0.063 | 6.357 | |
| taxonomy-methods | 1.493 | 0.027 | 2.342 | |
| transformAssay | 0.243 | 0.006 | 0.350 | |