| Back to Multiple platform build/check report for BioC 3.19: simplified long | 
 | 
This page was generated on 2024-10-18 20:38 -0400 (Fri, 18 Oct 2024).
| Hostname | OS | Arch (*) | R version | Installed pkgs | 
|---|---|---|---|---|
| nebbiolo1 | Linux (Ubuntu 22.04.3 LTS) | x86_64 | 4.4.1 (2024-06-14) -- "Race for Your Life" | 4763 | 
| palomino7 | Windows Server 2022 Datacenter | x64 | 4.4.1 (2024-06-14 ucrt) -- "Race for Your Life" | 4500 | 
| merida1 | macOS 12.7.5 Monterey | x86_64 | 4.4.1 (2024-06-14) -- "Race for Your Life" | 4530 | 
| kjohnson1 | macOS 13.6.6 Ventura | arm64 | 4.4.1 (2024-06-14) -- "Race for Your Life" | 4480 | 
| Click on any hostname to see more info about the system (e.g. compilers) (*) as reported by 'uname -p', except on Windows and Mac OS X | ||||
| Package 1257/2300 | Hostname | OS / Arch | INSTALL | BUILD | CHECK | BUILD BIN | ||||||||
| mia 1.12.0  (landing page) Tuomas Borman 
 | nebbiolo1 | Linux (Ubuntu 22.04.3 LTS) / x86_64 | OK | OK | OK |  | ||||||||
| palomino7 | Windows Server 2022 Datacenter / x64 | OK | OK | OK | OK |  | ||||||||
| merida1 | macOS 12.7.5 Monterey / x86_64 | OK | OK | TIMEOUT | OK | |||||||||
| kjohnson1 | macOS 13.6.6 Ventura / arm64 | OK | OK | OK | OK |  | ||||||||
| To the developers/maintainers of the mia package: - Allow up to 24 hours (and sometimes 48 hours) for your latest push to git@git.bioconductor.org:packages/mia.git to reflect on this report. See Troubleshooting Build Report for more information. - Use the following Renviron settings to reproduce errors and warnings. - If 'R CMD check' started to fail recently on the Linux builder(s) over a missing dependency, add the missing dependency to 'Suggests:' in your DESCRIPTION file. See Renviron.bioc for more information. | 
| Package: mia | 
| Version: 1.12.0 | 
| Command: /home/biocbuild/bbs-3.19-bioc/R/bin/R CMD check --install=check:mia.install-out.txt --library=/home/biocbuild/bbs-3.19-bioc/R/site-library --timings mia_1.12.0.tar.gz | 
| StartedAt: 2024-10-17 02:22:49 -0400 (Thu, 17 Oct 2024) | 
| EndedAt: 2024-10-17 02:40:21 -0400 (Thu, 17 Oct 2024) | 
| EllapsedTime: 1052.0 seconds | 
| RetCode: 0 | 
| Status: OK | 
| CheckDir: mia.Rcheck | 
| Warnings: 0 | 
##############################################################################
##############################################################################
###
### Running command:
###
###   /home/biocbuild/bbs-3.19-bioc/R/bin/R CMD check --install=check:mia.install-out.txt --library=/home/biocbuild/bbs-3.19-bioc/R/site-library --timings mia_1.12.0.tar.gz
###
##############################################################################
##############################################################################
* using log directory ‘/home/biocbuild/bbs-3.19-bioc/meat/mia.Rcheck’
* using R version 4.4.1 (2024-06-14)
* using platform: x86_64-pc-linux-gnu
* R was compiled by
    gcc (Ubuntu 11.4.0-1ubuntu1~22.04) 11.4.0
    GNU Fortran (Ubuntu 11.4.0-1ubuntu1~22.04) 11.4.0
* running under: Ubuntu 22.04.5 LTS
* using session charset: UTF-8
* checking for file ‘mia/DESCRIPTION’ ... OK
* checking extension type ... Package
* this is package ‘mia’ version ‘1.12.0’
* package encoding: UTF-8
* checking package namespace information ... OK
* checking package dependencies ... OK
* checking if this is a source package ... OK
* checking if there is a namespace ... OK
* checking for hidden files and directories ... OK
* checking for portable file names ... OK
* checking for sufficient/correct file permissions ... OK
* checking whether package ‘mia’ can be installed ... OK
* checking installed package size ... OK
* checking package directory ... OK
* checking ‘build’ directory ... OK
* checking DESCRIPTION meta-information ... OK
* checking top-level files ... OK
* checking for left-over files ... OK
* checking index information ... OK
* checking package subdirectories ... OK
* checking code files for non-ASCII characters ... OK
* checking R files for syntax errors ... OK
* checking whether the package can be loaded ... OK
* checking whether the package can be loaded with stated dependencies ... OK
* checking whether the package can be unloaded cleanly ... OK
* checking whether the namespace can be loaded with stated dependencies ... OK
* checking whether the namespace can be unloaded cleanly ... OK
* checking loading without being on the library search path ... OK
* checking dependencies in R code ... OK
* checking S3 generic/method consistency ... OK
* checking replacement functions ... OK
* checking foreign function calls ... OK
* checking R code for possible problems ... OK
* checking Rd files ... NOTE
checkRd: (-1) agglomerate-methods.Rd:73-75: Lost braces in \itemize; meant \describe ?
checkRd: (-1) agglomerate-methods.Rd:76-77: Lost braces in \itemize; meant \describe ?
checkRd: (-1) agglomerate-methods.Rd:78-80: Lost braces in \itemize; meant \describe ?
checkRd: (-1) agglomerate-methods.Rd:81-83: Lost braces in \itemize; meant \describe ?
checkRd: (-1) agglomerate-methods.Rd:84-86: Lost braces in \itemize; meant \describe ?
checkRd: (-1) estimateDiversity.Rd:94-96: Lost braces in \itemize; meant \describe ?
checkRd: (-1) estimateDiversity.Rd:97-100: Lost braces in \itemize; meant \describe ?
checkRd: (-1) estimateDiversity.Rd:101-103: Lost braces in \itemize; meant \describe ?
checkRd: (-1) estimateDiversity.Rd:104-107: Lost braces in \itemize; meant \describe ?
checkRd: (-1) estimateDiversity.Rd:149-151: Lost braces in \itemize; meant \describe ?
checkRd: (-1) estimateDiversity.Rd:153-162: Lost braces in \itemize; meant \describe ?
checkRd: (-1) estimateDiversity.Rd:164-165: Lost braces in \itemize; meant \describe ?
checkRd: (-1) estimateDiversity.Rd:167-176: Lost braces in \itemize; meant \describe ?
checkRd: (-1) estimateDiversity.Rd:178-183: Lost braces in \itemize; meant \describe ?
checkRd: (-1) estimateDiversity.Rd:185-192: Lost braces in \itemize; meant \describe ?
checkRd: (-1) estimateDiversity.Rd:194: Lost braces in \itemize; meant \describe ?
checkRd: (-1) estimateDominance.Rd:99-101: Lost braces in \itemize; meant \describe ?
checkRd: (-1) estimateDominance.Rd:103-112: Lost braces in \itemize; meant \describe ?
checkRd: (-1) estimateDominance.Rd:114-126: Lost braces in \itemize; meant \describe ?
checkRd: (-1) estimateDominance.Rd:128-137: Lost braces in \itemize; meant \describe ?
checkRd: (-1) estimateDominance.Rd:139-147: Lost braces in \itemize; meant \describe ?
checkRd: (-1) estimateDominance.Rd:149-158: Lost braces in \itemize; meant \describe ?
checkRd: (-1) estimateDominance.Rd:160-175: Lost braces in \itemize; meant \describe ?
checkRd: (-1) estimateEvenness.Rd:47-48: Lost braces in \itemize; meant \describe ?
checkRd: (-1) estimateEvenness.Rd:72: Lost braces in \itemize; meant \describe ?
checkRd: (-1) estimateEvenness.Rd:73-74: Lost braces in \itemize; meant \describe ?
checkRd: (-1) estimateEvenness.Rd:75-76: Lost braces in \itemize; meant \describe ?
checkRd: (-1) estimateEvenness.Rd:77: Lost braces in \itemize; meant \describe ?
checkRd: (-1) estimateEvenness.Rd:78: Lost braces in \itemize; meant \describe ?
checkRd: (-1) estimateRichness.Rd:87-104: Lost braces in \itemize; meant \describe ?
checkRd: (-1) estimateRichness.Rd:106-117: Lost braces in \itemize; meant \describe ?
checkRd: (-1) estimateRichness.Rd:119-126: Lost braces in \itemize; meant \describe ?
checkRd: (-1) estimateRichness.Rd:128-131: Lost braces in \itemize; meant \describe ?
checkRd: (-1) getExperimentCrossAssociation.Rd:66-70: Lost braces in \itemize; meant \describe ?
checkRd: (-1) getExperimentCrossAssociation.Rd:71-74: Lost braces in \itemize; meant \describe ?
checkRd: (-1) hierarchy-tree.Rd:28-30: Lost braces in \itemize; \value handles \item{}{} directly
checkRd: (-1) hierarchy-tree.Rd:31-32: Lost braces in \itemize; \value handles \item{}{} directly
checkRd: (-1) importHUMAnN.Rd:17-19: Lost braces in \itemize; meant \describe ?
checkRd: (-1) importHUMAnN.Rd:20-22: Lost braces in \itemize; meant \describe ?
checkRd: (-1) importHUMAnN.Rd:23-27: Lost braces in \itemize; meant \describe ?
checkRd: (-1) importMetaPhlAn.Rd:26-28: Lost braces in \itemize; meant \describe ?
checkRd: (-1) importMetaPhlAn.Rd:29-31: Lost braces in \itemize; meant \describe ?
checkRd: (-1) importMetaPhlAn.Rd:32-34: Lost braces in \itemize; meant \describe ?
checkRd: (-1) importMetaPhlAn.Rd:35-39: Lost braces in \itemize; meant \describe ?
checkRd: (-1) importMetaPhlAn.Rd:40-43: Lost braces in \itemize; meant \describe ?
checkRd: (-1) importQIIME2.Rd:47-48: Lost braces in \itemize; meant \describe ?
checkRd: (-1) importQIIME2.Rd:49-51: Lost braces in \itemize; meant \describe ?
checkRd: (-1) isContaminant.Rd:83-85: Lost braces in \itemize; meant \describe ?
checkRd: (-1) isContaminant.Rd:86-87: Lost braces in \itemize; meant \describe ?
checkRd: (-1) makeTreeSEFromBiom.Rd:26-28: Lost braces in \itemize; meant \describe ?
checkRd: (-1) meltAssay.Rd:67-70: Lost braces in \itemize; meant \describe ?
checkRd: (-1) taxonomy-methods.Rd:101-102: Lost braces in \itemize; meant \describe ?
checkRd: (-1) taxonomy-methods.Rd:116-117: Lost braces in \itemize; \value handles \item{}{} directly
checkRd: (-1) taxonomy-methods.Rd:118: Lost braces in \itemize; \value handles \item{}{} directly
checkRd: (-1) taxonomy-methods.Rd:119-122: Lost braces in \itemize; \value handles \item{}{} directly
checkRd: (-1) transformAssay.Rd:118-120: Lost braces in \itemize; meant \describe ?
checkRd: (-1) transformAssay.Rd:154-155: Lost braces in \itemize; meant \describe ?
checkRd: (-1) transformAssay.Rd:157-158: Lost braces in \itemize; meant \describe ?
checkRd: (-1) transformAssay.Rd:160-161: Lost braces in \itemize; meant \describe ?
checkRd: (-1) transformAssay.Rd:163-164: Lost braces in \itemize; meant \describe ?
checkRd: (-1) transformAssay.Rd:166-167: Lost braces in \itemize; meant \describe ?
checkRd: (-1) transformAssay.Rd:169-170: Lost braces in \itemize; meant \describe ?
checkRd: (-1) transformAssay.Rd:172-176: Lost braces in \itemize; meant \describe ?
checkRd: (-1) transformAssay.Rd:178-182: Lost braces in \itemize; meant \describe ?
checkRd: (-1) transformAssay.Rd:184-185: Lost braces in \itemize; meant \describe ?
checkRd: (-1) transformAssay.Rd:187-188: Lost braces in \itemize; meant \describe ?
checkRd: (-1) transformAssay.Rd:190-191: Lost braces in \itemize; meant \describe ?
checkRd: (-1) transformAssay.Rd:193-194: Lost braces in \itemize; meant \describe ?
checkRd: (-1) transformAssay.Rd:196-197: Lost braces in \itemize; meant \describe ?
checkRd: (-1) transformAssay.Rd:199-200: Lost braces in \itemize; meant \describe ?
checkRd: (-1) transformAssay.Rd:202-203: Lost braces in \itemize; meant \describe ?
checkRd: (-1) transformAssay.Rd:205-207: Lost braces in \itemize; meant \describe ?
checkRd: (-1) transformAssay.Rd:209-210: Lost braces in \itemize; meant \describe ?
* checking Rd metadata ... OK
* checking Rd cross-references ... NOTE
Unknown package ‘https’ in Rd xrefs
* checking for missing documentation entries ... OK
* checking for code/documentation mismatches ... OK
* checking Rd \usage sections ... OK
* checking Rd contents ... OK
* checking for unstated dependencies in examples ... OK
* checking contents of ‘data’ directory ... OK
* checking data for non-ASCII characters ... NOTE
  Note: found 101 marked UTF-8 strings
* checking data for ASCII and uncompressed saves ... OK
* checking files in ‘vignettes’ ... OK
* checking examples ... OK
Examples with CPU (user + system) or elapsed time > 5s
                                user system elapsed
calculateDMN                  68.498  0.033  68.532
runCCA                        58.621  0.344  58.965
hierarchy-tree                20.119  0.516  20.635
estimateDiversity             11.251  0.060  11.310
agglomerate-methods            9.715  0.391  10.107
splitByRanks                   7.401  0.036   7.438
makeTreeSEFromDADA2            7.254  0.115   7.374
getExperimentCrossAssociation  6.013  0.028   6.041
mergeSEs                       5.879  0.056   5.935
* checking for unstated dependencies in ‘tests’ ... OK
* checking tests ...
  Running ‘testthat.R’
 OK
* checking for unstated dependencies in vignettes ... OK
* checking package vignettes ... OK
* checking re-building of vignette outputs ... OK
* checking PDF version of manual ... OK
* DONE
Status: 3 NOTEs
See
  ‘/home/biocbuild/bbs-3.19-bioc/meat/mia.Rcheck/00check.log’
for details.
mia.Rcheck/00install.out
############################################################################## ############################################################################## ### ### Running command: ### ### /home/biocbuild/bbs-3.19-bioc/R/bin/R CMD INSTALL mia ### ############################################################################## ############################################################################## * installing to library ‘/home/biocbuild/bbs-3.19-bioc/R/site-library’ * installing *source* package ‘mia’ ... ** using staged installation ** R ** data ** inst ** byte-compile and prepare package for lazy loading ** help *** installing help indices *** copying figures ** building package indices ** installing vignettes ** testing if installed package can be loaded from temporary location ** testing if installed package can be loaded from final location ** testing if installed package keeps a record of temporary installation path * DONE (mia)
mia.Rcheck/tests/testthat.Rout
R version 4.4.1 (2024-06-14) -- "Race for Your Life"
Copyright (C) 2024 The R Foundation for Statistical Computing
Platform: x86_64-pc-linux-gnu
R is free software and comes with ABSOLUTELY NO WARRANTY.
You are welcome to redistribute it under certain conditions.
Type 'license()' or 'licence()' for distribution details.
R is a collaborative project with many contributors.
Type 'contributors()' for more information and
'citation()' on how to cite R or R packages in publications.
Type 'demo()' for some demos, 'help()' for on-line help, or
'help.start()' for an HTML browser interface to help.
Type 'q()' to quit R.
> library(testthat)
> library(mia)
Loading required package: SummarizedExperiment
Loading required package: MatrixGenerics
Loading required package: matrixStats
Attaching package: 'MatrixGenerics'
The following objects are masked from 'package:matrixStats':
    colAlls, colAnyNAs, colAnys, colAvgsPerRowSet, colCollapse,
    colCounts, colCummaxs, colCummins, colCumprods, colCumsums,
    colDiffs, colIQRDiffs, colIQRs, colLogSumExps, colMadDiffs,
    colMads, colMaxs, colMeans2, colMedians, colMins, colOrderStats,
    colProds, colQuantiles, colRanges, colRanks, colSdDiffs, colSds,
    colSums2, colTabulates, colVarDiffs, colVars, colWeightedMads,
    colWeightedMeans, colWeightedMedians, colWeightedSds,
    colWeightedVars, rowAlls, rowAnyNAs, rowAnys, rowAvgsPerColSet,
    rowCollapse, rowCounts, rowCummaxs, rowCummins, rowCumprods,
    rowCumsums, rowDiffs, rowIQRDiffs, rowIQRs, rowLogSumExps,
    rowMadDiffs, rowMads, rowMaxs, rowMeans2, rowMedians, rowMins,
    rowOrderStats, rowProds, rowQuantiles, rowRanges, rowRanks,
    rowSdDiffs, rowSds, rowSums2, rowTabulates, rowVarDiffs, rowVars,
    rowWeightedMads, rowWeightedMeans, rowWeightedMedians,
    rowWeightedSds, rowWeightedVars
Loading required package: GenomicRanges
Loading required package: stats4
Loading required package: BiocGenerics
Attaching package: 'BiocGenerics'
The following objects are masked from 'package:stats':
    IQR, mad, sd, var, xtabs
The following objects are masked from 'package:base':
    Filter, Find, Map, Position, Reduce, anyDuplicated, aperm, append,
    as.data.frame, basename, cbind, colnames, dirname, do.call,
    duplicated, eval, evalq, get, grep, grepl, intersect, is.unsorted,
    lapply, mapply, match, mget, order, paste, pmax, pmax.int, pmin,
    pmin.int, rank, rbind, rownames, sapply, setdiff, table, tapply,
    union, unique, unsplit, which.max, which.min
Loading required package: S4Vectors
Attaching package: 'S4Vectors'
The following object is masked from 'package:utils':
    findMatches
The following objects are masked from 'package:base':
    I, expand.grid, unname
Loading required package: IRanges
Loading required package: GenomeInfoDb
Loading required package: Biobase
Welcome to Bioconductor
    Vignettes contain introductory material; view with
    'browseVignettes()'. To cite Bioconductor, see
    'citation("Biobase")', and for packages 'citation("pkgname")'.
Attaching package: 'Biobase'
The following object is masked from 'package:MatrixGenerics':
    rowMedians
The following objects are masked from 'package:matrixStats':
    anyMissing, rowMedians
Loading required package: SingleCellExperiment
Loading required package: TreeSummarizedExperiment
Loading required package: Biostrings
Loading required package: XVector
Attaching package: 'Biostrings'
The following object is masked from 'package:base':
    strsplit
Loading required package: MultiAssayExperiment
> 
> test_check("mia")
================================================================================
Time difference of 7.69 secs
Initializing error rates to maximum possible estimate.
selfConsist step 1 .
   selfConsist step 2
   selfConsist step 3
   selfConsist step 4
Convergence after  4  rounds.
Initializing error rates to maximum possible estimate.
selfConsist step 1 .
   selfConsist step 2
   selfConsist step 3
   selfConsist step 4
Convergence after  4  rounds.
initial  value 0.383462 
iter   5 value 0.161655
iter  10 value 0.113278
final  value 0.003270 
converged
initial  value 0.000000 
final  value 0.000000 
converged
initial  value 0.000000 
final  value 0.000000 
converged
[ FAIL 0 | WARN 66 | SKIP 2 | PASS 957 ]
══ Skipped tests (2) ═══════════════════════════════════════════════════════════
• require("miaTime", quietly = TRUE) is not TRUE (2): 'test-2mergeSEs.R:382:5',
  'test-3agglomerate.R:88:5'
[ FAIL 0 | WARN 66 | SKIP 2 | PASS 957 ]
> 
> proc.time()
   user  system elapsed 
486.346   7.903 495.086 
mia.Rcheck/mia-Ex.timings
| name | user | system | elapsed | |
| addCluster | 1.368 | 0.088 | 1.456 | |
| addDivergence | 1.377 | 0.052 | 1.429 | |
| agglomerate-methods | 9.715 | 0.391 | 10.107 | |
| calculateDMN | 68.498 | 0.033 | 68.532 | |
| calculateJSD | 3.917 | 0.269 | 4.186 | |
| calculateOverlap | 0.153 | 0.000 | 0.152 | |
| calculateUnifrac | 0.356 | 0.004 | 0.360 | |
| estimateDiversity | 11.251 | 0.060 | 11.310 | |
| estimateDominance | 0.282 | 0.000 | 0.283 | |
| estimateEvenness | 0.073 | 0.000 | 0.073 | |
| estimateRichness | 0.319 | 0.012 | 0.331 | |
| getExperimentCrossAssociation | 6.013 | 0.028 | 6.041 | |
| getPrevalence | 4.597 | 0.060 | 4.657 | |
| hierarchy-tree | 20.119 | 0.516 | 20.635 | |
| importHUMAnN | 0.270 | 0.008 | 0.278 | |
| importMetaPhlAn | 3.222 | 0.005 | 3.227 | |
| importMothur | 0.244 | 0.000 | 0.244 | |
| importQIIME2 | 0.938 | 0.036 | 0.975 | |
| isContaminant | 0.337 | 0.000 | 0.337 | |
| makePhyloseqFromTreeSE | 1.830 | 0.020 | 1.849 | |
| makeTreeSEFromBiom | 0.610 | 0.019 | 0.630 | |
| makeTreeSEFromDADA2 | 7.254 | 0.115 | 7.374 | |
| makeTreeSEFromPhyloseq | 1.336 | 0.124 | 1.461 | |
| meltAssay | 0.802 | 0.052 | 0.854 | |
| merge-methods | 1.350 | 0.008 | 1.358 | |
| mergeSEs | 5.879 | 0.056 | 5.935 | |
| mia-datasets | 0.429 | 0.004 | 0.433 | |
| perSampleDominantTaxa | 2.115 | 0.004 | 2.119 | |
| relabundance | 0.367 | 0.000 | 0.367 | |
| runCCA | 58.621 | 0.344 | 58.965 | |
| runDPCoA | 0.357 | 0.004 | 0.361 | |
| runNMDS | 0.288 | 0.000 | 0.288 | |
| splitByRanks | 7.401 | 0.036 | 7.438 | |
| splitOn | 4.032 | 0.024 | 4.056 | |
| subsampleCounts | 1.398 | 0.008 | 1.406 | |
| subsetSamples | 0.839 | 0.004 | 0.842 | |
| summaries | 3.122 | 0.036 | 3.158 | |
| taxonomy-methods | 1.051 | 0.008 | 1.059 | |
| transformAssay | 0.197 | 0.004 | 0.201 | |