| Back to Multiple platform build/check report for BioC 3.19: simplified long |
|
This page was generated on 2024-10-18 20:39 -0400 (Fri, 18 Oct 2024).
| Hostname | OS | Arch (*) | R version | Installed pkgs |
|---|---|---|---|---|
| nebbiolo1 | Linux (Ubuntu 22.04.3 LTS) | x86_64 | 4.4.1 (2024-06-14) -- "Race for Your Life" | 4763 |
| palomino7 | Windows Server 2022 Datacenter | x64 | 4.4.1 (2024-06-14 ucrt) -- "Race for Your Life" | 4500 |
| merida1 | macOS 12.7.5 Monterey | x86_64 | 4.4.1 (2024-06-14) -- "Race for Your Life" | 4530 |
| kjohnson1 | macOS 13.6.6 Ventura | arm64 | 4.4.1 (2024-06-14) -- "Race for Your Life" | 4480 |
| Click on any hostname to see more info about the system (e.g. compilers) (*) as reported by 'uname -p', except on Windows and Mac OS X | ||||
| Package 1133/2300 | Hostname | OS / Arch | INSTALL | BUILD | CHECK | BUILD BIN | ||||||||
| lute 1.0.0 (landing page) Sean K Maden
| nebbiolo1 | Linux (Ubuntu 22.04.3 LTS) / x86_64 | OK | OK | OK | |||||||||
| palomino7 | Windows Server 2022 Datacenter / x64 | OK | OK | OK | OK | |||||||||
| merida1 | macOS 12.7.5 Monterey / x86_64 | OK | OK | OK | OK | |||||||||
| kjohnson1 | macOS 13.6.6 Ventura / arm64 | OK | OK | OK | OK | |||||||||
|
To the developers/maintainers of the lute package: - Allow up to 24 hours (and sometimes 48 hours) for your latest push to git@git.bioconductor.org:packages/lute.git to reflect on this report. See Troubleshooting Build Report for more information. - Use the following Renviron settings to reproduce errors and warnings. - If 'R CMD check' started to fail recently on the Linux builder(s) over a missing dependency, add the missing dependency to 'Suggests:' in your DESCRIPTION file. See Renviron.bioc for more information. |
| Package: lute |
| Version: 1.0.0 |
| Command: E:\biocbuild\bbs-3.19-bioc\R\bin\R.exe CMD check --no-multiarch --install=check:lute.install-out.txt --library=E:\biocbuild\bbs-3.19-bioc\R\library --no-vignettes --timings lute_1.0.0.tar.gz |
| StartedAt: 2024-10-17 02:49:49 -0400 (Thu, 17 Oct 2024) |
| EndedAt: 2024-10-17 02:53:50 -0400 (Thu, 17 Oct 2024) |
| EllapsedTime: 241.0 seconds |
| RetCode: 0 |
| Status: OK |
| CheckDir: lute.Rcheck |
| Warnings: 0 |
##############################################################################
##############################################################################
###
### Running command:
###
### E:\biocbuild\bbs-3.19-bioc\R\bin\R.exe CMD check --no-multiarch --install=check:lute.install-out.txt --library=E:\biocbuild\bbs-3.19-bioc\R\library --no-vignettes --timings lute_1.0.0.tar.gz
###
##############################################################################
##############################################################################
* using log directory 'E:/biocbuild/bbs-3.19-bioc/meat/lute.Rcheck'
* using R version 4.4.1 (2024-06-14 ucrt)
* using platform: x86_64-w64-mingw32
* R was compiled by
gcc.exe (GCC) 13.2.0
GNU Fortran (GCC) 13.2.0
* running under: Windows Server 2022 x64 (build 20348)
* using session charset: UTF-8
* using option '--no-vignettes'
* checking for file 'lute/DESCRIPTION' ... OK
* this is package 'lute' version '1.0.0'
* package encoding: UTF-8
* checking package namespace information ... OK
* checking package dependencies ... OK
* checking if this is a source package ... OK
* checking if there is a namespace ... OK
* checking for hidden files and directories ... OK
* checking for portable file names ... OK
* checking whether package 'lute' can be installed ... OK
* checking installed package size ... OK
* checking package directory ... OK
* checking 'build' directory ... OK
* checking DESCRIPTION meta-information ... OK
* checking top-level files ... OK
* checking for left-over files ... NOTE
The following files look like leftovers:
'lute/NEWS.Rd'
Please remove them from your package.
* checking index information ... OK
* checking package subdirectories ... OK
* checking code files for non-ASCII characters ... OK
* checking R files for syntax errors ... OK
* checking whether the package can be loaded ... OK
* checking whether the package can be loaded with stated dependencies ... OK
* checking whether the package can be unloaded cleanly ... OK
* checking whether the namespace can be loaded with stated dependencies ... OK
* checking whether the namespace can be unloaded cleanly ... OK
* checking dependencies in R code ... NOTE
Namespace in Imports field not imported from: 'ggplot2'
All declared Imports should be used.
* checking S3 generic/method consistency ... OK
* checking replacement functions ... OK
* checking foreign function calls ... OK
* checking R code for possible problems ... OK
* checking Rd files ... OK
* checking Rd metadata ... OK
* checking Rd cross-references ... OK
* checking for missing documentation entries ... OK
* checking for code/documentation mismatches ... OK
* checking Rd \usage sections ... OK
* checking Rd contents ... OK
* checking for unstated dependencies in examples ... OK
* checking files in 'vignettes' ... NOTE
The following files look like leftovers/mistakes:
'lute_algorithm_classes.log'
Please remove them from your package.
* checking examples ... OK
* checking for unstated dependencies in vignettes ... OK
* checking package vignettes ... OK
* checking running R code from vignettes ... SKIPPED
* checking re-building of vignette outputs ... SKIPPED
* checking PDF version of manual ... OK
* DONE
Status: 3 NOTEs
See
'E:/biocbuild/bbs-3.19-bioc/meat/lute.Rcheck/00check.log'
for details.
lute.Rcheck/00install.out
############################################################################## ############################################################################## ### ### Running command: ### ### E:\biocbuild\bbs-3.19-bioc\R\bin\R.exe CMD INSTALL lute ### ############################################################################## ############################################################################## * installing to library 'E:/biocbuild/bbs-3.19-bioc/R/library' * installing *source* package 'lute' ... ** using staged installation ** R ** inst ** byte-compile and prepare package for lazy loading ** help *** installing help indices ** building package indices ** installing vignettes ** testing if installed package can be loaded from temporary location ** testing if installed package can be loaded from final location ** testing if installed package keeps a record of temporary installation path * DONE (lute)
lute.Rcheck/lute-Ex.timings
| name | user | system | elapsed | |
| bisqueParam-class | 3.50 | 0.08 | 3.72 | |
| bisqueParam | 2.56 | 0.05 | 2.63 | |
| cellProportionsPredictions-class | 0.01 | 0.00 | 0.02 | |
| cellProportionsPredictions | 0 | 0 | 0 | |
| deconvolution-bisqueParam-method | 2.56 | 0.17 | 2.75 | |
| deconvolution-deconvolutionParam-method | 0 | 0 | 0 | |
| deconvolution-independentbulkParam-method | 0.02 | 0.00 | 0.01 | |
| deconvolution-nnlsParam-method | 0.02 | 0.00 | 0.02 | |
| deconvolution-referencebasedParam-method | 0 | 0 | 0 | |
| deconvolution | 0 | 0 | 0 | |
| deconvolutionParam-class | 0 | 0 | 0 | |
| eset_to_sce | 0.59 | 0.01 | 0.60 | |
| eset_to_se | 0.51 | 0.08 | 0.59 | |
| findmarkersParam-class | 0.84 | 0.11 | 0.96 | |
| findmarkersParam | 0.78 | 0.02 | 0.80 | |
| getDeconvolutionExampleData | 0 | 0 | 0 | |
| getDeconvolutionExampleDataBisque | 0.55 | 0.00 | 0.54 | |
| getDeconvolutionExampleDataSCDC | 0.28 | 0.00 | 0.28 | |
| get_celltypes_from_sce | 0 | 0 | 0 | |
| get_csf_reference | 0 | 0 | 0 | |
| get_eset_from_matrix | 0 | 0 | 0 | |
| independentbulkParam-class | 0 | 0 | 0 | |
| independentbulkParam | 0 | 0 | 0 | |
| lute | 0.31 | 0.00 | 0.32 | |
| luteSupportedDeconvolutionAlgorithms | 0 | 0 | 0 | |
| new_workflow_table | 0 | 0 | 0 | |
| nnlsParam-class | 0 | 0 | 0 | |
| nnlsParam | 0.02 | 0.00 | 0.02 | |
| parseDeconvolutionPredictionsResults | 0 | 0 | 0 | |
| proportionsVectorsList | 0 | 0 | 0 | |
| randomMarkersVectorsList | 0 | 0 | 0 | |
| randomSingleCellExperiment | 0.19 | 0.00 | 0.18 | |
| referenceFromSingleCellExperiment | 0 | 0 | 0 | |
| referencebasedParam-class | 0 | 0 | 0 | |
| referencebasedParam | 0 | 0 | 0 | |
| rmse | 0 | 0 | 0 | |
| rmseTest | 0 | 0 | 0 | |
| sce_to_eset | 0.23 | 0.01 | 0.25 | |
| sce_to_se | 0.19 | 0.02 | 0.21 | |
| se_to_eset | 0.24 | 0.02 | 0.25 | |
| se_to_sce | 0.25 | 0.00 | 0.25 | |
| show-bisqueParam-method | 0.79 | 0.00 | 0.80 | |
| show-cellProportionsPredictions-method | 0 | 0 | 0 | |
| show-deconvolutionParam-method | 0 | 0 | 0 | |
| show-findmarkersParam-method | 0.82 | 0.04 | 0.88 | |
| show-independentbulkParam-method | 0 | 0 | 0 | |
| show-nnlsParam-method | 0.01 | 0.00 | 0.01 | |
| show-referencebasedParam-method | 0 | 0 | 0 | |
| show-typemarkersParam-method | 0 | 0 | 0 | |
| sub-sub-deconvolutionParam-ANY-ANY-method | 0 | 0 | 0 | |
| sub-sub-typemarkersParam-ANY-ANY-method | 0 | 0 | 0 | |
| typemarkers-findmarkersParam-method | 0.83 | 0.02 | 0.84 | |
| typemarkers-typemarkersParam-method | 0 | 0 | 0 | |
| typemarkers | 0 | 0 | 0 | |
| typemarkersParam-class | 0 | 0 | 0 | |
| typemarkersParam | 0 | 0 | 0 | |
| ypb_from_sce | 0.19 | 0.00 | 0.19 | |
| z_matrix_from_sce | 0.20 | 0.00 | 0.21 | |