| Back to Multiple platform build/check report for BioC 3.19: simplified long |
|
This page was generated on 2024-10-18 20:38 -0400 (Fri, 18 Oct 2024).
| Hostname | OS | Arch (*) | R version | Installed pkgs |
|---|---|---|---|---|
| nebbiolo1 | Linux (Ubuntu 22.04.3 LTS) | x86_64 | 4.4.1 (2024-06-14) -- "Race for Your Life" | 4763 |
| palomino7 | Windows Server 2022 Datacenter | x64 | 4.4.1 (2024-06-14 ucrt) -- "Race for Your Life" | 4500 |
| merida1 | macOS 12.7.5 Monterey | x86_64 | 4.4.1 (2024-06-14) -- "Race for Your Life" | 4530 |
| kjohnson1 | macOS 13.6.6 Ventura | arm64 | 4.4.1 (2024-06-14) -- "Race for Your Life" | 4480 |
| Click on any hostname to see more info about the system (e.g. compilers) (*) as reported by 'uname -p', except on Windows and Mac OS X | ||||
| Package 1133/2300 | Hostname | OS / Arch | INSTALL | BUILD | CHECK | BUILD BIN | ||||||||
| lute 1.0.0 (landing page) Sean K Maden
| nebbiolo1 | Linux (Ubuntu 22.04.3 LTS) / x86_64 | OK | OK | OK | |||||||||
| palomino7 | Windows Server 2022 Datacenter / x64 | OK | OK | OK | OK | |||||||||
| merida1 | macOS 12.7.5 Monterey / x86_64 | OK | OK | OK | OK | |||||||||
| kjohnson1 | macOS 13.6.6 Ventura / arm64 | OK | OK | OK | OK | |||||||||
|
To the developers/maintainers of the lute package: - Allow up to 24 hours (and sometimes 48 hours) for your latest push to git@git.bioconductor.org:packages/lute.git to reflect on this report. See Troubleshooting Build Report for more information. - Use the following Renviron settings to reproduce errors and warnings. - If 'R CMD check' started to fail recently on the Linux builder(s) over a missing dependency, add the missing dependency to 'Suggests:' in your DESCRIPTION file. See Renviron.bioc for more information. |
| Package: lute |
| Version: 1.0.0 |
| Command: /home/biocbuild/bbs-3.19-bioc/R/bin/R CMD check --install=check:lute.install-out.txt --library=/home/biocbuild/bbs-3.19-bioc/R/site-library --timings lute_1.0.0.tar.gz |
| StartedAt: 2024-10-17 01:56:22 -0400 (Thu, 17 Oct 2024) |
| EndedAt: 2024-10-17 02:00:26 -0400 (Thu, 17 Oct 2024) |
| EllapsedTime: 244.5 seconds |
| RetCode: 0 |
| Status: OK |
| CheckDir: lute.Rcheck |
| Warnings: 0 |
##############################################################################
##############################################################################
###
### Running command:
###
### /home/biocbuild/bbs-3.19-bioc/R/bin/R CMD check --install=check:lute.install-out.txt --library=/home/biocbuild/bbs-3.19-bioc/R/site-library --timings lute_1.0.0.tar.gz
###
##############################################################################
##############################################################################
* using log directory ‘/home/biocbuild/bbs-3.19-bioc/meat/lute.Rcheck’
* using R version 4.4.1 (2024-06-14)
* using platform: x86_64-pc-linux-gnu
* R was compiled by
gcc (Ubuntu 11.4.0-1ubuntu1~22.04) 11.4.0
GNU Fortran (Ubuntu 11.4.0-1ubuntu1~22.04) 11.4.0
* running under: Ubuntu 22.04.5 LTS
* using session charset: UTF-8
* checking for file ‘lute/DESCRIPTION’ ... OK
* this is package ‘lute’ version ‘1.0.0’
* package encoding: UTF-8
* checking package namespace information ... OK
* checking package dependencies ... OK
* checking if this is a source package ... OK
* checking if there is a namespace ... OK
* checking for hidden files and directories ... OK
* checking for portable file names ... OK
* checking for sufficient/correct file permissions ... OK
* checking whether package ‘lute’ can be installed ... OK
* checking installed package size ... OK
* checking package directory ... OK
* checking ‘build’ directory ... OK
* checking DESCRIPTION meta-information ... OK
* checking top-level files ... OK
* checking for left-over files ... NOTE
The following files look like leftovers:
‘lute/NEWS.Rd’
Please remove them from your package.
* checking index information ... OK
* checking package subdirectories ... OK
* checking code files for non-ASCII characters ... OK
* checking R files for syntax errors ... OK
* checking whether the package can be loaded ... OK
* checking whether the package can be loaded with stated dependencies ... OK
* checking whether the package can be unloaded cleanly ... OK
* checking whether the namespace can be loaded with stated dependencies ... OK
* checking whether the namespace can be unloaded cleanly ... OK
* checking loading without being on the library search path ... OK
* checking dependencies in R code ... NOTE
Namespace in Imports field not imported from: ‘ggplot2’
All declared Imports should be used.
* checking S3 generic/method consistency ... OK
* checking replacement functions ... OK
* checking foreign function calls ... OK
* checking R code for possible problems ... OK
* checking Rd files ... OK
* checking Rd metadata ... OK
* checking Rd cross-references ... OK
* checking for missing documentation entries ... OK
* checking for code/documentation mismatches ... OK
* checking Rd \usage sections ... OK
* checking Rd contents ... OK
* checking for unstated dependencies in examples ... OK
* checking files in ‘vignettes’ ... NOTE
The following files look like leftovers/mistakes:
‘lute_algorithm_classes.log’
Please remove them from your package.
* checking examples ... OK
* checking for unstated dependencies in vignettes ... OK
* checking package vignettes ... OK
* checking re-building of vignette outputs ... OK
* checking PDF version of manual ... OK
* DONE
Status: 3 NOTEs
See
‘/home/biocbuild/bbs-3.19-bioc/meat/lute.Rcheck/00check.log’
for details.
lute.Rcheck/00install.out
############################################################################## ############################################################################## ### ### Running command: ### ### /home/biocbuild/bbs-3.19-bioc/R/bin/R CMD INSTALL lute ### ############################################################################## ############################################################################## * installing to library ‘/home/biocbuild/bbs-3.19-bioc/R/site-library’ * installing *source* package ‘lute’ ... ** using staged installation ** R ** inst ** byte-compile and prepare package for lazy loading ** help *** installing help indices ** building package indices ** installing vignettes ** testing if installed package can be loaded from temporary location ** testing if installed package can be loaded from final location ** testing if installed package keeps a record of temporary installation path * DONE (lute)
lute.Rcheck/lute-Ex.timings
| name | user | system | elapsed | |
| bisqueParam-class | 2.924 | 0.296 | 3.222 | |
| bisqueParam | 1.846 | 0.100 | 1.947 | |
| cellProportionsPredictions-class | 0.013 | 0.000 | 0.013 | |
| cellProportionsPredictions | 0.001 | 0.000 | 0.000 | |
| deconvolution-bisqueParam-method | 1.898 | 0.144 | 2.042 | |
| deconvolution-deconvolutionParam-method | 0.000 | 0.000 | 0.001 | |
| deconvolution-independentbulkParam-method | 0.000 | 0.002 | 0.001 | |
| deconvolution-nnlsParam-method | 0.009 | 0.001 | 0.011 | |
| deconvolution-referencebasedParam-method | 0.003 | 0.000 | 0.003 | |
| deconvolution | 0.003 | 0.000 | 0.003 | |
| deconvolutionParam-class | 0 | 0 | 0 | |
| eset_to_sce | 0.540 | 0.024 | 0.564 | |
| eset_to_se | 0.364 | 0.016 | 0.381 | |
| findmarkersParam-class | 0.672 | 0.072 | 0.744 | |
| findmarkersParam | 0.549 | 0.012 | 0.562 | |
| getDeconvolutionExampleData | 0.000 | 0.000 | 0.001 | |
| getDeconvolutionExampleDataBisque | 0.366 | 0.004 | 0.370 | |
| getDeconvolutionExampleDataSCDC | 0.153 | 0.016 | 0.170 | |
| get_celltypes_from_sce | 0 | 0 | 0 | |
| get_csf_reference | 0 | 0 | 0 | |
| get_eset_from_matrix | 0 | 0 | 0 | |
| independentbulkParam-class | 0.000 | 0.000 | 0.001 | |
| independentbulkParam | 0 | 0 | 0 | |
| lute | 0.174 | 0.000 | 0.174 | |
| luteSupportedDeconvolutionAlgorithms | 0.002 | 0.004 | 0.006 | |
| new_workflow_table | 0.000 | 0.000 | 0.001 | |
| nnlsParam-class | 0.004 | 0.000 | 0.004 | |
| nnlsParam | 0.004 | 0.000 | 0.004 | |
| parseDeconvolutionPredictionsResults | 0 | 0 | 0 | |
| proportionsVectorsList | 0 | 0 | 0 | |
| randomMarkersVectorsList | 0.000 | 0.000 | 0.001 | |
| randomSingleCellExperiment | 0.107 | 0.003 | 0.110 | |
| referenceFromSingleCellExperiment | 0 | 0 | 0 | |
| referencebasedParam-class | 0.001 | 0.000 | 0.001 | |
| referencebasedParam | 0.001 | 0.000 | 0.001 | |
| rmse | 0.001 | 0.000 | 0.001 | |
| rmseTest | 0.001 | 0.000 | 0.001 | |
| sce_to_eset | 0.154 | 0.016 | 0.170 | |
| sce_to_se | 0.130 | 0.016 | 0.146 | |
| se_to_eset | 0.153 | 0.008 | 0.161 | |
| se_to_sce | 0.151 | 0.004 | 0.155 | |
| show-bisqueParam-method | 0.498 | 0.036 | 0.534 | |
| show-cellProportionsPredictions-method | 0.000 | 0.000 | 0.001 | |
| show-deconvolutionParam-method | 0 | 0 | 0 | |
| show-findmarkersParam-method | 0.543 | 0.008 | 0.551 | |
| show-independentbulkParam-method | 0 | 0 | 0 | |
| show-nnlsParam-method | 0.002 | 0.000 | 0.002 | |
| show-referencebasedParam-method | 0.002 | 0.000 | 0.002 | |
| show-typemarkersParam-method | 0.001 | 0.000 | 0.001 | |
| sub-sub-deconvolutionParam-ANY-ANY-method | 0.000 | 0.000 | 0.001 | |
| sub-sub-typemarkersParam-ANY-ANY-method | 0 | 0 | 0 | |
| typemarkers-findmarkersParam-method | 0.564 | 0.004 | 0.569 | |
| typemarkers-typemarkersParam-method | 0.001 | 0.000 | 0.001 | |
| typemarkers | 0 | 0 | 0 | |
| typemarkersParam-class | 0 | 0 | 0 | |
| typemarkersParam | 0 | 0 | 0 | |
| ypb_from_sce | 0.123 | 0.000 | 0.123 | |
| z_matrix_from_sce | 0.115 | 0.000 | 0.115 | |