| Back to Multiple platform build/check report for BioC 3.19: simplified long |
|
This page was generated on 2024-06-11 14:43 -0400 (Tue, 11 Jun 2024).
| Hostname | OS | Arch (*) | R version | Installed pkgs |
|---|---|---|---|---|
| nebbiolo1 | Linux (Ubuntu 22.04.3 LTS) | x86_64 | 4.4.0 (2024-04-24) -- "Puppy Cup" | 4757 |
| palomino3 | Windows Server 2022 Datacenter | x64 | 4.4.0 (2024-04-24 ucrt) -- "Puppy Cup" | 4491 |
| lconway | macOS 12.7.1 Monterey | x86_64 | 4.4.0 (2024-04-24) -- "Puppy Cup" | 4522 |
| kjohnson3 | macOS 13.6.5 Ventura | arm64 | 4.4.0 (2024-04-24) -- "Puppy Cup" | 4468 |
| Click on any hostname to see more info about the system (e.g. compilers) (*) as reported by 'uname -p', except on Windows and Mac OS X | ||||
| Package 1133/2300 | Hostname | OS / Arch | INSTALL | BUILD | CHECK | BUILD BIN | ||||||||
| lute 1.0.0 (landing page) Sean K Maden
| nebbiolo1 | Linux (Ubuntu 22.04.3 LTS) / x86_64 | OK | OK | OK | |||||||||
| palomino3 | Windows Server 2022 Datacenter / x64 | OK | OK | OK | OK | |||||||||
| lconway | macOS 12.7.1 Monterey / x86_64 | OK | OK | OK | OK | |||||||||
| kjohnson3 | macOS 13.6.5 Ventura / arm64 | OK | OK | OK | OK | |||||||||
|
To the developers/maintainers of the lute package: - Allow up to 24 hours (and sometimes 48 hours) for your latest push to git@git.bioconductor.org:packages/lute.git to reflect on this report. See Troubleshooting Build Report for more information. - Use the following Renviron settings to reproduce errors and warnings. - If 'R CMD check' started to fail recently on the Linux builder(s) over a missing dependency, add the missing dependency to 'Suggests:' in your DESCRIPTION file. See Renviron.bioc for more information. |
| Package: lute |
| Version: 1.0.0 |
| Command: /Library/Frameworks/R.framework/Resources/bin/R CMD check --install=check:lute.install-out.txt --library=/Library/Frameworks/R.framework/Resources/library --no-vignettes --timings lute_1.0.0.tar.gz |
| StartedAt: 2024-06-10 20:17:12 -0400 (Mon, 10 Jun 2024) |
| EndedAt: 2024-06-10 20:23:13 -0400 (Mon, 10 Jun 2024) |
| EllapsedTime: 360.9 seconds |
| RetCode: 0 |
| Status: OK |
| CheckDir: lute.Rcheck |
| Warnings: 0 |
##############################################################################
##############################################################################
###
### Running command:
###
### /Library/Frameworks/R.framework/Resources/bin/R CMD check --install=check:lute.install-out.txt --library=/Library/Frameworks/R.framework/Resources/library --no-vignettes --timings lute_1.0.0.tar.gz
###
##############################################################################
##############################################################################
* using log directory ‘/Users/biocbuild/bbs-3.19-bioc/meat/lute.Rcheck’
* using R version 4.4.0 (2024-04-24)
* using platform: aarch64-apple-darwin20
* R was compiled by
Apple clang version 14.0.0 (clang-1400.0.29.202)
GNU Fortran (GCC) 12.2.0
* running under: macOS Ventura 13.6.5
* using session charset: UTF-8
* using option ‘--no-vignettes’
* checking for file ‘lute/DESCRIPTION’ ... OK
* this is package ‘lute’ version ‘1.0.0’
* package encoding: UTF-8
* checking package namespace information ... OK
* checking package dependencies ... OK
* checking if this is a source package ... OK
* checking if there is a namespace ... OK
* checking for hidden files and directories ... OK
* checking for portable file names ... OK
* checking for sufficient/correct file permissions ... OK
* checking whether package ‘lute’ can be installed ... OK
* checking installed package size ... OK
* checking package directory ... OK
* checking ‘build’ directory ... OK
* checking DESCRIPTION meta-information ... OK
* checking top-level files ... OK
* checking for left-over files ... NOTE
The following files look like leftovers:
‘lute/NEWS.Rd’
Please remove them from your package.
* checking index information ... OK
* checking package subdirectories ... OK
* checking code files for non-ASCII characters ... OK
* checking R files for syntax errors ... OK
* checking whether the package can be loaded ... OK
* checking whether the package can be loaded with stated dependencies ... OK
* checking whether the package can be unloaded cleanly ... OK
* checking whether the namespace can be loaded with stated dependencies ... OK
* checking whether the namespace can be unloaded cleanly ... OK
* checking dependencies in R code ... NOTE
Namespace in Imports field not imported from: ‘ggplot2’
All declared Imports should be used.
* checking S3 generic/method consistency ... OK
* checking replacement functions ... OK
* checking foreign function calls ... OK
* checking R code for possible problems ... OK
* checking Rd files ... OK
* checking Rd metadata ... OK
* checking Rd cross-references ... OK
* checking for missing documentation entries ... OK
* checking for code/documentation mismatches ... OK
* checking Rd \usage sections ... OK
* checking Rd contents ... OK
* checking for unstated dependencies in examples ... OK
* checking files in ‘vignettes’ ... NOTE
The following files look like leftovers/mistakes:
‘lute_algorithm_classes.log’
Please remove them from your package.
* checking examples ... OK
Examples with CPU (user + system) or elapsed time > 5s
user system elapsed
bisqueParam-class 4.144 0.096 5.897
* checking for unstated dependencies in vignettes ... OK
* checking package vignettes ... OK
* checking running R code from vignettes ... SKIPPED
* checking re-building of vignette outputs ... SKIPPED
* checking PDF version of manual ... OK
* DONE
Status: 3 NOTEs
See
‘/Users/biocbuild/bbs-3.19-bioc/meat/lute.Rcheck/00check.log’
for details.
lute.Rcheck/00install.out
############################################################################## ############################################################################## ### ### Running command: ### ### /Library/Frameworks/R.framework/Resources/bin/R CMD INSTALL lute ### ############################################################################## ############################################################################## * installing to library ‘/Library/Frameworks/R.framework/Versions/4.4-arm64/Resources/library’ * installing *source* package ‘lute’ ... ** using staged installation ** R ** inst ** byte-compile and prepare package for lazy loading ** help *** installing help indices ** building package indices ** installing vignettes ** testing if installed package can be loaded from temporary location ** testing if installed package can be loaded from final location ** testing if installed package keeps a record of temporary installation path * DONE (lute)
lute.Rcheck/lute-Ex.timings
| name | user | system | elapsed | |
| bisqueParam-class | 4.144 | 0.096 | 5.897 | |
| bisqueParam | 2.450 | 0.094 | 3.119 | |
| cellProportionsPredictions-class | 0.017 | 0.001 | 0.017 | |
| cellProportionsPredictions | 0 | 0 | 0 | |
| deconvolution-bisqueParam-method | 2.434 | 0.077 | 2.930 | |
| deconvolution-deconvolutionParam-method | 0.001 | 0.001 | 0.001 | |
| deconvolution-independentbulkParam-method | 0.002 | 0.001 | 0.002 | |
| deconvolution-nnlsParam-method | 0.015 | 0.003 | 0.018 | |
| deconvolution-referencebasedParam-method | 0.003 | 0.000 | 0.004 | |
| deconvolution | 0.004 | 0.001 | 0.007 | |
| deconvolutionParam-class | 0 | 0 | 0 | |
| eset_to_sce | 0.660 | 0.011 | 0.968 | |
| eset_to_se | 0.426 | 0.010 | 0.576 | |
| findmarkersParam-class | 0.951 | 0.038 | 1.353 | |
| findmarkersParam | 0.770 | 0.015 | 1.094 | |
| getDeconvolutionExampleData | 0 | 0 | 0 | |
| getDeconvolutionExampleDataBisque | 0.406 | 0.006 | 0.576 | |
| getDeconvolutionExampleDataSCDC | 0.216 | 0.003 | 0.329 | |
| get_celltypes_from_sce | 0.001 | 0.000 | 0.000 | |
| get_csf_reference | 0.001 | 0.000 | 0.001 | |
| get_eset_from_matrix | 0.001 | 0.001 | 0.003 | |
| independentbulkParam-class | 0.000 | 0.000 | 0.001 | |
| independentbulkParam | 0.000 | 0.000 | 0.002 | |
| lute | 0.220 | 0.004 | 0.285 | |
| luteSupportedDeconvolutionAlgorithms | 0.007 | 0.003 | 0.014 | |
| new_workflow_table | 0.001 | 0.000 | 0.001 | |
| nnlsParam-class | 0.006 | 0.000 | 0.007 | |
| nnlsParam | 0.005 | 0.001 | 0.008 | |
| parseDeconvolutionPredictionsResults | 0.001 | 0.000 | 0.001 | |
| proportionsVectorsList | 0.001 | 0.000 | 0.000 | |
| randomMarkersVectorsList | 0.001 | 0.000 | 0.000 | |
| randomSingleCellExperiment | 0.142 | 0.003 | 0.209 | |
| referenceFromSingleCellExperiment | 0 | 0 | 0 | |
| referencebasedParam-class | 0.001 | 0.000 | 0.002 | |
| referencebasedParam | 0.001 | 0.001 | 0.002 | |
| rmse | 0.002 | 0.000 | 0.004 | |
| rmseTest | 0.000 | 0.001 | 0.001 | |
| sce_to_eset | 0.204 | 0.006 | 0.265 | |
| sce_to_se | 0.165 | 0.004 | 0.250 | |
| se_to_eset | 0.201 | 0.004 | 0.280 | |
| se_to_sce | 0.196 | 0.005 | 0.283 | |
| show-bisqueParam-method | 0.587 | 0.013 | 0.877 | |
| show-cellProportionsPredictions-method | 0 | 0 | 0 | |
| show-deconvolutionParam-method | 0 | 0 | 0 | |
| show-findmarkersParam-method | 0.744 | 0.013 | 1.055 | |
| show-independentbulkParam-method | 0.001 | 0.000 | 0.001 | |
| show-nnlsParam-method | 0.002 | 0.001 | 0.005 | |
| show-referencebasedParam-method | 0.002 | 0.000 | 0.002 | |
| show-typemarkersParam-method | 0.000 | 0.000 | 0.001 | |
| sub-sub-deconvolutionParam-ANY-ANY-method | 0 | 0 | 0 | |
| sub-sub-typemarkersParam-ANY-ANY-method | 0 | 0 | 0 | |
| typemarkers-findmarkersParam-method | 0.748 | 0.010 | 1.048 | |
| typemarkers-typemarkersParam-method | 0.000 | 0.000 | 0.001 | |
| typemarkers | 0 | 0 | 0 | |
| typemarkersParam-class | 0.000 | 0.000 | 0.004 | |
| typemarkersParam | 0 | 0 | 0 | |
| ypb_from_sce | 0.168 | 0.004 | 0.237 | |
| z_matrix_from_sce | 0.151 | 0.003 | 0.217 | |