| Back to Multiple platform build/check report for BioC 3.19: simplified long |
|
This page was generated on 2024-10-18 20:38 -0400 (Fri, 18 Oct 2024).
| Hostname | OS | Arch (*) | R version | Installed pkgs |
|---|---|---|---|---|
| nebbiolo1 | Linux (Ubuntu 22.04.3 LTS) | x86_64 | 4.4.1 (2024-06-14) -- "Race for Your Life" | 4763 |
| palomino7 | Windows Server 2022 Datacenter | x64 | 4.4.1 (2024-06-14 ucrt) -- "Race for Your Life" | 4500 |
| merida1 | macOS 12.7.5 Monterey | x86_64 | 4.4.1 (2024-06-14) -- "Race for Your Life" | 4530 |
| kjohnson1 | macOS 13.6.6 Ventura | arm64 | 4.4.1 (2024-06-14) -- "Race for Your Life" | 4480 |
| Click on any hostname to see more info about the system (e.g. compilers) (*) as reported by 'uname -p', except on Windows and Mac OS X | ||||
| Package 486/2300 | Hostname | OS / Arch | INSTALL | BUILD | CHECK | BUILD BIN | ||||||||
| cyanoFilter 1.12.0 (landing page) Oluwafemi Olusoji
| nebbiolo1 | Linux (Ubuntu 22.04.3 LTS) / x86_64 | OK | OK | OK | |||||||||
| palomino7 | Windows Server 2022 Datacenter / x64 | OK | OK | OK | OK | |||||||||
| merida1 | macOS 12.7.5 Monterey / x86_64 | OK | OK | OK | OK | |||||||||
| kjohnson1 | macOS 13.6.6 Ventura / arm64 | OK | OK | OK | OK | |||||||||
|
To the developers/maintainers of the cyanoFilter package: - Allow up to 24 hours (and sometimes 48 hours) for your latest push to git@git.bioconductor.org:packages/cyanoFilter.git to reflect on this report. See Troubleshooting Build Report for more information. - Use the following Renviron settings to reproduce errors and warnings. - If 'R CMD check' started to fail recently on the Linux builder(s) over a missing dependency, add the missing dependency to 'Suggests:' in your DESCRIPTION file. See Renviron.bioc for more information. |
| Package: cyanoFilter |
| Version: 1.12.0 |
| Command: /home/biocbuild/bbs-3.19-bioc/R/bin/R CMD check --install=check:cyanoFilter.install-out.txt --library=/home/biocbuild/bbs-3.19-bioc/R/site-library --timings cyanoFilter_1.12.0.tar.gz |
| StartedAt: 2024-10-16 23:20:50 -0400 (Wed, 16 Oct 2024) |
| EndedAt: 2024-10-16 23:23:18 -0400 (Wed, 16 Oct 2024) |
| EllapsedTime: 148.3 seconds |
| RetCode: 0 |
| Status: OK |
| CheckDir: cyanoFilter.Rcheck |
| Warnings: 0 |
##############################################################################
##############################################################################
###
### Running command:
###
### /home/biocbuild/bbs-3.19-bioc/R/bin/R CMD check --install=check:cyanoFilter.install-out.txt --library=/home/biocbuild/bbs-3.19-bioc/R/site-library --timings cyanoFilter_1.12.0.tar.gz
###
##############################################################################
##############################################################################
* using log directory ‘/home/biocbuild/bbs-3.19-bioc/meat/cyanoFilter.Rcheck’
* using R version 4.4.1 (2024-06-14)
* using platform: x86_64-pc-linux-gnu
* R was compiled by
gcc (Ubuntu 11.4.0-1ubuntu1~22.04) 11.4.0
GNU Fortran (Ubuntu 11.4.0-1ubuntu1~22.04) 11.4.0
* running under: Ubuntu 22.04.5 LTS
* using session charset: UTF-8
* checking for file ‘cyanoFilter/DESCRIPTION’ ... OK
* checking extension type ... Package
* this is package ‘cyanoFilter’ version ‘1.12.0’
* package encoding: UTF-8
* checking package namespace information ... OK
* checking package dependencies ... OK
* checking if this is a source package ... OK
* checking if there is a namespace ... OK
* checking for hidden files and directories ... OK
* checking for portable file names ... OK
* checking for sufficient/correct file permissions ... OK
* checking whether package ‘cyanoFilter’ can be installed ... OK
* checking installed package size ... OK
* checking package directory ... OK
* checking ‘build’ directory ... OK
* checking DESCRIPTION meta-information ... OK
* checking top-level files ... OK
* checking for left-over files ... OK
* checking index information ... OK
* checking package subdirectories ... OK
* checking code files for non-ASCII characters ... OK
* checking R files for syntax errors ... OK
* checking whether the package can be loaded ... OK
* checking whether the package can be loaded with stated dependencies ... OK
* checking whether the package can be unloaded cleanly ... OK
* checking whether the namespace can be loaded with stated dependencies ... OK
* checking whether the namespace can be unloaded cleanly ... OK
* checking loading without being on the library search path ... OK
* checking dependencies in R code ... OK
* checking S3 generic/method consistency ... OK
* checking replacement functions ... OK
* checking foreign function calls ... OK
* checking R code for possible problems ... OK
* checking Rd files ... OK
* checking Rd metadata ... OK
* checking Rd cross-references ... OK
* checking for missing documentation entries ... OK
* checking for code/documentation mismatches ... OK
* checking Rd \usage sections ... OK
* checking Rd contents ... OK
* checking for unstated dependencies in examples ... OK
* checking files in ‘vignettes’ ... OK
* checking examples ... OK
Examples with CPU (user + system) or elapsed time > 5s
user system elapsed
gateFunc 8.361 0.38 6.945
* checking for unstated dependencies in vignettes ... OK
* checking package vignettes ... OK
* checking re-building of vignette outputs ... OK
* checking PDF version of manual ... OK
* DONE
Status: OK
cyanoFilter.Rcheck/00install.out
############################################################################## ############################################################################## ### ### Running command: ### ### /home/biocbuild/bbs-3.19-bioc/R/bin/R CMD INSTALL cyanoFilter ### ############################################################################## ############################################################################## * installing to library ‘/home/biocbuild/bbs-3.19-bioc/R/site-library’ * installing *source* package ‘cyanoFilter’ ... ** using staged installation ** R ** inst ** byte-compile and prepare package for lazy loading ** help *** installing help indices ** building package indices ** installing vignettes ** testing if installed package can be loaded from temporary location ** testing if installed package can be loaded from final location ** testing if installed package keeps a record of temporary installation path * DONE (cyanoFilter)
cyanoFilter.Rcheck/cyanoFilter-Ex.timings
| name | user | system | elapsed | |
| MarginEvents | 0.790 | 0.024 | 0.816 | |
| PhytoFilter | 0.496 | 0.040 | 0.536 | |
| PhytopFilter | 0.491 | 0.032 | 0.523 | |
| accTest | 0.301 | 0.008 | 0.309 | |
| accuracy | 0.312 | 0.023 | 0.335 | |
| cellmargin | 0.304 | 0.012 | 0.315 | |
| clusterExtract | 0.670 | 0.051 | 0.721 | |
| clusterExtractp | 0.691 | 0.008 | 0.699 | |
| debrisNc | 0.455 | 0.040 | 0.495 | |
| fullFlowframe-MarginEvents-method | 0.221 | 0.040 | 0.262 | |
| fullFlowframe-PhytopFilter-method | 0.492 | 0.012 | 0.504 | |
| fullFlowframe | 0.238 | 0.008 | 0.245 | |
| gateFunc | 8.361 | 0.380 | 6.945 | |
| ggpairsDens | 2.828 | 0.116 | 2.945 | |
| ggplotDens | 0.482 | 0.040 | 0.522 | |
| ggplotDens2 | 0.68 | 0.02 | 0.70 | |
| goodfcs | 0.045 | 0.000 | 0.045 | |
| is.DebrisFilter | 0.000 | 0.001 | 0.000 | |
| is.MarginEvents | 0 | 0 | 0 | |
| is.PhytopFilter | 0.000 | 0.000 | 0.001 | |
| is.flowFrame | 0 | 0 | 0 | |
| is.flowSet | 0 | 0 | 0 | |
| lnTrans | 0.181 | 0.004 | 0.184 | |
| newFlowframe | 0.194 | 0.036 | 0.230 | |
| nona | 0.074 | 0.008 | 0.082 | |
| noneg | 0.133 | 0.008 | 0.140 | |
| oneDgate | 0.180 | 0.048 | 0.228 | |
| pairsPlot | 2.012 | 0.084 | 2.097 | |
| pigmentGate | 0.227 | 0.051 | 0.278 | |
| reducedFlowframe-MarginEvents-method | 0.241 | 0.008 | 0.248 | |
| reducedFlowframe | 0.232 | 0.016 | 0.248 | |
| retain | 0.014 | 0.000 | 0.014 | |
| rowNumbers | 0.175 | 0.056 | 0.231 | |
| summaries-DebrisFilter-method | 0.239 | 0.010 | 0.248 | |
| summaries-MarginEvents-method | 0.476 | 0.030 | 0.506 | |
| summaries-PhytopFilter-method | 0.516 | 0.008 | 0.524 | |
| summaries | 0.267 | 0.008 | 0.275 | |