| Back to Multiple platform build/check report for BioC 3.19: simplified long | 
 | 
This page was generated on 2024-10-18 20:42 -0400 (Fri, 18 Oct 2024).
| Hostname | OS | Arch (*) | R version | Installed pkgs | 
|---|---|---|---|---|
| nebbiolo1 | Linux (Ubuntu 22.04.3 LTS) | x86_64 | 4.4.1 (2024-06-14) -- "Race for Your Life" | 4763 | 
| palomino7 | Windows Server 2022 Datacenter | x64 | 4.4.1 (2024-06-14 ucrt) -- "Race for Your Life" | 4500 | 
| merida1 | macOS 12.7.5 Monterey | x86_64 | 4.4.1 (2024-06-14) -- "Race for Your Life" | 4530 | 
| kjohnson1 | macOS 13.6.6 Ventura | arm64 | 4.4.1 (2024-06-14) -- "Race for Your Life" | 4480 | 
| Click on any hostname to see more info about the system (e.g. compilers) (*) as reported by 'uname -p', except on Windows and Mac OS X | ||||
| Package 486/2300 | Hostname | OS / Arch | INSTALL | BUILD | CHECK | BUILD BIN | ||||||||
| cyanoFilter 1.12.0  (landing page) Oluwafemi Olusoji 
 | nebbiolo1 | Linux (Ubuntu 22.04.3 LTS) / x86_64 | OK | OK | OK |  | ||||||||
| palomino7 | Windows Server 2022 Datacenter / x64 | OK | OK | OK | OK |  | ||||||||
| merida1 | macOS 12.7.5 Monterey / x86_64 | OK | OK | OK | OK |  | ||||||||
| kjohnson1 | macOS 13.6.6 Ventura / arm64 | OK | OK | OK | OK |  | ||||||||
| To the developers/maintainers of the cyanoFilter package: - Allow up to 24 hours (and sometimes 48 hours) for your latest push to git@git.bioconductor.org:packages/cyanoFilter.git to reflect on this report. See Troubleshooting Build Report for more information. - Use the following Renviron settings to reproduce errors and warnings. - If 'R CMD check' started to fail recently on the Linux builder(s) over a missing dependency, add the missing dependency to 'Suggests:' in your DESCRIPTION file. See Renviron.bioc for more information. | 
| Package: cyanoFilter | 
| Version: 1.12.0 | 
| Command: /Library/Frameworks/R.framework/Resources/bin/R CMD check --install=check:cyanoFilter.install-out.txt --library=/Library/Frameworks/R.framework/Resources/library --no-vignettes --timings cyanoFilter_1.12.0.tar.gz | 
| StartedAt: 2024-10-17 18:25:43 -0400 (Thu, 17 Oct 2024) | 
| EndedAt: 2024-10-17 18:27:33 -0400 (Thu, 17 Oct 2024) | 
| EllapsedTime: 110.4 seconds | 
| RetCode: 0 | 
| Status: OK | 
| CheckDir: cyanoFilter.Rcheck | 
| Warnings: 0 | 
##############################################################################
##############################################################################
###
### Running command:
###
###   /Library/Frameworks/R.framework/Resources/bin/R CMD check --install=check:cyanoFilter.install-out.txt --library=/Library/Frameworks/R.framework/Resources/library --no-vignettes --timings cyanoFilter_1.12.0.tar.gz
###
##############################################################################
##############################################################################
* using log directory ‘/Users/biocbuild/bbs-3.19-bioc/meat/cyanoFilter.Rcheck’
* using R version 4.4.1 (2024-06-14)
* using platform: aarch64-apple-darwin20
* R was compiled by
    Apple clang version 14.0.0 (clang-1400.0.29.202)
    GNU Fortran (GCC) 12.2.0
* running under: macOS Ventura 13.6.6
* using session charset: UTF-8
* using option ‘--no-vignettes’
* checking for file ‘cyanoFilter/DESCRIPTION’ ... OK
* checking extension type ... Package
* this is package ‘cyanoFilter’ version ‘1.12.0’
* package encoding: UTF-8
* checking package namespace information ... OK
* checking package dependencies ... OK
* checking if this is a source package ... OK
* checking if there is a namespace ... OK
* checking for hidden files and directories ... OK
* checking for portable file names ... OK
* checking for sufficient/correct file permissions ... OK
* checking whether package ‘cyanoFilter’ can be installed ... OK
* checking installed package size ... OK
* checking package directory ... OK
* checking ‘build’ directory ... OK
* checking DESCRIPTION meta-information ... OK
* checking top-level files ... OK
* checking for left-over files ... OK
* checking index information ... OK
* checking package subdirectories ... OK
* checking code files for non-ASCII characters ... OK
* checking R files for syntax errors ... OK
* checking whether the package can be loaded ... OK
* checking whether the package can be loaded with stated dependencies ... OK
* checking whether the package can be unloaded cleanly ... OK
* checking whether the namespace can be loaded with stated dependencies ... OK
* checking whether the namespace can be unloaded cleanly ... OK
* checking dependencies in R code ... OK
* checking S3 generic/method consistency ... OK
* checking replacement functions ... OK
* checking foreign function calls ... OK
* checking R code for possible problems ... OK
* checking Rd files ... OK
* checking Rd metadata ... OK
* checking Rd cross-references ... OK
* checking for missing documentation entries ... OK
* checking for code/documentation mismatches ... OK
* checking Rd \usage sections ... OK
* checking Rd contents ... OK
* checking for unstated dependencies in examples ... OK
* checking files in ‘vignettes’ ... OK
* checking examples ... OK
Examples with CPU (user + system) or elapsed time > 5s
          user system elapsed
gateFunc 10.99  0.657   9.378
* checking for unstated dependencies in vignettes ... OK
* checking package vignettes ... OK
* checking running R code from vignettes ... SKIPPED
* checking re-building of vignette outputs ... SKIPPED
* checking PDF version of manual ... OK
* DONE
Status: OK
cyanoFilter.Rcheck/00install.out
############################################################################## ############################################################################## ### ### Running command: ### ### /Library/Frameworks/R.framework/Resources/bin/R CMD INSTALL cyanoFilter ### ############################################################################## ############################################################################## * installing to library ‘/Library/Frameworks/R.framework/Versions/4.4-arm64/Resources/library’ * installing *source* package ‘cyanoFilter’ ... ** using staged installation ** R ** inst ** byte-compile and prepare package for lazy loading ** help *** installing help indices ** building package indices ** installing vignettes ** testing if installed package can be loaded from temporary location ** testing if installed package can be loaded from final location ** testing if installed package keeps a record of temporary installation path * DONE (cyanoFilter)
cyanoFilter.Rcheck/cyanoFilter-Ex.timings
| name | user | system | elapsed | |
| MarginEvents | 1.047 | 0.072 | 1.175 | |
| PhytoFilter | 0.646 | 0.065 | 0.731 | |
| PhytopFilter | 0.680 | 0.056 | 0.766 | |
| accTest | 0.418 | 0.033 | 0.471 | |
| accuracy | 0.365 | 0.030 | 0.409 | |
| cellmargin | 0.334 | 0.023 | 0.362 | |
| clusterExtract | 0.819 | 0.033 | 0.860 | |
| clusterExtractp | 0.858 | 0.054 | 0.921 | |
| debrisNc | 0.353 | 0.037 | 0.400 | |
| fullFlowframe-MarginEvents-method | 0.571 | 0.022 | 0.601 | |
| fullFlowframe-PhytopFilter-method | 0.618 | 0.032 | 0.657 | |
| fullFlowframe | 0.307 | 0.021 | 0.332 | |
| gateFunc | 10.990 | 0.657 | 9.378 | |
| ggpairsDens | 3.399 | 0.124 | 3.551 | |
| ggplotDens | 1.005 | 0.041 | 1.053 | |
| ggplotDens2 | 1.207 | 0.040 | 1.262 | |
| goodfcs | 0.057 | 0.008 | 0.066 | |
| is.DebrisFilter | 0 | 0 | 0 | |
| is.MarginEvents | 0.001 | 0.001 | 0.000 | |
| is.PhytopFilter | 0 | 0 | 0 | |
| is.flowFrame | 0.001 | 0.000 | 0.000 | |
| is.flowSet | 0.000 | 0.001 | 0.001 | |
| lnTrans | 0.222 | 0.014 | 0.240 | |
| newFlowframe | 0.226 | 0.103 | 0.340 | |
| nona | 0.100 | 0.007 | 0.110 | |
| noneg | 0.173 | 0.014 | 0.189 | |
| oneDgate | 0.568 | 0.109 | 0.686 | |
| pairsPlot | 2.200 | 0.221 | 2.440 | |
| pigmentGate | 0.284 | 0.078 | 0.370 | |
| reducedFlowframe-MarginEvents-method | 0.323 | 0.037 | 0.369 | |
| reducedFlowframe | 0.321 | 0.032 | 0.367 | |
| retain | 0.021 | 0.002 | 0.025 | |
| rowNumbers | 0.230 | 0.088 | 0.330 | |
| summaries-DebrisFilter-method | 0.320 | 0.029 | 0.361 | |
| summaries-MarginEvents-method | 0.319 | 0.025 | 0.374 | |
| summaries-PhytopFilter-method | 0.628 | 0.040 | 0.704 | |
| summaries | 0.327 | 0.025 | 0.361 | |