| Back to Multiple platform build/check report for BioC 3.19: simplified long |
|
This page was generated on 2024-06-11 14:42 -0400 (Tue, 11 Jun 2024).
| Hostname | OS | Arch (*) | R version | Installed pkgs |
|---|---|---|---|---|
| nebbiolo1 | Linux (Ubuntu 22.04.3 LTS) | x86_64 | 4.4.0 (2024-04-24) -- "Puppy Cup" | 4757 |
| palomino3 | Windows Server 2022 Datacenter | x64 | 4.4.0 (2024-04-24 ucrt) -- "Puppy Cup" | 4491 |
| lconway | macOS 12.7.1 Monterey | x86_64 | 4.4.0 (2024-04-24) -- "Puppy Cup" | 4522 |
| kjohnson3 | macOS 13.6.5 Ventura | arm64 | 4.4.0 (2024-04-24) -- "Puppy Cup" | 4468 |
| Click on any hostname to see more info about the system (e.g. compilers) (*) as reported by 'uname -p', except on Windows and Mac OS X | ||||
| Package 486/2300 | Hostname | OS / Arch | INSTALL | BUILD | CHECK | BUILD BIN | ||||||||
| cyanoFilter 1.12.0 (landing page) Oluwafemi Olusoji
| nebbiolo1 | Linux (Ubuntu 22.04.3 LTS) / x86_64 | OK | OK | OK | |||||||||
| palomino3 | Windows Server 2022 Datacenter / x64 | OK | OK | OK | OK | |||||||||
| lconway | macOS 12.7.1 Monterey / x86_64 | OK | OK | OK | OK | |||||||||
| kjohnson3 | macOS 13.6.5 Ventura / arm64 | OK | OK | OK | OK | |||||||||
|
To the developers/maintainers of the cyanoFilter package: - Allow up to 24 hours (and sometimes 48 hours) for your latest push to git@git.bioconductor.org:packages/cyanoFilter.git to reflect on this report. See Troubleshooting Build Report for more information. - Use the following Renviron settings to reproduce errors and warnings. - If 'R CMD check' started to fail recently on the Linux builder(s) over a missing dependency, add the missing dependency to 'Suggests:' in your DESCRIPTION file. See Renviron.bioc for more information. |
| Package: cyanoFilter |
| Version: 1.12.0 |
| Command: /Library/Frameworks/R.framework/Resources/bin/R CMD check --install=check:cyanoFilter.install-out.txt --library=/Library/Frameworks/R.framework/Resources/library --no-vignettes --timings cyanoFilter_1.12.0.tar.gz |
| StartedAt: 2024-06-09 19:45:41 -0400 (Sun, 09 Jun 2024) |
| EndedAt: 2024-06-09 19:47:28 -0400 (Sun, 09 Jun 2024) |
| EllapsedTime: 107.3 seconds |
| RetCode: 0 |
| Status: OK |
| CheckDir: cyanoFilter.Rcheck |
| Warnings: 0 |
##############################################################################
##############################################################################
###
### Running command:
###
### /Library/Frameworks/R.framework/Resources/bin/R CMD check --install=check:cyanoFilter.install-out.txt --library=/Library/Frameworks/R.framework/Resources/library --no-vignettes --timings cyanoFilter_1.12.0.tar.gz
###
##############################################################################
##############################################################################
* using log directory ‘/Users/biocbuild/bbs-3.19-bioc/meat/cyanoFilter.Rcheck’
* using R version 4.4.0 (2024-04-24)
* using platform: x86_64-apple-darwin20
* R was compiled by
Apple clang version 14.0.0 (clang-1400.0.29.202)
GNU Fortran (GCC) 12.2.0
* running under: macOS Monterey 12.7.1
* using session charset: UTF-8
* using option ‘--no-vignettes’
* checking for file ‘cyanoFilter/DESCRIPTION’ ... OK
* checking extension type ... Package
* this is package ‘cyanoFilter’ version ‘1.12.0’
* package encoding: UTF-8
* checking package namespace information ... OK
* checking package dependencies ... OK
* checking if this is a source package ... OK
* checking if there is a namespace ... OK
* checking for hidden files and directories ... OK
* checking for portable file names ... OK
* checking for sufficient/correct file permissions ... OK
* checking whether package ‘cyanoFilter’ can be installed ... OK
* checking installed package size ... OK
* checking package directory ... OK
* checking ‘build’ directory ... OK
* checking DESCRIPTION meta-information ... OK
* checking top-level files ... OK
* checking for left-over files ... OK
* checking index information ... OK
* checking package subdirectories ... OK
* checking code files for non-ASCII characters ... OK
* checking R files for syntax errors ... OK
* checking whether the package can be loaded ... OK
* checking whether the package can be loaded with stated dependencies ... OK
* checking whether the package can be unloaded cleanly ... OK
* checking whether the namespace can be loaded with stated dependencies ... OK
* checking whether the namespace can be unloaded cleanly ... OK
* checking dependencies in R code ... OK
* checking S3 generic/method consistency ... OK
* checking replacement functions ... OK
* checking foreign function calls ... OK
* checking R code for possible problems ... OK
* checking Rd files ... OK
* checking Rd metadata ... OK
* checking Rd cross-references ... OK
* checking for missing documentation entries ... OK
* checking for code/documentation mismatches ... OK
* checking Rd \usage sections ... OK
* checking Rd contents ... OK
* checking for unstated dependencies in examples ... OK
* checking files in ‘vignettes’ ... OK
* checking examples ... OK
Examples with CPU (user + system) or elapsed time > 5s
user system elapsed
gateFunc 10.477 0.619 9.056
* checking for unstated dependencies in vignettes ... OK
* checking package vignettes ... OK
* checking running R code from vignettes ... SKIPPED
* checking re-building of vignette outputs ... SKIPPED
* checking PDF version of manual ... OK
* DONE
Status: OK
cyanoFilter.Rcheck/00install.out
############################################################################## ############################################################################## ### ### Running command: ### ### /Library/Frameworks/R.framework/Resources/bin/R CMD INSTALL cyanoFilter ### ############################################################################## ############################################################################## * installing to library ‘/Library/Frameworks/R.framework/Versions/4.4-x86_64/Resources/library’ * installing *source* package ‘cyanoFilter’ ... ** using staged installation ** R ** inst ** byte-compile and prepare package for lazy loading ** help *** installing help indices ** building package indices ** installing vignettes ** testing if installed package can be loaded from temporary location ** testing if installed package can be loaded from final location ** testing if installed package keeps a record of temporary installation path * DONE (cyanoFilter)
cyanoFilter.Rcheck/cyanoFilter-Ex.timings
| name | user | system | elapsed | |
| MarginEvents | 1.010 | 0.073 | 1.089 | |
| PhytoFilter | 0.657 | 0.066 | 0.727 | |
| PhytopFilter | 0.710 | 0.069 | 0.801 | |
| accTest | 0.475 | 0.047 | 0.527 | |
| accuracy | 0.367 | 0.028 | 0.397 | |
| cellmargin | 0.336 | 0.028 | 0.367 | |
| clusterExtract | 0.884 | 0.053 | 0.956 | |
| clusterExtractp | 1.071 | 0.046 | 1.126 | |
| debrisNc | 0.334 | 0.042 | 0.379 | |
| fullFlowframe-MarginEvents-method | 0.325 | 0.026 | 0.364 | |
| fullFlowframe-PhytopFilter-method | 0.905 | 0.054 | 0.965 | |
| fullFlowframe | 0.313 | 0.023 | 0.344 | |
| gateFunc | 10.477 | 0.619 | 9.056 | |
| ggpairsDens | 3.117 | 0.125 | 3.259 | |
| ggplotDens | 0.930 | 0.051 | 0.984 | |
| ggplotDens2 | 0.876 | 0.052 | 0.943 | |
| goodfcs | 0.057 | 0.009 | 0.067 | |
| is.DebrisFilter | 0.001 | 0.000 | 0.000 | |
| is.MarginEvents | 0.000 | 0.001 | 0.000 | |
| is.PhytopFilter | 0.000 | 0.000 | 0.001 | |
| is.flowFrame | 0.000 | 0.000 | 0.001 | |
| is.flowSet | 0.001 | 0.000 | 0.000 | |
| lnTrans | 0.238 | 0.015 | 0.256 | |
| newFlowframe | 0.520 | 0.097 | 0.620 | |
| nona | 0.107 | 0.007 | 0.115 | |
| noneg | 0.191 | 0.013 | 0.205 | |
| oneDgate | 0.226 | 0.077 | 0.306 | |
| pairsPlot | 1.604 | 0.165 | 1.790 | |
| pigmentGate | 0.279 | 0.040 | 0.323 | |
| reducedFlowframe-MarginEvents-method | 0.337 | 0.026 | 0.367 | |
| reducedFlowframe | 0.328 | 0.026 | 0.358 | |
| retain | 0.024 | 0.002 | 0.026 | |
| rowNumbers | 0.233 | 0.056 | 0.292 | |
| summaries-DebrisFilter-method | 0.337 | 0.026 | 0.367 | |
| summaries-MarginEvents-method | 0.351 | 0.030 | 0.399 | |
| summaries-PhytopFilter-method | 0.667 | 0.040 | 0.711 | |
| summaries | 0.355 | 0.024 | 0.387 | |