| Back to Multiple platform build/check report for BioC 3.19: simplified long |
|
This page was generated on 2024-06-11 14:42 -0400 (Tue, 11 Jun 2024).
| Hostname | OS | Arch (*) | R version | Installed pkgs |
|---|---|---|---|---|
| nebbiolo1 | Linux (Ubuntu 22.04.3 LTS) | x86_64 | 4.4.0 (2024-04-24) -- "Puppy Cup" | 4757 |
| palomino3 | Windows Server 2022 Datacenter | x64 | 4.4.0 (2024-04-24 ucrt) -- "Puppy Cup" | 4491 |
| lconway | macOS 12.7.1 Monterey | x86_64 | 4.4.0 (2024-04-24) -- "Puppy Cup" | 4522 |
| kjohnson3 | macOS 13.6.5 Ventura | arm64 | 4.4.0 (2024-04-24) -- "Puppy Cup" | 4468 |
| Click on any hostname to see more info about the system (e.g. compilers) (*) as reported by 'uname -p', except on Windows and Mac OS X | ||||
| Package 363/2300 | Hostname | OS / Arch | INSTALL | BUILD | CHECK | BUILD BIN | ||||||||
| clippda 1.54.0 (landing page) Stephen Nyangoma
| nebbiolo1 | Linux (Ubuntu 22.04.3 LTS) / x86_64 | OK | OK | OK | |||||||||
| palomino3 | Windows Server 2022 Datacenter / x64 | OK | OK | OK | OK | |||||||||
| lconway | macOS 12.7.1 Monterey / x86_64 | OK | OK | OK | OK | |||||||||
| kjohnson3 | macOS 13.6.5 Ventura / arm64 | OK | OK | OK | OK | |||||||||
|
To the developers/maintainers of the clippda package: - Allow up to 24 hours (and sometimes 48 hours) for your latest push to git@git.bioconductor.org:packages/clippda.git to reflect on this report. See Troubleshooting Build Report for more information. - Use the following Renviron settings to reproduce errors and warnings. - If 'R CMD check' started to fail recently on the Linux builder(s) over a missing dependency, add the missing dependency to 'Suggests:' in your DESCRIPTION file. See Renviron.bioc for more information. |
| Package: clippda |
| Version: 1.54.0 |
| Command: /Library/Frameworks/R.framework/Resources/bin/R CMD check --install=check:clippda.install-out.txt --library=/Library/Frameworks/R.framework/Resources/library --no-vignettes --timings clippda_1.54.0.tar.gz |
| StartedAt: 2024-06-09 19:26:47 -0400 (Sun, 09 Jun 2024) |
| EndedAt: 2024-06-09 19:30:25 -0400 (Sun, 09 Jun 2024) |
| EllapsedTime: 217.9 seconds |
| RetCode: 0 |
| Status: OK |
| CheckDir: clippda.Rcheck |
| Warnings: 0 |
##############################################################################
##############################################################################
###
### Running command:
###
### /Library/Frameworks/R.framework/Resources/bin/R CMD check --install=check:clippda.install-out.txt --library=/Library/Frameworks/R.framework/Resources/library --no-vignettes --timings clippda_1.54.0.tar.gz
###
##############################################################################
##############################################################################
* using log directory ‘/Users/biocbuild/bbs-3.19-bioc/meat/clippda.Rcheck’
* using R version 4.4.0 (2024-04-24)
* using platform: x86_64-apple-darwin20
* R was compiled by
Apple clang version 14.0.0 (clang-1400.0.29.202)
GNU Fortran (GCC) 12.2.0
* running under: macOS Monterey 12.7.1
* using session charset: UTF-8
* using option ‘--no-vignettes’
* checking for file ‘clippda/DESCRIPTION’ ... OK
* this is package ‘clippda’ version ‘1.54.0’
* checking package namespace information ... NOTE
Namespaces with empty importFrom:
‘Biobase’ ‘tools’
* checking package dependencies ... NOTE
Depends: includes the non-default packages:
'limma', 'statmod', 'rgl', 'lattice', 'scatterplot3d', 'Biobase',
'tools'
Adding so many packages to the search path is excessive and importing
selectively is preferable.
* checking if this is a source package ... OK
* checking if there is a namespace ... OK
* checking for hidden files and directories ... OK
* checking for portable file names ... OK
* checking for sufficient/correct file permissions ... OK
* checking whether package ‘clippda’ can be installed ... OK
* checking installed package size ... OK
* checking package directory ... OK
* checking ‘build’ directory ... OK
* checking DESCRIPTION meta-information ... OK
* checking top-level files ... OK
* checking for left-over files ... OK
* checking index information ... OK
* checking package subdirectories ... OK
* checking code files for non-ASCII characters ... OK
* checking R files for syntax errors ... OK
* checking whether the package can be loaded ... OK
* checking whether the package can be loaded with stated dependencies ... OK
* checking whether the package can be unloaded cleanly ... OK
* checking whether the namespace can be loaded with stated dependencies ... OK
* checking whether the namespace can be unloaded cleanly ... OK
* checking dependencies in R code ... NOTE
'library' or 'require' calls to packages already attached by Depends:
‘lattice’ ‘limma’ ‘rgl’ ‘scatterplot3d’ ‘statmod’
Please remove these calls from your code.
Packages in Depends field not imported from:
‘lattice’ ‘rgl’
These packages need to be imported from (in the NAMESPACE file)
for when this namespace is loaded but not attached.
* checking S3 generic/method consistency ... OK
* checking replacement functions ... OK
* checking foreign function calls ... OK
* checking R code for possible problems ... NOTE
ZvaluescasesVcontrolsPlots: no visible global function definition for
‘lines’
ZvaluescasesVcontrolsPlots: no visible global function definition for
‘legend’
ZvaluesfrommultinomPlots: no visible global function definition for
‘rmultinom’
ZvaluesfrommultinomPlots: no visible global function definition for
‘density’
ZvaluesfrommultinomPlots: no visible global function definition for
‘lines’
ZvaluesfrommultinomPlots: no visible global function definition for
‘legend’
ZvaluesfrommultinomPlots: no visible global function definition for
‘cloud’
ZvaluesfrommultinomPlots: no visible global function definition for
‘var’
Undefined global functions or variables:
cloud density legend lines rmultinom var
Consider adding
importFrom("graphics", "legend", "lines")
importFrom("stats", "density", "rmultinom", "var")
to your NAMESPACE file.
* checking Rd files ... NOTE
checkRd: (-1) show-methods.Rd:11-18: Lost braces
11 | {object = "aclinicalProteomicsData"}{
| ^
* checking Rd metadata ... OK
* checking Rd cross-references ... OK
* checking for missing documentation entries ... OK
* checking for code/documentation mismatches ... OK
* checking Rd \usage sections ... OK
* checking Rd contents ... OK
* checking for unstated dependencies in examples ... OK
* checking contents of ‘data’ directory ... OK
* checking data for non-ASCII characters ... OK
* checking data for ASCII and uncompressed saves ... OK
* checking sizes of PDF files under ‘inst/doc’ ... OK
* checking files in ‘vignettes’ ... OK
* checking examples ... OK
Examples with CPU (user + system) or elapsed time > 5s
user system elapsed
clippda-package 74.084 3.321 77.763
sampleSize 44.857 2.231 47.276
sampleSizeParameters 22.697 1.184 24.106
sample_technicalVariance 6.258 0.320 6.642
* checking for unstated dependencies in vignettes ... OK
* checking package vignettes ... OK
* checking running R code from vignettes ... SKIPPED
* checking re-building of vignette outputs ... SKIPPED
* checking PDF version of manual ... OK
* DONE
Status: 5 NOTEs
See
‘/Users/biocbuild/bbs-3.19-bioc/meat/clippda.Rcheck/00check.log’
for details.
clippda.Rcheck/00install.out
############################################################################## ############################################################################## ### ### Running command: ### ### /Library/Frameworks/R.framework/Resources/bin/R CMD INSTALL clippda ### ############################################################################## ############################################################################## * installing to library ‘/Library/Frameworks/R.framework/Versions/4.4-x86_64/Resources/library’ * installing *source* package ‘clippda’ ... ** using staged installation ** R ** data ** inst ** byte-compile and prepare package for lazy loading ** help *** installing help indices ** building package indices ** installing vignettes ** testing if installed package can be loaded from temporary location ** testing if installed package can be loaded from final location ** testing if installed package keeps a record of temporary installation path * DONE (clippda)
clippda.Rcheck/clippda-Ex.timings
| name | user | system | elapsed | |
| ZvaluescasesVcontrolsPlots | 0.012 | 0.003 | 0.015 | |
| ZvaluesfrommultinomPlots | 0.896 | 0.079 | 0.980 | |
| aclinicalProteomicsData-class | 0.043 | 0.005 | 0.048 | |
| aclinicalProteomicsData-methods | 0.238 | 0.422 | 0.715 | |
| betweensampleVariance | 1.143 | 0.104 | 1.254 | |
| checkNo.replicates | 0.057 | 0.010 | 0.068 | |
| clippda-package | 74.084 | 3.321 | 77.763 | |
| f | 0.000 | 0.000 | 0.001 | |
| fisherInformation | 0.055 | 0.005 | 0.061 | |
| liverRawData | 0.003 | 0.002 | 0.004 | |
| liver_pheno | 0.002 | 0.002 | 0.003 | |
| liverdata | 1.102 | 0.133 | 1.242 | |
| mostSimilarTwo | 0.001 | 0.000 | 0.001 | |
| negativeIntensitiesCorrection | 0.393 | 0.081 | 0.479 | |
| phenoDataFrame | 0.042 | 0.005 | 0.047 | |
| pheno_urine | 0.001 | 0.001 | 0.002 | |
| preProcRepeatedPeakData | 1.056 | 0.176 | 1.238 | |
| proteomicsExprsData | 0.111 | 0.004 | 0.118 | |
| proteomicspData | 0.039 | 0.004 | 0.043 | |
| replicateCorrelations | 4.003 | 0.198 | 4.213 | |
| sampleClusteredData | 0.241 | 0.034 | 0.275 | |
| sampleSize | 44.857 | 2.231 | 47.276 | |
| sampleSize3DscatterPlots | 0.020 | 0.004 | 0.026 | |
| sampleSizeContourPlots | 0.021 | 0.005 | 0.026 | |
| sampleSizeParameters | 22.697 | 1.184 | 24.106 | |
| sample_technicalVariance | 6.258 | 0.320 | 6.642 | |
| spectrumFilter | 1.023 | 0.166 | 1.213 | |
| ztwo | 0 | 0 | 0 | |