| Back to Multiple platform build/check report for BioC 3.19: simplified long |
|
This page was generated on 2024-10-18 20:38 -0400 (Fri, 18 Oct 2024).
| Hostname | OS | Arch (*) | R version | Installed pkgs |
|---|---|---|---|---|
| nebbiolo1 | Linux (Ubuntu 22.04.3 LTS) | x86_64 | 4.4.1 (2024-06-14) -- "Race for Your Life" | 4763 |
| palomino7 | Windows Server 2022 Datacenter | x64 | 4.4.1 (2024-06-14 ucrt) -- "Race for Your Life" | 4500 |
| merida1 | macOS 12.7.5 Monterey | x86_64 | 4.4.1 (2024-06-14) -- "Race for Your Life" | 4530 |
| kjohnson1 | macOS 13.6.6 Ventura | arm64 | 4.4.1 (2024-06-14) -- "Race for Your Life" | 4480 |
| Click on any hostname to see more info about the system (e.g. compilers) (*) as reported by 'uname -p', except on Windows and Mac OS X | ||||
| Package 363/2300 | Hostname | OS / Arch | INSTALL | BUILD | CHECK | BUILD BIN | ||||||||
| clippda 1.54.0 (landing page) Stephen Nyangoma
| nebbiolo1 | Linux (Ubuntu 22.04.3 LTS) / x86_64 | OK | OK | OK | |||||||||
| palomino7 | Windows Server 2022 Datacenter / x64 | OK | OK | OK | OK | |||||||||
| merida1 | macOS 12.7.5 Monterey / x86_64 | OK | OK | OK | OK | |||||||||
| kjohnson1 | macOS 13.6.6 Ventura / arm64 | OK | OK | OK | OK | |||||||||
|
To the developers/maintainers of the clippda package: - Allow up to 24 hours (and sometimes 48 hours) for your latest push to git@git.bioconductor.org:packages/clippda.git to reflect on this report. See Troubleshooting Build Report for more information. - Use the following Renviron settings to reproduce errors and warnings. - If 'R CMD check' started to fail recently on the Linux builder(s) over a missing dependency, add the missing dependency to 'Suggests:' in your DESCRIPTION file. See Renviron.bioc for more information. |
| Package: clippda |
| Version: 1.54.0 |
| Command: /home/biocbuild/bbs-3.19-bioc/R/bin/R CMD check --install=check:clippda.install-out.txt --library=/home/biocbuild/bbs-3.19-bioc/R/site-library --timings clippda_1.54.0.tar.gz |
| StartedAt: 2024-10-16 22:49:14 -0400 (Wed, 16 Oct 2024) |
| EndedAt: 2024-10-16 22:53:47 -0400 (Wed, 16 Oct 2024) |
| EllapsedTime: 273.6 seconds |
| RetCode: 0 |
| Status: OK |
| CheckDir: clippda.Rcheck |
| Warnings: 0 |
##############################################################################
##############################################################################
###
### Running command:
###
### /home/biocbuild/bbs-3.19-bioc/R/bin/R CMD check --install=check:clippda.install-out.txt --library=/home/biocbuild/bbs-3.19-bioc/R/site-library --timings clippda_1.54.0.tar.gz
###
##############################################################################
##############################################################################
* using log directory ‘/home/biocbuild/bbs-3.19-bioc/meat/clippda.Rcheck’
* using R version 4.4.1 (2024-06-14)
* using platform: x86_64-pc-linux-gnu
* R was compiled by
gcc (Ubuntu 11.4.0-1ubuntu1~22.04) 11.4.0
GNU Fortran (Ubuntu 11.4.0-1ubuntu1~22.04) 11.4.0
* running under: Ubuntu 22.04.5 LTS
* using session charset: UTF-8
* checking for file ‘clippda/DESCRIPTION’ ... OK
* this is package ‘clippda’ version ‘1.54.0’
* checking package namespace information ... NOTE
Namespaces with empty importFrom:
‘Biobase’ ‘tools’
* checking package dependencies ... NOTE
Depends: includes the non-default packages:
'limma', 'statmod', 'rgl', 'lattice', 'scatterplot3d', 'Biobase',
'tools'
Adding so many packages to the search path is excessive and importing
selectively is preferable.
* checking if this is a source package ... OK
* checking if there is a namespace ... OK
* checking for hidden files and directories ... OK
* checking for portable file names ... OK
* checking for sufficient/correct file permissions ... OK
* checking whether package ‘clippda’ can be installed ... OK
* checking installed package size ... OK
* checking package directory ... OK
* checking ‘build’ directory ... OK
* checking DESCRIPTION meta-information ... OK
* checking top-level files ... OK
* checking for left-over files ... OK
* checking index information ... OK
* checking package subdirectories ... OK
* checking code files for non-ASCII characters ... OK
* checking R files for syntax errors ... OK
* checking whether the package can be loaded ... OK
* checking whether the package can be loaded with stated dependencies ... OK
* checking whether the package can be unloaded cleanly ... OK
* checking whether the namespace can be loaded with stated dependencies ... OK
* checking whether the namespace can be unloaded cleanly ... OK
* checking loading without being on the library search path ... OK
* checking dependencies in R code ... NOTE
'library' or 'require' calls to packages already attached by Depends:
‘lattice’ ‘limma’ ‘rgl’ ‘scatterplot3d’ ‘statmod’
Please remove these calls from your code.
Packages in Depends field not imported from:
‘lattice’ ‘rgl’
These packages need to be imported from (in the NAMESPACE file)
for when this namespace is loaded but not attached.
* checking S3 generic/method consistency ... OK
* checking replacement functions ... OK
* checking foreign function calls ... OK
* checking R code for possible problems ... NOTE
ZvaluescasesVcontrolsPlots: no visible global function definition for
‘lines’
ZvaluescasesVcontrolsPlots: no visible global function definition for
‘legend’
ZvaluesfrommultinomPlots: no visible global function definition for
‘rmultinom’
ZvaluesfrommultinomPlots: no visible global function definition for
‘density’
ZvaluesfrommultinomPlots: no visible global function definition for
‘lines’
ZvaluesfrommultinomPlots: no visible global function definition for
‘legend’
ZvaluesfrommultinomPlots: no visible global function definition for
‘cloud’
ZvaluesfrommultinomPlots: no visible global function definition for
‘var’
Undefined global functions or variables:
cloud density legend lines rmultinom var
Consider adding
importFrom("graphics", "legend", "lines")
importFrom("stats", "density", "rmultinom", "var")
to your NAMESPACE file.
* checking Rd files ... NOTE
checkRd: (-1) show-methods.Rd:11-18: Lost braces
11 | {object = "aclinicalProteomicsData"}{
| ^
* checking Rd metadata ... OK
* checking Rd cross-references ... OK
* checking for missing documentation entries ... OK
* checking for code/documentation mismatches ... OK
* checking Rd \usage sections ... OK
* checking Rd contents ... OK
* checking for unstated dependencies in examples ... OK
* checking contents of ‘data’ directory ... OK
* checking data for non-ASCII characters ... OK
* checking data for ASCII and uncompressed saves ... OK
* checking files in ‘vignettes’ ... OK
* checking examples ... OK
Examples with CPU (user + system) or elapsed time > 5s
user system elapsed
clippda-package 76.321 0.415 76.755
sampleSize 45.372 0.136 45.542
sampleSizeParameters 22.632 0.040 22.671
sample_technicalVariance 6.508 0.008 6.519
* checking for unstated dependencies in vignettes ... OK
* checking package vignettes ... OK
* checking re-building of vignette outputs ... OK
* checking PDF version of manual ... OK
* DONE
Status: 5 NOTEs
See
‘/home/biocbuild/bbs-3.19-bioc/meat/clippda.Rcheck/00check.log’
for details.
clippda.Rcheck/00install.out
############################################################################## ############################################################################## ### ### Running command: ### ### /home/biocbuild/bbs-3.19-bioc/R/bin/R CMD INSTALL clippda ### ############################################################################## ############################################################################## * installing to library ‘/home/biocbuild/bbs-3.19-bioc/R/site-library’ * installing *source* package ‘clippda’ ... ** using staged installation ** R ** data ** inst ** byte-compile and prepare package for lazy loading ** help *** installing help indices ** building package indices ** installing vignettes ** testing if installed package can be loaded from temporary location ** testing if installed package can be loaded from final location ** testing if installed package keeps a record of temporary installation path * DONE (clippda)
clippda.Rcheck/clippda-Ex.timings
| name | user | system | elapsed | |
| ZvaluescasesVcontrolsPlots | 0.013 | 0.000 | 0.013 | |
| ZvaluesfrommultinomPlots | 1.171 | 0.060 | 1.231 | |
| aclinicalProteomicsData-class | 0.056 | 0.008 | 0.064 | |
| aclinicalProteomicsData-methods | 0.169 | 0.509 | 0.679 | |
| betweensampleVariance | 1.130 | 0.043 | 1.173 | |
| checkNo.replicates | 0.079 | 0.001 | 0.080 | |
| clippda-package | 76.321 | 0.415 | 76.755 | |
| f | 0.001 | 0.000 | 0.000 | |
| fisherInformation | 0.066 | 0.004 | 0.070 | |
| liverRawData | 0.005 | 0.000 | 0.005 | |
| liver_pheno | 0.002 | 0.000 | 0.002 | |
| liverdata | 1.118 | 0.008 | 1.126 | |
| mostSimilarTwo | 0.002 | 0.000 | 0.002 | |
| negativeIntensitiesCorrection | 0.24 | 0.00 | 0.24 | |
| phenoDataFrame | 0.052 | 0.000 | 0.052 | |
| pheno_urine | 0.002 | 0.000 | 0.001 | |
| preProcRepeatedPeakData | 0.907 | 0.008 | 0.914 | |
| proteomicsExprsData | 0.115 | 0.000 | 0.115 | |
| proteomicspData | 0.045 | 0.006 | 0.051 | |
| replicateCorrelations | 3.881 | 0.014 | 3.894 | |
| sampleClusteredData | 0.382 | 0.000 | 0.383 | |
| sampleSize | 45.372 | 0.136 | 45.542 | |
| sampleSize3DscatterPlots | 0.015 | 0.004 | 0.019 | |
| sampleSizeContourPlots | 0.018 | 0.008 | 0.026 | |
| sampleSizeParameters | 22.632 | 0.040 | 22.671 | |
| sample_technicalVariance | 6.508 | 0.008 | 6.519 | |
| spectrumFilter | 0.870 | 0.015 | 0.885 | |
| ztwo | 0.000 | 0.000 | 0.001 | |