| Back to Multiple platform build/check report for BioC 3.19: simplified long |
|
This page was generated on 2024-10-18 20:40 -0400 (Fri, 18 Oct 2024).
| Hostname | OS | Arch (*) | R version | Installed pkgs |
|---|---|---|---|---|
| nebbiolo1 | Linux (Ubuntu 22.04.3 LTS) | x86_64 | 4.4.1 (2024-06-14) -- "Race for Your Life" | 4763 |
| palomino7 | Windows Server 2022 Datacenter | x64 | 4.4.1 (2024-06-14 ucrt) -- "Race for Your Life" | 4500 |
| merida1 | macOS 12.7.5 Monterey | x86_64 | 4.4.1 (2024-06-14) -- "Race for Your Life" | 4530 |
| kjohnson1 | macOS 13.6.6 Ventura | arm64 | 4.4.1 (2024-06-14) -- "Race for Your Life" | 4480 |
| Click on any hostname to see more info about the system (e.g. compilers) (*) as reported by 'uname -p', except on Windows and Mac OS X | ||||
| Package 112/2300 | Hostname | OS / Arch | INSTALL | BUILD | CHECK | BUILD BIN | ||||||||
| autonomics 1.12.1 (landing page) Aditya Bhagwat
| nebbiolo1 | Linux (Ubuntu 22.04.3 LTS) / x86_64 | OK | OK | OK | |||||||||
| palomino7 | Windows Server 2022 Datacenter / x64 | OK | OK | OK | OK | |||||||||
| merida1 | macOS 12.7.5 Monterey / x86_64 | OK | OK | OK | OK | |||||||||
| kjohnson1 | macOS 13.6.6 Ventura / arm64 | OK | OK | ERROR | OK | |||||||||
|
To the developers/maintainers of the autonomics package: - Allow up to 24 hours (and sometimes 48 hours) for your latest push to git@git.bioconductor.org:packages/autonomics.git to reflect on this report. See Troubleshooting Build Report for more information. - Use the following Renviron settings to reproduce errors and warnings. - If 'R CMD check' started to fail recently on the Linux builder(s) over a missing dependency, add the missing dependency to 'Suggests:' in your DESCRIPTION file. See Renviron.bioc for more information. |
| Package: autonomics |
| Version: 1.12.1 |
| Command: /Library/Frameworks/R.framework/Resources/bin/R CMD check --install=check:autonomics.install-out.txt --library=/Library/Frameworks/R.framework/Resources/library --no-vignettes --timings autonomics_1.12.1.tar.gz |
| StartedAt: 2024-10-17 01:13:56 -0400 (Thu, 17 Oct 2024) |
| EndedAt: 2024-10-17 01:51:06 -0400 (Thu, 17 Oct 2024) |
| EllapsedTime: 2230.2 seconds |
| RetCode: 0 |
| Status: OK |
| CheckDir: autonomics.Rcheck |
| Warnings: 0 |
##############################################################################
##############################################################################
###
### Running command:
###
### /Library/Frameworks/R.framework/Resources/bin/R CMD check --install=check:autonomics.install-out.txt --library=/Library/Frameworks/R.framework/Resources/library --no-vignettes --timings autonomics_1.12.1.tar.gz
###
##############################################################################
##############################################################################
* using log directory ‘/Users/biocbuild/bbs-3.19-bioc/meat/autonomics.Rcheck’
* using R version 4.4.1 (2024-06-14)
* using platform: x86_64-apple-darwin20
* R was compiled by
Apple clang version 14.0.0 (clang-1400.0.29.202)
GNU Fortran (GCC) 12.2.0
* running under: macOS Monterey 12.7.6
* using session charset: UTF-8
* using option ‘--no-vignettes’
* checking for file ‘autonomics/DESCRIPTION’ ... OK
* checking extension type ... Package
* this is package ‘autonomics’ version ‘1.12.1’
* package encoding: UTF-8
* checking package namespace information ... OK
* checking package dependencies ... OK
* checking if this is a source package ... OK
* checking if there is a namespace ... OK
* checking for hidden files and directories ... NOTE
Found the following hidden files and directories:
.BBSoptions
These were most likely included in error. See section ‘Package
structure’ in the ‘Writing R Extensions’ manual.
* checking for portable file names ... OK
* checking for sufficient/correct file permissions ... OK
* checking whether package ‘autonomics’ can be installed ... OK
* checking installed package size ... OK
* checking package directory ... OK
* checking ‘build’ directory ... OK
* checking DESCRIPTION meta-information ... OK
* checking top-level files ... OK
* checking for left-over files ... OK
* checking index information ... OK
* checking package subdirectories ... OK
* checking code files for non-ASCII characters ... OK
* checking R files for syntax errors ... OK
* checking whether the package can be loaded ... OK
* checking whether the package can be loaded with stated dependencies ... OK
* checking whether the package can be unloaded cleanly ... OK
* checking whether the namespace can be loaded with stated dependencies ... OK
* checking whether the namespace can be unloaded cleanly ... OK
* checking dependencies in R code ... OK
* checking S3 generic/method consistency ... OK
* checking replacement functions ... OK
* checking foreign function calls ... OK
* checking R code for possible problems ... OK
* checking Rd files ... NOTE
checkRd: (-1) dequantify.Rd:24: Lost braces; missing escapes or markup?
24 | Encode {channel} as suffix.
| ^
* checking Rd metadata ... OK
* checking Rd cross-references ... OK
* checking for missing documentation entries ... OK
* checking for code/documentation mismatches ... OK
* checking Rd \usage sections ... OK
* checking Rd contents ... OK
* checking for unstated dependencies in examples ... OK
* checking files in ‘vignettes’ ... OK
* checking examples ... OK
Examples with CPU (user + system) or elapsed time > 5s
user system elapsed
read_diann_proteingroups 245.496 3.908 302.357
read_rnaseq_counts 62.243 3.109 77.865
plot_exprs 54.504 0.504 66.605
plot_exprs_per_coef 51.037 0.515 62.908
rm_diann_contaminants 49.941 0.685 60.978
default_formula 40.937 0.996 49.700
analyze 33.014 0.329 38.727
fit 31.617 0.488 38.423
read_somascan 31.702 0.231 39.159
plot_summary 31.373 0.350 38.670
read_metabolon 30.900 0.285 37.959
plot_volcano 26.015 0.300 32.069
plot_densities 21.314 0.446 26.329
read_fragpipe 16.671 0.366 20.541
plot_sample_nas 15.591 0.172 19.600
code 13.430 0.170 15.876
biplot_covariates 13.281 0.166 16.949
extract_coef_features 12.475 0.174 14.628
subtract_baseline 11.647 0.460 13.947
plot_subgroup_points 11.505 0.197 14.858
fit_lmx 11.359 0.217 14.513
reset_fit 10.575 0.168 13.850
plot_violins 9.772 0.182 12.082
biplot 9.368 0.144 11.841
log2transform 9.189 0.097 11.084
dot-plot_survival 8.347 0.724 10.803
explore_transformations 8.619 0.094 10.306
biplot_corrections 8.299 0.128 10.065
impute 7.768 0.084 9.398
pca 7.559 0.134 9.258
plot_contrastogram 5.900 0.263 7.869
sumexp_to_longdt 4.754 0.211 6.008
plot_contrast_venn 4.838 0.124 6.546
plot_fit_summary 4.631 0.120 5.791
add_facetvars 4.375 0.201 5.490
plot_heatmap 4.480 0.044 5.410
modelvar 4.316 0.130 5.413
read_olink 3.804 0.215 5.062
* checking for unstated dependencies in ‘tests’ ... OK
* checking tests ...
Running ‘testthat.R’
OK
* checking for unstated dependencies in vignettes ... OK
* checking package vignettes ... OK
* checking running R code from vignettes ... SKIPPED
* checking re-building of vignette outputs ... SKIPPED
* checking PDF version of manual ... OK
* DONE
Status: 2 NOTEs
See
‘/Users/biocbuild/bbs-3.19-bioc/meat/autonomics.Rcheck/00check.log’
for details.
autonomics.Rcheck/00install.out
############################################################################## ############################################################################## ### ### Running command: ### ### /Library/Frameworks/R.framework/Resources/bin/R CMD INSTALL autonomics ### ############################################################################## ############################################################################## * installing to library ‘/Library/Frameworks/R.framework/Versions/4.4-x86_64/Resources/library’ * installing *source* package ‘autonomics’ ... ** using staged installation ** R ** inst ** byte-compile and prepare package for lazy loading ** help *** installing help indices ** building package indices ** installing vignettes ** testing if installed package can be loaded from temporary location ** testing if installed package can be loaded from final location ** testing if installed package keeps a record of temporary installation path * DONE (autonomics)
autonomics.Rcheck/tests/testthat.Rout
R version 4.4.1 (2024-06-14) -- "Race for Your Life"
Copyright (C) 2024 The R Foundation for Statistical Computing
Platform: x86_64-apple-darwin20
R is free software and comes with ABSOLUTELY NO WARRANTY.
You are welcome to redistribute it under certain conditions.
Type 'license()' or 'licence()' for distribution details.
R is a collaborative project with many contributors.
Type 'contributors()' for more information and
'citation()' on how to cite R or R packages in publications.
Type 'demo()' for some demos, 'help()' for on-line help, or
'help.start()' for an HTML browser interface to help.
Type 'q()' to quit R.
> library(testthat)
> library(autonomics)
Attaching package: 'autonomics'
The following objects are masked from 'package:stats':
biplot, loadings
>
> test_check("autonomics")
[ FAIL 0 | WARN 0 | SKIP 0 | PASS 159 ]
>
> proc.time()
user system elapsed
286.953 12.586 359.390
autonomics.Rcheck/autonomics-Ex.timings
| name | user | system | elapsed | |
| AUTONOMICS_DATASETS | 0.001 | 0.001 | 0.002 | |
| CONTAMINANTSURL | 0.000 | 0.000 | 0.001 | |
| FITSEP | 0.000 | 0.000 | 0.003 | |
| LINMOD_ENGINES | 0.000 | 0.000 | 0.001 | |
| MAXQUANT_PATTERNS | 0.001 | 0.001 | 0.001 | |
| TAXON_TO_ORGNAME | 0.000 | 0.001 | 0.001 | |
| TESTS | 0.000 | 0.000 | 0.001 | |
| abstract_fit | 3.237 | 0.160 | 4.026 | |
| add_adjusted_pvalues | 1.462 | 0.043 | 1.731 | |
| add_assay_means | 1.642 | 0.023 | 1.898 | |
| add_facetvars | 4.375 | 0.201 | 5.490 | |
| add_opentargets_by_uniprot | 1.050 | 0.021 | 1.257 | |
| add_psp | 1.300 | 0.035 | 1.582 | |
| add_smiles | 1.271 | 0.079 | 1.667 | |
| analysis | 0.996 | 0.014 | 1.222 | |
| analyze | 33.014 | 0.329 | 38.727 | |
| annotate_maxquant | 1.987 | 0.068 | 2.412 | |
| annotate_uniprot_rest | 0.143 | 0.021 | 2.163 | |
| assert_is_valid_sumexp | 1.570 | 0.080 | 1.939 | |
| bin | 1.921 | 0.035 | 2.252 | |
| biplot | 9.368 | 0.144 | 11.841 | |
| biplot_corrections | 8.299 | 0.128 | 10.065 | |
| biplot_covariates | 13.281 | 0.166 | 16.949 | |
| block2lme | 0.006 | 0.002 | 0.009 | |
| center | 3.712 | 0.045 | 4.602 | |
| code | 13.430 | 0.170 | 15.876 | |
| coefs | 1.933 | 0.091 | 2.264 | |
| collapsed_entrezg_to_symbol | 0.001 | 0.000 | 0.002 | |
| contrast_subgroup_cols | 1.559 | 0.083 | 2.053 | |
| count_in | 0.002 | 0.002 | 0.005 | |
| counts | 1.068 | 0.009 | 1.254 | |
| counts2cpm | 1.055 | 0.011 | 1.254 | |
| counts2tpm | 0.985 | 0.009 | 1.158 | |
| cpm | 1.051 | 0.012 | 1.271 | |
| create_design | 1.957 | 0.099 | 2.440 | |
| default_formula | 40.937 | 0.996 | 49.700 | |
| default_geom | 1.424 | 0.090 | 1.955 | |
| default_sfile | 0.003 | 0.001 | 0.004 | |
| demultiplex | 0.035 | 0.002 | 0.041 | |
| dequantify | 0.005 | 0.002 | 0.008 | |
| dot-merge | 0.031 | 0.002 | 0.036 | |
| dot-plot_survival | 8.347 | 0.724 | 10.803 | |
| dot-read_maxquant_proteingroups | 0.211 | 0.017 | 0.325 | |
| download_contaminants | 0.080 | 0.010 | 1.726 | |
| download_data | 0.001 | 0.002 | 0.003 | |
| download_gtf | 0.000 | 0.001 | 0.000 | |
| download_mcclain21 | 0.000 | 0.001 | 0.002 | |
| dt2mat | 0.007 | 0.002 | 0.008 | |
| enrichment | 3.135 | 0.132 | 3.873 | |
| entrezg_to_symbol | 0.001 | 0.001 | 0.003 | |
| explore_transformations | 8.619 | 0.094 | 10.306 | |
| extract_coef_features | 12.475 | 0.174 | 14.628 | |
| extract_rectangle | 0.291 | 0.073 | 0.479 | |
| fdata | 1.444 | 0.033 | 1.776 | |
| fdr2p | 2.517 | 0.091 | 3.116 | |
| filter_exprs_replicated_in_some_subgroup | 2.666 | 0.100 | 3.351 | |
| filter_features | 1.501 | 0.081 | 1.911 | |
| filter_medoid | 1.964 | 0.038 | 2.412 | |
| filter_samples | 1.447 | 0.080 | 2.038 | |
| fit | 31.617 | 0.488 | 38.423 | |
| fit_lmx | 11.359 | 0.217 | 14.513 | |
| fitcoefs | 2.020 | 0.085 | 2.591 | |
| fits | 1.991 | 0.088 | 2.617 | |
| fitvars | 2.776 | 0.098 | 3.448 | |
| fix_xlgenes | 0.003 | 0.001 | 0.004 | |
| flevels | 1.075 | 0.014 | 1.279 | |
| fnames | 1.238 | 0.018 | 1.483 | |
| formula2str | 0 | 0 | 0 | |
| fvalues | 1.080 | 0.012 | 1.340 | |
| fvars | 1.050 | 0.013 | 1.271 | |
| genome_to_orgdb | 0.001 | 0.001 | 0.002 | |
| group_by_level | 0.002 | 0.001 | 0.003 | |
| guess_fitsep | 1.255 | 0.013 | 1.492 | |
| guess_maxquant_quantity | 0.011 | 0.002 | 0.017 | |
| guess_sep | 1.579 | 0.084 | 2.002 | |
| has_multiple_levels | 0.134 | 0.005 | 0.164 | |
| hdlproteins | 0.088 | 0.061 | 0.189 | |
| impute | 7.768 | 0.084 | 9.398 | |
| invert_subgroups | 1.752 | 0.017 | 2.153 | |
| is_collapsed_subset | 0.000 | 0.001 | 0.002 | |
| is_diann_report | 0.518 | 0.106 | 0.813 | |
| is_fastadt | 0.163 | 0.003 | 0.186 | |
| is_file | 0.000 | 0.001 | 0.002 | |
| is_fraction | 0.004 | 0.002 | 0.006 | |
| is_imputed | 1.801 | 0.018 | 2.144 | |
| is_positive_number | 0.004 | 0.002 | 0.006 | |
| is_scalar_subset | 0.897 | 0.011 | 1.095 | |
| is_sig | 2.991 | 0.028 | 3.697 | |
| is_valid_formula | 0.107 | 0.003 | 0.127 | |
| keep_connected_blocks | 1.402 | 0.081 | 1.823 | |
| keep_connected_features | 1.848 | 0.092 | 2.529 | |
| keep_replicated_features | 2.113 | 0.087 | 2.724 | |
| label2index | 0.001 | 0.001 | 0.002 | |
| list2mat | 0.002 | 0.001 | 0.008 | |
| log2counts | 1.052 | 0.013 | 1.345 | |
| log2cpm | 1.014 | 0.009 | 1.215 | |
| log2diffs | 0.874 | 0.011 | 1.067 | |
| log2proteins | 0.858 | 0.010 | 1.022 | |
| log2sites | 0.897 | 0.011 | 1.086 | |
| log2tpm | 1.014 | 0.008 | 1.232 | |
| log2transform | 9.189 | 0.097 | 11.084 | |
| logical2factor | 0.003 | 0.001 | 0.007 | |
| make_alpha_palette | 1.442 | 0.099 | 1.967 | |
| make_colors | 0.016 | 0.002 | 0.024 | |
| make_volcano_dt | 2.228 | 0.028 | 2.775 | |
| map_fvalues | 1.035 | 0.017 | 1.233 | |
| matrix2sumexp | 2.505 | 0.092 | 3.406 | |
| merge_sample_file | 1.161 | 0.024 | 1.549 | |
| merge_sdata | 1.485 | 0.132 | 2.055 | |
| message_df | 0.005 | 0.001 | 0.008 | |
| modelvar | 4.316 | 0.130 | 5.413 | |
| order_on_p | 2.448 | 0.089 | 3.088 | |
| pca | 7.559 | 0.134 | 9.258 | |
| pg_to_canonical | 0.015 | 0.002 | 0.017 | |
| plot_contrast_venn | 4.838 | 0.124 | 6.546 | |
| plot_contrastogram | 5.900 | 0.263 | 7.869 | |
| plot_data | 3.265 | 0.104 | 3.972 | |
| plot_densities | 21.314 | 0.446 | 26.329 | |
| plot_design | 1.561 | 0.018 | 1.872 | |
| plot_exprs | 54.504 | 0.504 | 66.605 | |
| plot_exprs_per_coef | 51.037 | 0.515 | 62.908 | |
| plot_fit_summary | 4.631 | 0.120 | 5.791 | |
| plot_heatmap | 4.480 | 0.044 | 5.410 | |
| plot_matrix | 1.369 | 0.093 | 1.862 | |
| plot_sample_nas | 15.591 | 0.172 | 19.600 | |
| plot_subgroup_points | 11.505 | 0.197 | 14.858 | |
| plot_summary | 31.373 | 0.350 | 38.670 | |
| plot_venn | 0.026 | 0.003 | 0.034 | |
| plot_venn_heatmap | 0.081 | 0.007 | 0.113 | |
| plot_violins | 9.772 | 0.182 | 12.082 | |
| plot_volcano | 26.015 | 0.300 | 32.069 | |
| preprocess_rnaseq_counts | 0.960 | 0.009 | 1.161 | |
| pull_columns | 0.005 | 0.001 | 0.009 | |
| read_affymetrix | 0.000 | 0.001 | 0.001 | |
| read_contaminants | 0.041 | 0.006 | 1.161 | |
| read_diann_proteingroups | 245.496 | 3.908 | 302.357 | |
| read_fragpipe | 16.671 | 0.366 | 20.541 | |
| read_maxquant_phosphosites | 3.627 | 0.058 | 4.428 | |
| read_maxquant_proteingroups | 3.077 | 0.039 | 3.816 | |
| read_metabolon | 30.900 | 0.285 | 37.959 | |
| read_msigdt | 0.001 | 0.000 | 0.004 | |
| read_olink | 3.804 | 0.215 | 5.062 | |
| read_rectangles | 0.403 | 0.044 | 0.543 | |
| read_rnaseq_counts | 62.243 | 3.109 | 77.865 | |
| read_salmon | 0.000 | 0.000 | 0.001 | |
| read_somascan | 31.702 | 0.231 | 39.159 | |
| read_uniprotdt | 0.616 | 0.052 | 0.836 | |
| reset_fit | 10.575 | 0.168 | 13.850 | |
| rm_diann_contaminants | 49.941 | 0.685 | 60.978 | |
| rm_missing_in_some_samples | 1.435 | 0.136 | 1.787 | |
| rm_unmatched_samples | 1.449 | 0.015 | 1.711 | |
| scaledlibsizes | 0.977 | 0.008 | 1.112 | |
| scoremat | 2.694 | 0.096 | 3.353 | |
| slevels | 1.022 | 0.014 | 1.363 | |
| snames | 1.048 | 0.022 | 1.357 | |
| split_extract_fixed | 1.444 | 0.086 | 2.180 | |
| split_samples | 3.148 | 0.110 | 3.989 | |
| stri_any_regex | 0.001 | 0.002 | 0.003 | |
| stri_detect_fixed_in_collapsed | 0.876 | 0.012 | 1.017 | |
| subgroup_matrix | 1.397 | 0.088 | 1.730 | |
| subtract_baseline | 11.647 | 0.460 | 13.947 | |
| sumexp_to_longdt | 4.754 | 0.211 | 6.008 | |
| sumexp_to_tsv | 1.369 | 0.016 | 1.573 | |
| sumexplist_to_longdt | 4.011 | 0.057 | 4.636 | |
| summarize_fit | 3.930 | 0.131 | 4.900 | |
| svalues | 1.012 | 0.017 | 1.178 | |
| svars | 1.016 | 0.021 | 1.191 | |
| systematic_nas | 1.470 | 0.019 | 1.730 | |
| tag_features | 2.311 | 0.078 | 2.809 | |
| tag_hdlproteins | 1.291 | 0.062 | 1.592 | |
| taxon2org | 0.002 | 0.001 | 0.003 | |
| tpm | 1.112 | 0.016 | 1.273 | |
| uncollapse | 0.022 | 0.001 | 0.027 | |
| values | 1.051 | 0.024 | 1.319 | |
| varlevels_dont_clash | 0.034 | 0.001 | 0.040 | |
| venn_detects | 1.393 | 0.022 | 1.634 | |
| weights | 1.121 | 0.009 | 1.345 | |
| write_xl | 1.789 | 0.093 | 2.223 | |
| zero_to_na | 0.003 | 0.002 | 0.007 | |