| Back to Multiple platform build/check report for BioC 3.19: simplified long |
|
This page was generated on 2024-10-18 20:41 -0400 (Fri, 18 Oct 2024).
| Hostname | OS | Arch (*) | R version | Installed pkgs |
|---|---|---|---|---|
| nebbiolo1 | Linux (Ubuntu 22.04.3 LTS) | x86_64 | 4.4.1 (2024-06-14) -- "Race for Your Life" | 4763 |
| palomino7 | Windows Server 2022 Datacenter | x64 | 4.4.1 (2024-06-14 ucrt) -- "Race for Your Life" | 4500 |
| merida1 | macOS 12.7.5 Monterey | x86_64 | 4.4.1 (2024-06-14) -- "Race for Your Life" | 4530 |
| kjohnson1 | macOS 13.6.6 Ventura | arm64 | 4.4.1 (2024-06-14) -- "Race for Your Life" | 4480 |
| Click on any hostname to see more info about the system (e.g. compilers) (*) as reported by 'uname -p', except on Windows and Mac OS X | ||||
| Package 112/2300 | Hostname | OS / Arch | INSTALL | BUILD | CHECK | BUILD BIN | ||||||||
| autonomics 1.12.1 (landing page) Aditya Bhagwat
| nebbiolo1 | Linux (Ubuntu 22.04.3 LTS) / x86_64 | OK | OK | OK | |||||||||
| palomino7 | Windows Server 2022 Datacenter / x64 | OK | OK | OK | OK | |||||||||
| merida1 | macOS 12.7.5 Monterey / x86_64 | OK | OK | OK | OK | |||||||||
| kjohnson1 | macOS 13.6.6 Ventura / arm64 | OK | OK | ERROR | OK | |||||||||
|
To the developers/maintainers of the autonomics package: - Allow up to 24 hours (and sometimes 48 hours) for your latest push to git@git.bioconductor.org:packages/autonomics.git to reflect on this report. See Troubleshooting Build Report for more information. - Use the following Renviron settings to reproduce errors and warnings. - If 'R CMD check' started to fail recently on the Linux builder(s) over a missing dependency, add the missing dependency to 'Suggests:' in your DESCRIPTION file. See Renviron.bioc for more information. |
| Package: autonomics |
| Version: 1.12.1 |
| Command: /Library/Frameworks/R.framework/Resources/bin/R CMD check --install=check:autonomics.install-out.txt --library=/Library/Frameworks/R.framework/Resources/library --no-vignettes --timings autonomics_1.12.1.tar.gz |
| StartedAt: 2024-10-17 12:50:55 -0400 (Thu, 17 Oct 2024) |
| EndedAt: 2024-10-17 13:06:23 -0400 (Thu, 17 Oct 2024) |
| EllapsedTime: 927.7 seconds |
| RetCode: 1 |
| Status: ERROR |
| CheckDir: autonomics.Rcheck |
| Warnings: NA |
##############################################################################
##############################################################################
###
### Running command:
###
### /Library/Frameworks/R.framework/Resources/bin/R CMD check --install=check:autonomics.install-out.txt --library=/Library/Frameworks/R.framework/Resources/library --no-vignettes --timings autonomics_1.12.1.tar.gz
###
##############################################################################
##############################################################################
* using log directory ‘/Users/biocbuild/bbs-3.19-bioc/meat/autonomics.Rcheck’
* using R version 4.4.1 (2024-06-14)
* using platform: aarch64-apple-darwin20
* R was compiled by
Apple clang version 14.0.0 (clang-1400.0.29.202)
GNU Fortran (GCC) 12.2.0
* running under: macOS Ventura 13.6.6
* using session charset: UTF-8
* using option ‘--no-vignettes’
* checking for file ‘autonomics/DESCRIPTION’ ... OK
* checking extension type ... Package
* this is package ‘autonomics’ version ‘1.12.1’
* package encoding: UTF-8
* checking package namespace information ... OK
* checking package dependencies ... OK
* checking if this is a source package ... OK
* checking if there is a namespace ... OK
* checking for hidden files and directories ... NOTE
Found the following hidden files and directories:
.BBSoptions
These were most likely included in error. See section ‘Package
structure’ in the ‘Writing R Extensions’ manual.
* checking for portable file names ... OK
* checking for sufficient/correct file permissions ... OK
* checking whether package ‘autonomics’ can be installed ... OK
* checking installed package size ... OK
* checking package directory ... OK
* checking ‘build’ directory ... OK
* checking DESCRIPTION meta-information ... OK
* checking top-level files ... OK
* checking for left-over files ... OK
* checking index information ... OK
* checking package subdirectories ... OK
* checking code files for non-ASCII characters ... OK
* checking R files for syntax errors ... OK
* checking whether the package can be loaded ... OK
* checking whether the package can be loaded with stated dependencies ... OK
* checking whether the package can be unloaded cleanly ... OK
* checking whether the namespace can be loaded with stated dependencies ... OK
* checking whether the namespace can be unloaded cleanly ... OK
* checking dependencies in R code ... OK
* checking S3 generic/method consistency ... OK
* checking replacement functions ... OK
* checking foreign function calls ... OK
* checking R code for possible problems ... OK
* checking Rd files ... NOTE
checkRd: (-1) dequantify.Rd:24: Lost braces; missing escapes or markup?
24 | Encode {channel} as suffix.
| ^
* checking Rd metadata ... OK
* checking Rd cross-references ... OK
* checking for missing documentation entries ... OK
* checking for code/documentation mismatches ... OK
* checking Rd \usage sections ... OK
* checking Rd contents ... OK
* checking for unstated dependencies in examples ... OK
* checking files in ‘vignettes’ ... OK
* checking examples ... OK
Examples with CPU (user + system) or elapsed time > 5s
user system elapsed
read_diann_proteingroups 105.708 3.096 114.068
read_rnaseq_counts 30.597 1.530 34.026
rm_diann_contaminants 21.141 0.616 21.092
plot_exprs 20.443 0.228 21.041
plot_exprs_per_coef 20.017 0.246 20.348
default_formula 18.539 0.633 17.458
fit 16.991 0.620 13.229
analyze 12.629 0.168 13.558
plot_summary 12.463 0.135 13.510
read_metabolon 12.338 0.147 13.605
read_somascan 12.224 0.087 12.637
plot_densities 10.969 0.263 11.578
plot_volcano 10.552 0.150 10.907
read_fragpipe 8.299 0.270 8.686
plot_sample_nas 6.584 0.066 7.120
fit_lmx 5.603 0.212 4.756
dot-plot_survival 5.318 0.350 5.733
biplot_covariates 5.503 0.096 5.420
code 5.111 0.095 5.042
subtract_baseline 5.089 0.112 4.827
plot_subgroup_points 4.733 0.092 5.359
* checking for unstated dependencies in ‘tests’ ... OK
* checking tests ...
Running ‘testthat.R’
ERROR
Running the tests in ‘tests/testthat.R’ failed.
Last 13 lines of output:
FALSE
attr(,"cause")
[1] nonexistent
attr(,"class")
[1] "vector_with_cause" "logical"
Backtrace:
▆
1. └─autonomics::.read_rnaseq_counts(file, sfile = sfile, by.y = "rna_id") at test-8_fit.R:76:9
2. └─autonomics:::assert_all_are_existing_files(file)
3. └─autonomics:::assert_engine(...)
4. └─autonomics:::give_feedback(handler_type, msg, predicate_name)
[ FAIL 1 | WARN 0 | SKIP 0 | PASS 158 ]
Error: Test failures
Execution halted
* checking for unstated dependencies in vignettes ... OK
* checking package vignettes ... OK
* checking running R code from vignettes ... SKIPPED
* checking re-building of vignette outputs ... SKIPPED
* checking PDF version of manual ... OK
* DONE
Status: 1 ERROR, 2 NOTEs
See
‘/Users/biocbuild/bbs-3.19-bioc/meat/autonomics.Rcheck/00check.log’
for details.
autonomics.Rcheck/00install.out
############################################################################## ############################################################################## ### ### Running command: ### ### /Library/Frameworks/R.framework/Resources/bin/R CMD INSTALL autonomics ### ############################################################################## ############################################################################## * installing to library ‘/Library/Frameworks/R.framework/Versions/4.4-arm64/Resources/library’ * installing *source* package ‘autonomics’ ... ** using staged installation ** R ** inst ** byte-compile and prepare package for lazy loading ** help *** installing help indices ** building package indices ** installing vignettes ** testing if installed package can be loaded from temporary location ** testing if installed package can be loaded from final location ** testing if installed package keeps a record of temporary installation path * DONE (autonomics)
autonomics.Rcheck/tests/testthat.Rout.fail
R version 4.4.1 (2024-06-14) -- "Race for Your Life"
Copyright (C) 2024 The R Foundation for Statistical Computing
Platform: aarch64-apple-darwin20
R is free software and comes with ABSOLUTELY NO WARRANTY.
You are welcome to redistribute it under certain conditions.
Type 'license()' or 'licence()' for distribution details.
R is a collaborative project with many contributors.
Type 'contributors()' for more information and
'citation()' on how to cite R or R packages in publications.
Type 'demo()' for some demos, 'help()' for on-line help, or
'help.start()' for an HTML browser interface to help.
Type 'q()' to quit R.
> library(testthat)
> library(autonomics)
Attaching package: 'autonomics'
The following objects are masked from 'package:stats':
biplot, loadings
>
> test_check("autonomics")
[ FAIL 1 | WARN 0 | SKIP 0 | PASS 158 ]
══ Failed tests ════════════════════════════════════════════════════════════════
── Error ('test-8_fit.R:76:9'): fit: mcclain21 ───────────────────────────────
<assertionError/assertionCondition/simpleError/error/condition>
Error in `.read_rnaseq_counts(file, sfile = sfile, by.y = "rna_id")`: is_existing_file : Some or all of the files specified by file do not exist.
/Users/biocbuild/Library/Caches/org.R-project.R/R/autonomics/datasets/mcclain21/GSE161731_counts.csv.gz
FALSE
attr(,"cause")
[1] nonexistent
attr(,"class")
[1] "vector_with_cause" "logical"
Backtrace:
▆
1. └─autonomics::.read_rnaseq_counts(file, sfile = sfile, by.y = "rna_id") at test-8_fit.R:76:9
2. └─autonomics:::assert_all_are_existing_files(file)
3. └─autonomics:::assert_engine(...)
4. └─autonomics:::give_feedback(handler_type, msg, predicate_name)
[ FAIL 1 | WARN 0 | SKIP 0 | PASS 158 ]
Error: Test failures
Execution halted
autonomics.Rcheck/autonomics-Ex.timings
| name | user | system | elapsed | |
| AUTONOMICS_DATASETS | 0.000 | 0.000 | 0.001 | |
| CONTAMINANTSURL | 0 | 0 | 0 | |
| FITSEP | 0 | 0 | 0 | |
| LINMOD_ENGINES | 0.000 | 0.000 | 0.001 | |
| MAXQUANT_PATTERNS | 0.000 | 0.000 | 0.001 | |
| TAXON_TO_ORGNAME | 0.000 | 0.000 | 0.001 | |
| TESTS | 0 | 0 | 0 | |
| abstract_fit | 1.315 | 0.111 | 1.417 | |
| add_adjusted_pvalues | 0.561 | 0.017 | 0.590 | |
| add_assay_means | 1.257 | 0.017 | 1.289 | |
| add_facetvars | 1.759 | 0.115 | 1.675 | |
| add_opentargets_by_uniprot | 0.462 | 0.011 | 0.502 | |
| add_psp | 0.521 | 0.016 | 0.564 | |
| add_smiles | 0.421 | 0.034 | 0.480 | |
| analysis | 0.332 | 0.015 | 0.337 | |
| analyze | 12.629 | 0.168 | 13.558 | |
| annotate_maxquant | 1.025 | 0.042 | 1.147 | |
| annotate_uniprot_rest | 0.102 | 0.022 | 0.994 | |
| assert_is_valid_sumexp | 0.771 | 0.060 | 1.153 | |
| bin | 1.472 | 0.028 | 1.592 | |
| biplot | 3.549 | 0.072 | 3.812 | |
| biplot_corrections | 3.432 | 0.077 | 3.314 | |
| biplot_covariates | 5.503 | 0.096 | 5.420 | |
| block2lme | 0.003 | 0.001 | 0.004 | |
| center | 1.567 | 0.023 | 1.600 | |
| code | 5.111 | 0.095 | 5.042 | |
| coefs | 0.908 | 0.066 | 0.787 | |
| collapsed_entrezg_to_symbol | 0.001 | 0.001 | 0.001 | |
| contrast_subgroup_cols | 0.785 | 0.062 | 0.650 | |
| count_in | 0.003 | 0.001 | 0.002 | |
| counts | 0.470 | 0.005 | 0.470 | |
| counts2cpm | 0.424 | 0.005 | 0.430 | |
| counts2tpm | 0.389 | 0.004 | 0.393 | |
| cpm | 0.403 | 0.004 | 0.408 | |
| create_design | 0.943 | 0.071 | 0.813 | |
| default_formula | 18.539 | 0.633 | 17.458 | |
| default_geom | 0.704 | 0.066 | 0.641 | |
| default_sfile | 0.003 | 0.000 | 0.002 | |
| demultiplex | 0.019 | 0.002 | 0.013 | |
| dequantify | 0.003 | 0.001 | 0.002 | |
| dot-merge | 0.023 | 0.001 | 0.023 | |
| dot-plot_survival | 5.318 | 0.350 | 5.733 | |
| dot-read_maxquant_proteingroups | 0.147 | 0.007 | 0.154 | |
| download_contaminants | 0.097 | 0.010 | 0.705 | |
| download_data | 0.001 | 0.001 | 0.001 | |
| download_gtf | 0.000 | 0.000 | 0.001 | |
| download_mcclain21 | 0.001 | 0.001 | 0.002 | |
| dt2mat | 0.004 | 0.001 | 0.004 | |
| enrichment | 1.243 | 0.065 | 1.321 | |
| entrezg_to_symbol | 0.000 | 0.000 | 0.001 | |
| explore_transformations | 3.390 | 0.072 | 3.583 | |
| extract_coef_features | 4.733 | 0.085 | 4.688 | |
| extract_rectangle | 0.151 | 0.044 | 0.196 | |
| fdata | 0.611 | 0.014 | 0.630 | |
| fdr2p | 1.182 | 0.069 | 1.042 | |
| filter_exprs_replicated_in_some_subgroup | 1.484 | 0.099 | 1.067 | |
| filter_features | 0.877 | 0.086 | 0.695 | |
| filter_medoid | 0.876 | 0.021 | 0.878 | |
| filter_samples | 0.725 | 0.061 | 0.631 | |
| fit | 16.991 | 0.620 | 13.229 | |
| fit_lmx | 5.603 | 0.212 | 4.756 | |
| fitcoefs | 0.977 | 0.067 | 0.833 | |
| fits | 1.003 | 0.067 | 0.863 | |
| fitvars | 1.216 | 0.068 | 1.082 | |
| fix_xlgenes | 0.002 | 0.000 | 0.002 | |
| flevels | 0.442 | 0.008 | 0.451 | |
| fnames | 0.541 | 0.012 | 0.561 | |
| formula2str | 0 | 0 | 0 | |
| fvalues | 0.459 | 0.009 | 0.469 | |
| fvars | 0.445 | 0.009 | 0.455 | |
| genome_to_orgdb | 0.001 | 0.000 | 0.000 | |
| group_by_level | 0.001 | 0.000 | 0.002 | |
| guess_fitsep | 0.507 | 0.009 | 0.519 | |
| guess_maxquant_quantity | 0.005 | 0.001 | 0.006 | |
| guess_sep | 0.949 | 0.066 | 0.874 | |
| has_multiple_levels | 0.109 | 0.007 | 0.063 | |
| hdlproteins | 0.078 | 0.033 | 0.096 | |
| impute | 3.239 | 0.042 | 3.298 | |
| invert_subgroups | 0.787 | 0.010 | 0.804 | |
| is_collapsed_subset | 0.001 | 0.000 | 0.001 | |
| is_diann_report | 0.703 | 0.090 | 0.477 | |
| is_fastadt | 0.115 | 0.006 | 0.074 | |
| is_file | 0.001 | 0.000 | 0.000 | |
| is_fraction | 0.003 | 0.000 | 0.002 | |
| is_imputed | 0.820 | 0.011 | 0.806 | |
| is_positive_number | 0.002 | 0.001 | 0.002 | |
| is_scalar_subset | 0.414 | 0.006 | 0.422 | |
| is_sig | 1.228 | 0.012 | 1.244 | |
| is_valid_formula | 0.045 | 0.001 | 0.047 | |
| keep_connected_blocks | 0.789 | 0.059 | 0.666 | |
| keep_connected_features | 1.175 | 0.104 | 0.867 | |
| keep_replicated_features | 1.337 | 0.101 | 0.895 | |
| label2index | 0.001 | 0.000 | 0.001 | |
| list2mat | 0.002 | 0.001 | 0.001 | |
| log2counts | 0.645 | 0.018 | 0.520 | |
| log2cpm | 0.439 | 0.004 | 0.445 | |
| log2diffs | 0.370 | 0.007 | 0.379 | |
| log2proteins | 0.370 | 0.006 | 0.378 | |
| log2sites | 0.412 | 0.007 | 0.420 | |
| log2tpm | 0.428 | 0.003 | 0.432 | |
| log2transform | 4.055 | 0.057 | 4.201 | |
| logical2factor | 0.002 | 0.000 | 0.002 | |
| make_alpha_palette | 0.610 | 0.052 | 0.672 | |
| make_colors | 0.012 | 0.002 | 0.015 | |
| make_volcano_dt | 1.006 | 0.013 | 1.043 | |
| map_fvalues | 0.462 | 0.008 | 0.479 | |
| matrix2sumexp | 1.138 | 0.060 | 1.288 | |
| merge_sample_file | 0.559 | 0.012 | 0.580 | |
| merge_sdata | 0.656 | 0.067 | 0.843 | |
| message_df | 0.003 | 0.001 | 0.003 | |
| modelvar | 1.814 | 0.084 | 1.926 | |
| order_on_p | 1.063 | 0.057 | 1.130 | |
| pca | 3.234 | 0.081 | 3.397 | |
| pg_to_canonical | 0.006 | 0.001 | 0.007 | |
| plot_contrast_venn | 2.051 | 0.081 | 2.159 | |
| plot_contrastogram | 2.603 | 0.164 | 2.843 | |
| plot_data | 1.413 | 0.071 | 1.488 | |
| plot_densities | 10.969 | 0.263 | 11.578 | |
| plot_design | 0.666 | 0.011 | 0.696 | |
| plot_exprs | 20.443 | 0.228 | 21.041 | |
| plot_exprs_per_coef | 20.017 | 0.246 | 20.348 | |
| plot_fit_summary | 1.803 | 0.075 | 2.072 | |
| plot_heatmap | 1.592 | 0.017 | 1.723 | |
| plot_matrix | 0.626 | 0.048 | 0.892 | |
| plot_sample_nas | 6.584 | 0.066 | 7.120 | |
| plot_subgroup_points | 4.733 | 0.092 | 5.359 | |
| plot_summary | 12.463 | 0.135 | 13.510 | |
| plot_venn | 0.026 | 0.002 | 0.028 | |
| plot_venn_heatmap | 0.047 | 0.004 | 0.050 | |
| plot_violins | 4.105 | 0.103 | 4.291 | |
| plot_volcano | 10.552 | 0.150 | 10.907 | |
| preprocess_rnaseq_counts | 0.412 | 0.005 | 0.424 | |
| pull_columns | 0.003 | 0.001 | 0.004 | |
| read_affymetrix | 0 | 0 | 0 | |
| read_contaminants | 0.049 | 0.005 | 0.415 | |
| read_diann_proteingroups | 105.708 | 3.096 | 114.068 | |
| read_fragpipe | 8.299 | 0.270 | 8.686 | |
| read_maxquant_phosphosites | 1.796 | 0.040 | 2.101 | |
| read_maxquant_proteingroups | 1.414 | 0.025 | 1.526 | |
| read_metabolon | 12.338 | 0.147 | 13.605 | |
| read_msigdt | 0.001 | 0.000 | 0.002 | |
| read_olink | 1.381 | 0.060 | 1.485 | |
| read_rectangles | 0.218 | 0.027 | 0.254 | |
| read_rnaseq_counts | 30.597 | 1.530 | 34.026 | |
| read_salmon | 0 | 0 | 0 | |
| read_somascan | 12.224 | 0.087 | 12.637 | |
| read_uniprotdt | 0.326 | 0.023 | 0.357 | |
| reset_fit | 4.564 | 0.110 | 4.736 | |
| rm_diann_contaminants | 21.141 | 0.616 | 21.092 | |
| rm_missing_in_some_samples | 0.618 | 0.064 | 0.688 | |
| rm_unmatched_samples | 0.659 | 0.018 | 0.681 | |
| scaledlibsizes | 0.399 | 0.003 | 0.426 | |
| scoremat | 1.297 | 0.070 | 1.162 | |
| slevels | 0.473 | 0.008 | 0.487 | |
| snames | 0.487 | 0.007 | 0.525 | |
| split_extract_fixed | 0.585 | 0.049 | 0.797 | |
| split_samples | 1.218 | 0.055 | 1.440 | |
| stri_any_regex | 0.000 | 0.000 | 0.001 | |
| stri_detect_fixed_in_collapsed | 0.325 | 0.006 | 0.343 | |
| subgroup_matrix | 0.568 | 0.046 | 0.509 | |
| subtract_baseline | 5.089 | 0.112 | 4.827 | |
| sumexp_to_longdt | 2.981 | 0.196 | 2.625 | |
| sumexp_to_tsv | 0.554 | 0.019 | 0.601 | |
| sumexplist_to_longdt | 1.791 | 0.029 | 1.834 | |
| summarize_fit | 2.045 | 0.107 | 1.662 | |
| svalues | 0.537 | 0.007 | 0.546 | |
| svars | 0.451 | 0.006 | 0.462 | |
| systematic_nas | 0.606 | 0.008 | 0.639 | |
| tag_features | 1.173 | 0.037 | 1.215 | |
| tag_hdlproteins | 0.605 | 0.033 | 0.647 | |
| taxon2org | 0.001 | 0.000 | 0.001 | |
| tpm | 0.408 | 0.004 | 0.419 | |
| uncollapse | 0.011 | 0.001 | 0.012 | |
| values | 0.472 | 0.010 | 0.504 | |
| varlevels_dont_clash | 0.027 | 0.001 | 0.029 | |
| venn_detects | 0.686 | 0.009 | 0.699 | |
| weights | 0.420 | 0.003 | 0.425 | |
| write_xl | 1.025 | 0.068 | 0.887 | |
| zero_to_na | 0.002 | 0.001 | 0.002 | |