| Back to Multiple platform build/check report for BioC 3.19: simplified long |
|
This page was generated on 2024-05-09 11:41:12 -0400 (Thu, 09 May 2024).
| Hostname | OS | Arch (*) | R version | Installed pkgs |
|---|---|---|---|---|
| nebbiolo1 | Linux (Ubuntu 22.04.3 LTS) | x86_64 | 4.4.0 (2024-04-24) -- "Puppy Cup" | 4748 |
| palomino3 | Windows Server 2022 Datacenter | x64 | 4.4.0 (2024-04-24 ucrt) -- "Puppy Cup" | 4484 |
| lconway | macOS 12.7.1 Monterey | x86_64 | 4.4.0 (2024-04-24) -- "Puppy Cup" | 4514 |
| kunpeng2 | Linux (openEuler 22.03 LTS-SP1) | aarch64 | 4.4.0 beta (2024-04-15 r86425) -- "Puppy Cup" | 4480 |
| Click on any hostname to see more info about the system (e.g. compilers) (*) as reported by 'uname -p', except on Windows and Mac OS X | ||||
| Package 1472/2300 | Hostname | OS / Arch | INSTALL | BUILD | CHECK | BUILD BIN | ||||||||
| OncoSimulR 4.6.0 (landing page) Ramon Diaz-Uriarte
| nebbiolo1 | Linux (Ubuntu 22.04.3 LTS) / x86_64 | OK | OK | OK | |||||||||
| palomino3 | Windows Server 2022 Datacenter / x64 | OK | OK | OK | OK | |||||||||
| lconway | macOS 12.7.1 Monterey / x86_64 | OK | OK | OK | OK | |||||||||
| kunpeng2 | Linux (openEuler 22.03 LTS-SP1) / aarch64 | OK | OK | OK | ||||||||||
| kjohnson3 | macOS 13.6.5 Ventura / arm64 | see weekly results here | ||||||||||||
|
To the developers/maintainers of the OncoSimulR package: - Allow up to 24 hours (and sometimes 48 hours) for your latest push to git@git.bioconductor.org:packages/OncoSimulR.git to reflect on this report. See Troubleshooting Build Report for more information. - Use the following Renviron settings to reproduce errors and warnings. - If 'R CMD check' started to fail recently on the Linux builder(s) over a missing dependency, add the missing dependency to 'Suggests:' in your DESCRIPTION file. See Renviron.bioc for more information. - See Martin Grigorov's blog post for how to debug Linux ARM64 related issues on a x86_64 host. |
| Package: OncoSimulR |
| Version: 4.6.0 |
| Command: /home/biocbuild/R/R-beta-2024-04-15_r86425/bin/R CMD check --install=check:OncoSimulR.install-out.txt --library=/home/biocbuild/R/R-beta-2024-04-15_r86425/site-library --no-vignettes --timings OncoSimulR_4.6.0.tar.gz |
| StartedAt: 2024-05-09 10:14:06 -0000 (Thu, 09 May 2024) |
| EndedAt: 2024-05-09 10:19:49 -0000 (Thu, 09 May 2024) |
| EllapsedTime: 342.7 seconds |
| RetCode: 0 |
| Status: OK |
| CheckDir: OncoSimulR.Rcheck |
| Warnings: 0 |
##############################################################################
##############################################################################
###
### Running command:
###
### /home/biocbuild/R/R-beta-2024-04-15_r86425/bin/R CMD check --install=check:OncoSimulR.install-out.txt --library=/home/biocbuild/R/R-beta-2024-04-15_r86425/site-library --no-vignettes --timings OncoSimulR_4.6.0.tar.gz
###
##############################################################################
##############################################################################
* using log directory ‘/home/biocbuild/bbs-3.19-bioc/meat/OncoSimulR.Rcheck’
* using R version 4.4.0 beta (2024-04-15 r86425)
* using platform: aarch64-unknown-linux-gnu
* R was compiled by
gcc (GCC) 10.3.1
GNU Fortran (GCC) 10.3.1
* running under: openEuler 22.03 (LTS-SP1)
* using session charset: UTF-8
* using option ‘--no-vignettes’
* checking for file ‘OncoSimulR/DESCRIPTION’ ... OK
* checking extension type ... Package
* this is package ‘OncoSimulR’ version ‘4.6.0’
* checking package namespace information ... OK
* checking package dependencies ... OK
* checking if this is a source package ... OK
* checking if there is a namespace ... OK
* checking for hidden files and directories ... OK
* checking for portable file names ... OK
* checking for sufficient/correct file permissions ... OK
* checking whether package ‘OncoSimulR’ can be installed ... OK
* used C compiler: ‘gcc (GCC) 10.3.1’
* used C++ compiler: ‘g++ (GCC) 10.3.1’
* checking installed package size ... NOTE
installed size is 54.0Mb
sub-directories of 1Mb or more:
libs 52.1Mb
* checking package directory ... OK
* checking ‘build’ directory ... OK
* checking DESCRIPTION meta-information ... OK
* checking top-level files ... OK
* checking for left-over files ... OK
* checking index information ... OK
* checking package subdirectories ... OK
* checking code files for non-ASCII characters ... OK
* checking R files for syntax errors ... OK
* checking whether the package can be loaded ... OK
* checking whether the package can be loaded with stated dependencies ... OK
* checking whether the package can be unloaded cleanly ... OK
* checking whether the namespace can be loaded with stated dependencies ... OK
* checking whether the namespace can be unloaded cleanly ... OK
* checking loading without being on the library search path ... OK
* checking dependencies in R code ... OK
* checking S3 generic/method consistency ... OK
* checking replacement functions ... OK
* checking foreign function calls ... OK
* checking R code for possible problems ... OK
* checking Rd files ... NOTE
checkRd: (-1) oncoSimulIndiv.Rd:255-259: Lost braces in \itemize; meant \describe ?
checkRd: (-1) oncoSimulIndiv.Rd:261-263: Lost braces in \itemize; meant \describe ?
checkRd: (-1) oncoSimulIndiv.Rd:265-266: Lost braces in \itemize; meant \describe ?
checkRd: (-1) oncoSimulIndiv.Rd:268-270: Lost braces in \itemize; meant \describe ?
checkRd: (-1) oncoSimulIndiv.Rd:272-274: Lost braces in \itemize; meant \describe ?
* checking Rd metadata ... OK
* checking Rd cross-references ... OK
* checking for missing documentation entries ... OK
* checking for code/documentation mismatches ... OK
* checking Rd \usage sections ... OK
* checking Rd contents ... OK
* checking for unstated dependencies in examples ... OK
* checking contents of ‘data’ directory ... OK
* checking data for non-ASCII characters ... OK
* checking data for ASCII and uncompressed saves ... OK
* checking line endings in C/C++/Fortran sources/headers ... OK
* checking line endings in Makefiles ... OK
* checking compilation flags in Makevars ... OK
* checking for GNU extensions in Makefiles ... OK
* checking for portable use of $(BLAS_LIBS) and $(LAPACK_LIBS) ... OK
* checking use of PKG_*FLAGS in Makefiles ... OK
* checking include directives in Makefiles ... OK
* checking compiled code ... NOTE
Note: information on .o files is not available
* checking files in ‘vignettes’ ... OK
* checking examples ... OK
* checking for unstated dependencies in ‘tests’ ... OK
* checking tests ...
Running ‘testthat.R’
OK
* checking for unstated dependencies in vignettes ... OK
* checking package vignettes ... OK
* checking running R code from vignettes ... SKIPPED
* checking re-building of vignette outputs ... SKIPPED
* checking PDF version of manual ... OK
* DONE
Status: 3 NOTEs
See
‘/home/biocbuild/bbs-3.19-bioc/meat/OncoSimulR.Rcheck/00check.log’
for details.
OncoSimulR.Rcheck/00install.out
############################################################################## ############################################################################## ### ### Running command: ### ### /home/biocbuild/R/R-beta-2024-04-15_r86425/bin/R CMD INSTALL OncoSimulR ### ############################################################################## ############################################################################## * installing to library ‘/home/biocbuild/R/R-beta-2024-04-15_r86425/site-library’ * installing *source* package ‘OncoSimulR’ ... ** using staged installation ** libs using C compiler: ‘gcc (GCC) 10.3.1’ using C++ compiler: ‘g++ (GCC) 10.3.1’ gcc -I"/home/biocbuild/R/R-beta-2024-04-15_r86425/include" -DNDEBUG -I'/home/biocbuild/R/R-beta-2024-04-15_r86425/site-library/Rcpp/include' -I/usr/local/include -fPIC -g -O2 -Wall -c FitnessLandscape/gamma.c -o FitnessLandscape/gamma.o gcc -I"/home/biocbuild/R/R-beta-2024-04-15_r86425/include" -DNDEBUG -I'/home/biocbuild/R/R-beta-2024-04-15_r86425/site-library/Rcpp/include' -I/usr/local/include -fPIC -g -O2 -Wall -c FitnessLandscape/landscape.c -o FitnessLandscape/landscape.o gcc -I"/home/biocbuild/R/R-beta-2024-04-15_r86425/include" -DNDEBUG -I'/home/biocbuild/R/R-beta-2024-04-15_r86425/site-library/Rcpp/include' -I/usr/local/include -fPIC -g -O2 -Wall -c FitnessLandscape/random.c -o FitnessLandscape/random.o gcc -I"/home/biocbuild/R/R-beta-2024-04-15_r86425/include" -DNDEBUG -I'/home/biocbuild/R/R-beta-2024-04-15_r86425/site-library/Rcpp/include' -I/usr/local/include -fPIC -g -O2 -Wall -c FitnessLandscape/sort.c -o FitnessLandscape/sort.o gcc -I"/home/biocbuild/R/R-beta-2024-04-15_r86425/include" -DNDEBUG -I'/home/biocbuild/R/R-beta-2024-04-15_r86425/site-library/Rcpp/include' -I/usr/local/include -fPIC -g -O2 -Wall -c FitnessLandscape/chain.c -o FitnessLandscape/chain.o gcc -I"/home/biocbuild/R/R-beta-2024-04-15_r86425/include" -DNDEBUG -I'/home/biocbuild/R/R-beta-2024-04-15_r86425/site-library/Rcpp/include' -I/usr/local/include -fPIC -g -O2 -Wall -c FitnessLandscape/input.c -o FitnessLandscape/input.o gcc -I"/home/biocbuild/R/R-beta-2024-04-15_r86425/include" -DNDEBUG -I'/home/biocbuild/R/R-beta-2024-04-15_r86425/site-library/Rcpp/include' -I/usr/local/include -fPIC -g -O2 -Wall -c FitnessLandscape/genotypes.c -o FitnessLandscape/genotypes.o gcc -I"/home/biocbuild/R/R-beta-2024-04-15_r86425/include" -DNDEBUG -I'/home/biocbuild/R/R-beta-2024-04-15_r86425/site-library/Rcpp/include' -I/usr/local/include -fPIC -g -O2 -Wall -c FitnessLandscape/ordered_pairs.c -o FitnessLandscape/ordered_pairs.o gcc -I"/home/biocbuild/R/R-beta-2024-04-15_r86425/include" -DNDEBUG -I'/home/biocbuild/R/R-beta-2024-04-15_r86425/site-library/Rcpp/include' -I/usr/local/include -fPIC -g -O2 -Wall -c FitnessLandscape/calculus.c -o FitnessLandscape/calculus.o gcc -I"/home/biocbuild/R/R-beta-2024-04-15_r86425/include" -DNDEBUG -I'/home/biocbuild/R/R-beta-2024-04-15_r86425/site-library/Rcpp/include' -I/usr/local/include -fPIC -g -O2 -Wall -c FitnessLandscape/vector.c -o FitnessLandscape/vector.o gcc -I"/home/biocbuild/R/R-beta-2024-04-15_r86425/include" -DNDEBUG -I'/home/biocbuild/R/R-beta-2024-04-15_r86425/site-library/Rcpp/include' -I/usr/local/include -fPIC -g -O2 -Wall -c FitnessLandscape/generalized_chain.c -o FitnessLandscape/generalized_chain.o gcc -I"/home/biocbuild/R/R-beta-2024-04-15_r86425/include" -DNDEBUG -I'/home/biocbuild/R/R-beta-2024-04-15_r86425/site-library/Rcpp/include' -I/usr/local/include -fPIC -g -O2 -Wall -c FitnessLandscape/LinearAlgebra.c -o FitnessLandscape/LinearAlgebra.o gcc -I"/home/biocbuild/R/R-beta-2024-04-15_r86425/include" -DNDEBUG -I'/home/biocbuild/R/R-beta-2024-04-15_r86425/site-library/Rcpp/include' -I/usr/local/include -fPIC -g -O2 -Wall -c FitnessLandscape/summary_statistics.c -o FitnessLandscape/summary_statistics.o gcc -I"/home/biocbuild/R/R-beta-2024-04-15_r86425/include" -DNDEBUG -I'/home/biocbuild/R/R-beta-2024-04-15_r86425/site-library/Rcpp/include' -I/usr/local/include -fPIC -g -O2 -Wall -c FitnessLandscape/epistasis_type.c -o FitnessLandscape/epistasis_type.o gcc -I"/home/biocbuild/R/R-beta-2024-04-15_r86425/include" -DNDEBUG -I'/home/biocbuild/R/R-beta-2024-04-15_r86425/site-library/Rcpp/include' -I/usr/local/include -fPIC -g -O2 -Wall -c FitnessLandscape/decomposition.c -o FitnessLandscape/decomposition.o gcc -I"/home/biocbuild/R/R-beta-2024-04-15_r86425/include" -DNDEBUG -I'/home/biocbuild/R/R-beta-2024-04-15_r86425/site-library/Rcpp/include' -I/usr/local/include -fPIC -g -O2 -Wall -c FitnessLandscape/models.c -o FitnessLandscape/models.o gcc -I"/home/biocbuild/R/R-beta-2024-04-15_r86425/include" -DNDEBUG -I'/home/biocbuild/R/R-beta-2024-04-15_r86425/site-library/Rcpp/include' -I/usr/local/include -fPIC -g -O2 -Wall -c FitnessLandscape/verbose.c -o FitnessLandscape/verbose.o ar -r liblandscape.a FitnessLandscape/gamma.o FitnessLandscape/landscape.o FitnessLandscape/random.o FitnessLandscape/sort.o FitnessLandscape/chain.o FitnessLandscape/input.o FitnessLandscape/genotypes.o FitnessLandscape/ordered_pairs.o FitnessLandscape/calculus.o FitnessLandscape/vector.o FitnessLandscape/generalized_chain.o FitnessLandscape/LinearAlgebra.o FitnessLandscape/summary_statistics.o FitnessLandscape/epistasis_type.o FitnessLandscape/decomposition.o FitnessLandscape/models.o FitnessLandscape/verbose.o ; ar: creating liblandscape.a ranlib liblandscape.a; gcc -O -Wall -o fl_statistics -I/FitnessLandscape/. -L. FitnessLandscape/main_fl_statistics.c -llandscape -lm; gcc -O -Wall -o fl_generate -I/FitnessLandscape/. -L. FitnessLandscape/main_fl_generate.c -llandscape -lm; gcc -I"/home/biocbuild/R/R-beta-2024-04-15_r86425/include" -DNDEBUG -I'/home/biocbuild/R/R-beta-2024-04-15_r86425/site-library/Rcpp/include' -I/usr/local/include -fPIC -g -O2 -Wall -c OncoSimulR_init.c -o OncoSimulR_init.o g++ -std=gnu++17 -I"/home/biocbuild/R/R-beta-2024-04-15_r86425/include" -DNDEBUG -I'/home/biocbuild/R/R-beta-2024-04-15_r86425/site-library/Rcpp/include' -I/usr/local/include -fPIC -g -O2 -Wall -c RcppExports.cpp -o RcppExports.o g++ -std=gnu++17 -I"/home/biocbuild/R/R-beta-2024-04-15_r86425/include" -DNDEBUG -I'/home/biocbuild/R/R-beta-2024-04-15_r86425/site-library/Rcpp/include' -I/usr/local/include -fPIC -g -O2 -Wall -c unity_osimul.cpp -o unity_osimul.o g++ -std=gnu++17 -shared -L/home/biocbuild/R/R-beta-2024-04-15_r86425/lib -L/usr/local/lib -o OncoSimulR.so OncoSimulR_init.o RcppExports.o unity_osimul.o -L/home/biocbuild/R/R-beta-2024-04-15_r86425/lib -lR installing via 'install.libs.R' to /home/biocbuild/R/R-beta-2024-04-15_r86425/site-library/00LOCK-OncoSimulR/00new/OncoSimulR [1] "" Installing fl_statistics fl_generate to /home/biocbuild/R/R-beta-2024-04-15_r86425/site-library/00LOCK-OncoSimulR/00new/OncoSimulR/exec Installing library OncoSimulR.so to /home/biocbuild/R/R-beta-2024-04-15_r86425/site-library/00LOCK-OncoSimulR/00new/OncoSimulR/libs ** R ** data ** inst ** byte-compile and prepare package for lazy loading ** help *** installing help indices ** building package indices ** installing vignettes ** testing if installed package can be loaded from temporary location ** checking absolute paths in shared objects and dynamic libraries ** testing if installed package can be loaded from final location ** testing if installed package keeps a record of temporary installation path * DONE (OncoSimulR)
OncoSimulR.Rcheck/tests/testthat.Rout
R version 4.4.0 beta (2024-04-15 r86425) -- "Puppy Cup"
Copyright (C) 2024 The R Foundation for Statistical Computing
Platform: aarch64-unknown-linux-gnu
R is free software and comes with ABSOLUTELY NO WARRANTY.
You are welcome to redistribute it under certain conditions.
Type 'license()' or 'licence()' for distribution details.
R is a collaborative project with many contributors.
Type 'contributors()' for more information and
'citation()' on how to cite R or R packages in publications.
Type 'demo()' for some demos, 'help()' for on-line help, or
'help.start()' for an HTML browser interface to help.
Type 'q()' to quit R.
> library(testthat)
> library(OncoSimulR)
>
> test_check("OncoSimulR")
Starting FDF-letter-fitness-order Thu May 9 10:15:37 2024
exprtk parser error:
Error[00] Position: 00 Type: [ Syntax Error] Msg: ERR202 - Undefined symbol: 'n_2_3' Expression: n_2_3
exprtk parser error:
Error[00] Position: 00 Type: [ Syntax Error] Msg: ERR202 - Undefined symbol: 'f_2_3' Expression: f_2_3
Ending FDF-small-fitness-specs Thu May 9 10:15:38 2024
Took 0.58
Starting LOD_POM at Thu May 9 10:15:38 2024
Ending LOD_POM at Thu May 9 10:15:54 2024
Took 15.64
Starting test.Z-all-fitness at Thu May 9 10:15:54 2024
Ending test.Z-all-fitness at Thu May 9 10:15:54 2024
Took 0.15
Starting test.Z-driver-counts at Thu May 9 10:15:54 2024
Ending test.Z-driver-counts at Thu May 9 10:15:54 2024
Took 0.17
Starting test.Z-fixation at Thu May 9 10:15:54 2024
Ending test.Z-fixation at Thu May 9 10:15:54 2024
Took 0.38
Starting test.Z-magellan at Thu May 9 10:15:54 2024
Ended test.Z-magellan at Thu May 9 10:15:56 2024
Starting test.Z-mutator at Thu May 9 10:15:56 2024
Ending test.Z-mutator at Thu May 9 10:15:57 2024
Took 0.48
Starting test.Z-mutatorFDF at Thu May 9 10:15:57 2024
Ending test.Z-mutatorFDF at Thu May 9 10:15:57 2024
Took 0.14
Starting test.Z-oncoSimulIndiv at Thu May 9 10:15:57 2024
Ending test.Z-oncoSimulIndiv at Thu May 9 10:15:58 2024
Took 0.73
Starting test.Z-oncoSimulIndivConstant at Thu May 9 10:15:58 2024
Ending test.Z-oncoSimulIndivConstant at Thu May 9 10:16:00 2024
Took 2.88
Starting test.Z-oncoSimulIndivDeath at Thu May 9 10:16:00 2024
Ending test.Z-oncoSimulIndivDeath at Thu May 9 10:16:02 2024
Took 1.03
Starting test.Z-oncoSimulIndivFDF at Thu May 9 10:16:02 2024
Hitted wall time. Exiting.
Hitting wall time is regarded as an error.
Ending test.Z-oncoSimulIndivFDF at Thu May 9 10:16:03 2024
Took 0.99
Starting test.Z-rfitness-landscape at Thu May 9 10:16:03 2024
Ending test.Z-rfitness-landscape at Thu May 9 10:16:03 2024
Took 0.27
Starting Z-sample-only-last tests Thu May 9 10:16:03 2024
Ending Z-sample-only-last tests Thu May 9 10:16:03 2024
Took 0
Starting Z-total-present-drivers tests Thu May 9 10:16:03 2024
Ending Z-total-present-drivers tests Thu May 9 10:16:04 2024
Took 1
Dummy empty test Thu May 9 10:16:04 2024
Starting accessible_genotypes at Thu May 9 10:16:04 2024
Ending accessible_genotypes at Thu May 9 10:16:14 2024
Took 9.91
Starting all fitness at Thu May 9 10:16:14 2024
Ending all-fitness at Thu May 9 10:16:20 2024
Took 6.7
Starting test.allFitnessEffectsFDF at Thu May 9 10:16:20 2024
Ending test.allFitnessEffectsFDF at Thu May 9 10:16:21 2024
Took 0.17
Starting test.allFitnessEffectsDeath at Thu May 9 10:16:21 2024
Ending test.allFitnessEffectsDeath at Thu May 9 10:16:21 2024
Took 0.5
Starting test.allFitnessEffectsFDF at Thu May 9 10:16:21 2024
Ending test.allFitnessEffectsFDF at Thu May 9 10:16:22 2024
Took 0.52
Starting driverCounts at Thu May 9 10:16:22 2024
Ending driverCounts at Thu May 9 10:16:30 2024
Took 8.49
Starting epist-order-modules at Thu May 9 10:16:30 2024
Ending epist-order-modules at Thu May 9 10:16:30 2024
Took 0.09
Starting test.evaluatingGenotypesDeath at Thu May 9 10:16:30 2024
Ending test.evaluatingGenotypesDeath at Thu May 9 10:16:31 2024
Took 0.24
Starting test.evaluatingGenotypesFDF at Thu May 9 10:16:31 2024
Ending test.evaluatingGenotypesFDF at Thu May 9 10:16:31 2024
Took 0.35
Starting exercise-plotting-code at Thu May 9 10:16:31 2024
Ending exercise-plotting-code at Thu May 9 10:16:35 2024
Took 3.93
Starting exercise-rfitness at Thu May 9 10:16:35 2024
Ending exercise-rfitness at Thu May 9 10:16:48 2024
Took 12.68
Starting to_Magella at Thu May 9 10:16:48 2024
Ending to_Magella at Thu May 9 10:16:48 2024
Took 0.06
Starting fitness preds at Thu May 9 10:16:48 2024
Observed vs expected, case III
done tries 1
Ending fitness preds long at Thu May 9 10:16:54 2024
Took 6.36
Starting fixation at Thu May 9 10:16:54 2024
Ending fixation at Thu May 9 10:17:13 2024
Took 18.84
Starting test.flfast-additional.R test at Thu May 9 10:17:13 2024
Ending test.flfast-additional.R test at Thu May 9 10:17:14 2024
Took 1.71
Starting test.flfast-mutator.R test at Thu May 9 10:17:15 2024
Finished test.flfast-mutator.R test at Thu May 9 10:17:16 2024
Took 1.56
Starting genotFitness at Thu May 9 10:17:16 2024
Ending genotFitness at Thu May 9 10:17:16 2024
Took 0.23
Starting genot_fitness_to_epistasis at Thu May 9 10:17:16 2024
Ending genot_fitness_to_epistasis at Thu May 9 10:17:16 2024
Took 0.05
Starting init-mutant tests Thu May 9 10:17:16 2024
exprtk parser error:
Error[00] Position: 18 Type: [ Syntax Error] Msg: ERR202 - Undefined symbol: 'f_2' Expression: 1.1 + 0.7*((f_1 + f_2) > 0.3)
Ending init-mutant tests Thu May 9 10:17:24 2024
Took 7.57
Starting interventions tests Thu May 9 10:17:24 2024
[1] "Checking intervention: intOverA"
[1] "Checking intervention: intOverA"
[1] "Checking intervention: intOverA"
[1] "Checking intervention: intOverA"
[1] "Checking intervention: intOverMultiplicatesA"
In intervention:intOverMultiplicatesA with WhatHappens: n_1 = n_1 * 2. You cannot intervene to generate more population.[1] "Checking intervention: intOverA"
[1] "Checking intervention: intOverA"
[1] "Checking intervention: intOverTotPop"
[1] 0.62 0.62 0.62
[1] "Checking intervention: intOverTotPop"
[1] "Checking intervention: intOverA"
[1] "Checking intervention: intOverB"
[1] "Checking intervention: intOverC"
[1] "Checking intervention: intOverD"
Init Mutant with birth == 1.0
Init Mutant with birth == 1.0
[1] "Checking intervention: intOverA"
[1] "Checking intervention: intOverB"
[1] "Checking intervention: intOverC"
[1] "Checking intervention: intOverD"
Init Mutant with birth == 1.0
Init Mutant with birth == 1.0
[1] "Checking user variable: user_var_1"
[1] "Checking rule: rule_1"
[1] "Checking rule: rule_2"
[1] "Checking rule: rule_3"
[1] "Checking intervention: intOverTotPop"
[1] "Checking intervention: intOverTotPop2"
[1] "Checking intervention: intOverTotPop3"
[1] "Checking user variable: user_var_1"
[1] "Checking rule: rule_1"
[1] "Checking rule: rule_2"
[1] "Checking rule: rule_3"
[1] "Checking intervention: intOverTotPop"
Ending interventions tests Thu May 9 10:17:29 2024
Took 4.97
Starting test.magellan at Thu May 9 10:17:29 2024
Ending test.magellan at Thu May 9 10:17:29 2024
Took 0.15
Starting test.modules-root-no-root at Thu May 9 10:17:29 2024
Ending test.modules-root-no-root at Thu May 9 10:17:29 2024
Took 0.12
Starting at mutPropGrowth Thu May 9 10:17:29 2024
Ended test.mutPropGrowth: Thu May 9 10:17:38 2024
Took 9.1
Starting test.mutator-oncoSimulSample.R test at Thu May 9 10:17:38 2024
Finished test.mutator-oncoSimulSample.R test at Thu May 9 10:17:49 2024
Took 10.61 seconds
Starting test.mutator.R test at Thu May 9 10:17:49 2024[1] 4.306274e-07
[1] 3.817293e-13
Finished test.mutator.R test at Thu May 9 10:18:04 2024
Took 14.6
Starting test.mutatorFDF.R test at Thu May 9 10:18:04 2024
Starting test.no-v1 at Thu May 9 10:18:04 2024
Ending test.no-v1 at Thu May 9 10:18:04 2024
Took 0.01
Starting oncoSimulIndiv-miscell tests Thu May 9 10:18:04 2024
Ending oncoSimulIndiv-miscell tests Thu May 9 10:18:17 2024
Took 12.76
Starting oncoSimulSample-failures tests Thu May 9 10:18:17 2024
Ending oncoSimulSample-failures tests Thu May 9 10:18:21 2024
Took 3.49
Starting oncoSimulSample-limits tests Thu May 9 10:18:21 2024
Ending oncoSimulSample-limits tests Thu May 9 10:18:21 2024
Took 0.09
Starting per-gene-mutation rates at Thu May 9 10:18:21 2024
Ending per-gene-mutation rates at Thu May 9 10:18:52 2024
Took 31.78
Starting plotFitnessLandscape at Thu May 9 10:18:52 2024
Ending plotFitnessLandscape at Thu May 9 10:18:57 2024
Took 4.57
Starting poset-transformations tests Thu May 9 10:18:57 2024
Ending poset-transformations tests Thu May 9 10:19:10 2024
Took 13.42
Starting sample-prob Thu May 9 10:19:10 2024
[1] 8.238248e-31
[1] 6.845489e-11
[1] 2.849516e-08
[1] 1.346349e-11
[1] 1.810709e-16
[1] 1.356043e-13
[1] 5.59047e-12
[1] 3.497931e-13
[1] 1.658313e-07
[1] 1.784072e-10
[1] 1.058704e-09
[1] 2.612951e-09
Ending sample-prob tests Thu May 9 10:19:18 2024
Took 7.73
Starting samplePop tests Thu May 9 10:19:18 2024
Ending samplePop tests Thu May 9 10:19:25 2024
Took 7.15
Starting simuls-runs-examples tests Thu May 9 10:19:25 2024
Ending simuls-runs-examples tests Thu May 9 10:19:38 2024
Took 12.63
Starting user variable tests Thu May 9 10:19:38 2024
[1] "Checking user variable: user_var_1"
[1] "Checking rule: rule_1"
Ending user variable tests Thu May 9 10:19:38 2024
Took 0.12
Starting warning-mutPropGrowth tests Thu May 9 10:19:38 2024
Ending warning-mutPropGrowth tests Thu May 9 10:19:39 2024
Took 0.52
Starting wide2long tests Thu May 9 10:19:39 2024
Ending wide2long tests Thu May 9 10:19:39 2024
Took 0.31
[ FAIL 0 | WARN 18 | SKIP 5 | PASS 8407 ]
══ Skipped tests (5) ═══════════════════════════════════════════════════════════
• empty test (5): 'test.FDF-letter-fitness-order.R:376:1',
'test.ZZ-dummy-skip-warn-test.R:8:1', 'test.ZZ-dummy-skip-warn-test.R:12:1',
'test.fixation.R:4:1', 'test.init-mutant.R:1097:1'
[ FAIL 0 | WARN 18 | SKIP 5 | PASS 8407 ]
>
> proc.time()
user system elapsed
280.691 33.259 247.284
OncoSimulR.Rcheck/OncoSimulR-Ex.timings
| name | user | system | elapsed | |
| OncoSimulWide2Long | 0.277 | 0.000 | 0.284 | |
| POM | 0.900 | 0.044 | 0.650 | |
| allFitnessEffects | 2.198 | 0.052 | 2.265 | |
| benchmarks | 0.009 | 0.000 | 0.010 | |
| createInterventions | 0.340 | 0.004 | 0.344 | |
| createUserVars | 0.499 | 0.008 | 0.508 | |
| evalAllGenotypes | 0.271 | 0.020 | 0.293 | |
| example-missing-drivers | 0.304 | 0.004 | 0.309 | |
| examplePosets | 0.321 | 0.000 | 0.323 | |
| examplesFitnessEffects | 0.047 | 0.000 | 0.047 | |
| freq-dep-simul-examples | 0.007 | 0.004 | 0.011 | |
| mcfLs | 0.000 | 0.000 | 0.001 | |
| oncoSimulIndiv | 1.315 | 0.120 | 1.374 | |
| plot.fitnessEffects | 0.285 | 0.048 | 0.334 | |
| plot.oncosimul | 0.578 | 0.020 | 0.599 | |
| plotClonePhylog | 1.712 | 0.040 | 1.755 | |
| plotFitnessLandscape | 1.521 | 0.044 | 1.567 | |
| plotPoset | 0.106 | 0.004 | 0.110 | |
| poset | 0.135 | 0.000 | 0.135 | |
| rfitness | 0.834 | 0.019 | 0.859 | |
| samplePop | 0.050 | 0.072 | 0.076 | |
| simOGraph | 0.072 | 0.004 | 0.076 | |
| to_Magellan | 0.195 | 0.036 | 0.238 | |
| vignette_pre_computed | 0.005 | 0.004 | 0.009 | |