| Back to Multiple platform build/check report for BioC 3.19: simplified long |
|
This page was generated on 2024-06-11 14:42 -0400 (Tue, 11 Jun 2024).
| Hostname | OS | Arch (*) | R version | Installed pkgs |
|---|---|---|---|---|
| nebbiolo1 | Linux (Ubuntu 22.04.3 LTS) | x86_64 | 4.4.0 (2024-04-24) -- "Puppy Cup" | 4757 |
| palomino3 | Windows Server 2022 Datacenter | x64 | 4.4.0 (2024-04-24 ucrt) -- "Puppy Cup" | 4491 |
| lconway | macOS 12.7.1 Monterey | x86_64 | 4.4.0 (2024-04-24) -- "Puppy Cup" | 4522 |
| kjohnson3 | macOS 13.6.5 Ventura | arm64 | 4.4.0 (2024-04-24) -- "Puppy Cup" | 4468 |
| Click on any hostname to see more info about the system (e.g. compilers) (*) as reported by 'uname -p', except on Windows and Mac OS X | ||||
| Package 1472/2300 | Hostname | OS / Arch | INSTALL | BUILD | CHECK | BUILD BIN | ||||||||
| OncoSimulR 4.6.0 (landing page) Ramon Diaz-Uriarte
| nebbiolo1 | Linux (Ubuntu 22.04.3 LTS) / x86_64 | OK | OK | OK | |||||||||
| palomino3 | Windows Server 2022 Datacenter / x64 | OK | OK | OK | OK | |||||||||
| lconway | macOS 12.7.1 Monterey / x86_64 | OK | OK | OK | OK | |||||||||
| kjohnson3 | macOS 13.6.5 Ventura / arm64 | OK | ERROR | skipped | skipped | |||||||||
|
To the developers/maintainers of the OncoSimulR package: - Allow up to 24 hours (and sometimes 48 hours) for your latest push to git@git.bioconductor.org:packages/OncoSimulR.git to reflect on this report. See Troubleshooting Build Report for more information. - Use the following Renviron settings to reproduce errors and warnings. - If 'R CMD check' started to fail recently on the Linux builder(s) over a missing dependency, add the missing dependency to 'Suggests:' in your DESCRIPTION file. See Renviron.bioc for more information. |
| Package: OncoSimulR |
| Version: 4.6.0 |
| Command: /Library/Frameworks/R.framework/Resources/bin/R CMD check --install=check:OncoSimulR.install-out.txt --library=/Library/Frameworks/R.framework/Resources/library --no-vignettes --timings OncoSimulR_4.6.0.tar.gz |
| StartedAt: 2024-06-09 21:59:50 -0400 (Sun, 09 Jun 2024) |
| EndedAt: 2024-06-09 22:07:33 -0400 (Sun, 09 Jun 2024) |
| EllapsedTime: 463.4 seconds |
| RetCode: 0 |
| Status: OK |
| CheckDir: OncoSimulR.Rcheck |
| Warnings: 0 |
##############################################################################
##############################################################################
###
### Running command:
###
### /Library/Frameworks/R.framework/Resources/bin/R CMD check --install=check:OncoSimulR.install-out.txt --library=/Library/Frameworks/R.framework/Resources/library --no-vignettes --timings OncoSimulR_4.6.0.tar.gz
###
##############################################################################
##############################################################################
* using log directory ‘/Users/biocbuild/bbs-3.19-bioc/meat/OncoSimulR.Rcheck’
* using R version 4.4.0 (2024-04-24)
* using platform: x86_64-apple-darwin20
* R was compiled by
Apple clang version 14.0.0 (clang-1400.0.29.202)
GNU Fortran (GCC) 12.2.0
* running under: macOS Monterey 12.7.1
* using session charset: UTF-8
* using option ‘--no-vignettes’
* checking for file ‘OncoSimulR/DESCRIPTION’ ... OK
* checking extension type ... Package
* this is package ‘OncoSimulR’ version ‘4.6.0’
* checking package namespace information ... OK
* checking package dependencies ... OK
* checking if this is a source package ... OK
* checking if there is a namespace ... OK
* checking for hidden files and directories ... OK
* checking for portable file names ... OK
* checking for sufficient/correct file permissions ... OK
* checking whether package ‘OncoSimulR’ can be installed ... OK
* used C compiler: ‘Apple clang version 14.0.0 (clang-1400.0.29.202)’
* used C++ compiler: ‘Apple clang version 14.0.0 (clang-1400.0.29.202)’
* used SDK: ‘MacOSX11.3.sdk’
* checking installed package size ... NOTE
installed size is 9.3Mb
sub-directories of 1Mb or more:
libs 7.9Mb
* checking package directory ... OK
* checking ‘build’ directory ... OK
* checking DESCRIPTION meta-information ... OK
* checking top-level files ... OK
* checking for left-over files ... OK
* checking index information ... OK
* checking package subdirectories ... OK
* checking code files for non-ASCII characters ... OK
* checking R files for syntax errors ... OK
* checking whether the package can be loaded ... OK
* checking whether the package can be loaded with stated dependencies ... OK
* checking whether the package can be unloaded cleanly ... OK
* checking whether the namespace can be loaded with stated dependencies ... OK
* checking whether the namespace can be unloaded cleanly ... OK
* checking dependencies in R code ... OK
* checking S3 generic/method consistency ... OK
* checking replacement functions ... OK
* checking foreign function calls ... OK
* checking R code for possible problems ... OK
* checking Rd files ... NOTE
checkRd: (-1) oncoSimulIndiv.Rd:255-259: Lost braces in \itemize; meant \describe ?
checkRd: (-1) oncoSimulIndiv.Rd:261-263: Lost braces in \itemize; meant \describe ?
checkRd: (-1) oncoSimulIndiv.Rd:265-266: Lost braces in \itemize; meant \describe ?
checkRd: (-1) oncoSimulIndiv.Rd:268-270: Lost braces in \itemize; meant \describe ?
checkRd: (-1) oncoSimulIndiv.Rd:272-274: Lost braces in \itemize; meant \describe ?
* checking Rd metadata ... OK
* checking Rd cross-references ... OK
* checking for missing documentation entries ... OK
* checking for code/documentation mismatches ... OK
* checking Rd \usage sections ... OK
* checking Rd contents ... OK
* checking for unstated dependencies in examples ... OK
* checking contents of ‘data’ directory ... OK
* checking data for non-ASCII characters ... OK
* checking data for ASCII and uncompressed saves ... OK
* checking line endings in C/C++/Fortran sources/headers ... OK
* checking line endings in Makefiles ... OK
* checking compilation flags in Makevars ... OK
* checking for GNU extensions in Makefiles ... OK
* checking for portable use of $(BLAS_LIBS) and $(LAPACK_LIBS) ... OK
* checking use of PKG_*FLAGS in Makefiles ... OK
* checking include directives in Makefiles ... OK
* checking compiled code ... NOTE
Note: information on .o files is not available
* checking files in ‘vignettes’ ... OK
* checking examples ... OK
* checking for unstated dependencies in ‘tests’ ... OK
* checking tests ...
Running ‘testthat.R’
OK
* checking for unstated dependencies in vignettes ... OK
* checking package vignettes ... OK
* checking running R code from vignettes ... SKIPPED
* checking re-building of vignette outputs ... SKIPPED
* checking PDF version of manual ... OK
* DONE
Status: 3 NOTEs
See
‘/Users/biocbuild/bbs-3.19-bioc/meat/OncoSimulR.Rcheck/00check.log’
for details.
OncoSimulR.Rcheck/00install.out
##############################################################################
##############################################################################
###
### Running command:
###
### /Library/Frameworks/R.framework/Resources/bin/R CMD INSTALL OncoSimulR
###
##############################################################################
##############################################################################
* installing to library ‘/Library/Frameworks/R.framework/Versions/4.4-x86_64/Resources/library’
* installing *source* package ‘OncoSimulR’ ...
** using staged installation
** libs
using C compiler: ‘Apple clang version 14.0.0 (clang-1400.0.29.202)’
using C++ compiler: ‘Apple clang version 14.0.0 (clang-1400.0.29.202)’
using SDK: ‘MacOSX11.3.sdk’
clang -arch x86_64 -I"/Library/Frameworks/R.framework/Resources/include" -DNDEBUG -I'/Library/Frameworks/R.framework/Versions/4.4-x86_64/Resources/library/Rcpp/include' -I/opt/R/x86_64/include -fPIC -falign-functions=64 -Wall -g -O2 -c FitnessLandscape/gamma.c -o FitnessLandscape/gamma.o
clang -arch x86_64 -I"/Library/Frameworks/R.framework/Resources/include" -DNDEBUG -I'/Library/Frameworks/R.framework/Versions/4.4-x86_64/Resources/library/Rcpp/include' -I/opt/R/x86_64/include -fPIC -falign-functions=64 -Wall -g -O2 -c FitnessLandscape/landscape.c -o FitnessLandscape/landscape.o
clang -arch x86_64 -I"/Library/Frameworks/R.framework/Resources/include" -DNDEBUG -I'/Library/Frameworks/R.framework/Versions/4.4-x86_64/Resources/library/Rcpp/include' -I/opt/R/x86_64/include -fPIC -falign-functions=64 -Wall -g -O2 -c FitnessLandscape/random.c -o FitnessLandscape/random.o
clang -arch x86_64 -I"/Library/Frameworks/R.framework/Resources/include" -DNDEBUG -I'/Library/Frameworks/R.framework/Versions/4.4-x86_64/Resources/library/Rcpp/include' -I/opt/R/x86_64/include -fPIC -falign-functions=64 -Wall -g -O2 -c FitnessLandscape/sort.c -o FitnessLandscape/sort.o
clang -arch x86_64 -I"/Library/Frameworks/R.framework/Resources/include" -DNDEBUG -I'/Library/Frameworks/R.framework/Versions/4.4-x86_64/Resources/library/Rcpp/include' -I/opt/R/x86_64/include -fPIC -falign-functions=64 -Wall -g -O2 -c FitnessLandscape/chain.c -o FitnessLandscape/chain.o
clang -arch x86_64 -I"/Library/Frameworks/R.framework/Resources/include" -DNDEBUG -I'/Library/Frameworks/R.framework/Versions/4.4-x86_64/Resources/library/Rcpp/include' -I/opt/R/x86_64/include -fPIC -falign-functions=64 -Wall -g -O2 -c FitnessLandscape/input.c -o FitnessLandscape/input.o
clang -arch x86_64 -I"/Library/Frameworks/R.framework/Resources/include" -DNDEBUG -I'/Library/Frameworks/R.framework/Versions/4.4-x86_64/Resources/library/Rcpp/include' -I/opt/R/x86_64/include -fPIC -falign-functions=64 -Wall -g -O2 -c FitnessLandscape/genotypes.c -o FitnessLandscape/genotypes.o
clang -arch x86_64 -I"/Library/Frameworks/R.framework/Resources/include" -DNDEBUG -I'/Library/Frameworks/R.framework/Versions/4.4-x86_64/Resources/library/Rcpp/include' -I/opt/R/x86_64/include -fPIC -falign-functions=64 -Wall -g -O2 -c FitnessLandscape/ordered_pairs.c -o FitnessLandscape/ordered_pairs.o
FitnessLandscape/ordered_pairs.c:138:6: warning: variable 'tot_pairs' set but not used [-Wunused-but-set-variable]
int tot_pairs=0;
^
1 warning generated.
clang -arch x86_64 -I"/Library/Frameworks/R.framework/Resources/include" -DNDEBUG -I'/Library/Frameworks/R.framework/Versions/4.4-x86_64/Resources/library/Rcpp/include' -I/opt/R/x86_64/include -fPIC -falign-functions=64 -Wall -g -O2 -c FitnessLandscape/calculus.c -o FitnessLandscape/calculus.o
clang -arch x86_64 -I"/Library/Frameworks/R.framework/Resources/include" -DNDEBUG -I'/Library/Frameworks/R.framework/Versions/4.4-x86_64/Resources/library/Rcpp/include' -I/opt/R/x86_64/include -fPIC -falign-functions=64 -Wall -g -O2 -c FitnessLandscape/vector.c -o FitnessLandscape/vector.o
clang -arch x86_64 -I"/Library/Frameworks/R.framework/Resources/include" -DNDEBUG -I'/Library/Frameworks/R.framework/Versions/4.4-x86_64/Resources/library/Rcpp/include' -I/opt/R/x86_64/include -fPIC -falign-functions=64 -Wall -g -O2 -c FitnessLandscape/generalized_chain.c -o FitnessLandscape/generalized_chain.o
clang -arch x86_64 -I"/Library/Frameworks/R.framework/Resources/include" -DNDEBUG -I'/Library/Frameworks/R.framework/Versions/4.4-x86_64/Resources/library/Rcpp/include' -I/opt/R/x86_64/include -fPIC -falign-functions=64 -Wall -g -O2 -c FitnessLandscape/LinearAlgebra.c -o FitnessLandscape/LinearAlgebra.o
clang -arch x86_64 -I"/Library/Frameworks/R.framework/Resources/include" -DNDEBUG -I'/Library/Frameworks/R.framework/Versions/4.4-x86_64/Resources/library/Rcpp/include' -I/opt/R/x86_64/include -fPIC -falign-functions=64 -Wall -g -O2 -c FitnessLandscape/summary_statistics.c -o FitnessLandscape/summary_statistics.o
FitnessLandscape/summary_statistics.c:515:9: warning: variable 'meanVarianceNumberOfStepsFL' set but not used [-Wunused-but-set-variable]
double meanVarianceNumberOfStepsFL = 0;
^
1 warning generated.
clang -arch x86_64 -I"/Library/Frameworks/R.framework/Resources/include" -DNDEBUG -I'/Library/Frameworks/R.framework/Versions/4.4-x86_64/Resources/library/Rcpp/include' -I/opt/R/x86_64/include -fPIC -falign-functions=64 -Wall -g -O2 -c FitnessLandscape/epistasis_type.c -o FitnessLandscape/epistasis_type.o
clang -arch x86_64 -I"/Library/Frameworks/R.framework/Resources/include" -DNDEBUG -I'/Library/Frameworks/R.framework/Versions/4.4-x86_64/Resources/library/Rcpp/include' -I/opt/R/x86_64/include -fPIC -falign-functions=64 -Wall -g -O2 -c FitnessLandscape/decomposition.c -o FitnessLandscape/decomposition.o
clang -arch x86_64 -I"/Library/Frameworks/R.framework/Resources/include" -DNDEBUG -I'/Library/Frameworks/R.framework/Versions/4.4-x86_64/Resources/library/Rcpp/include' -I/opt/R/x86_64/include -fPIC -falign-functions=64 -Wall -g -O2 -c FitnessLandscape/models.c -o FitnessLandscape/models.o
clang -arch x86_64 -I"/Library/Frameworks/R.framework/Resources/include" -DNDEBUG -I'/Library/Frameworks/R.framework/Versions/4.4-x86_64/Resources/library/Rcpp/include' -I/opt/R/x86_64/include -fPIC -falign-functions=64 -Wall -g -O2 -c FitnessLandscape/verbose.c -o FitnessLandscape/verbose.o
ar -r liblandscape.a FitnessLandscape/gamma.o FitnessLandscape/landscape.o FitnessLandscape/random.o FitnessLandscape/sort.o FitnessLandscape/chain.o FitnessLandscape/input.o FitnessLandscape/genotypes.o FitnessLandscape/ordered_pairs.o FitnessLandscape/calculus.o FitnessLandscape/vector.o FitnessLandscape/generalized_chain.o FitnessLandscape/LinearAlgebra.o FitnessLandscape/summary_statistics.o FitnessLandscape/epistasis_type.o FitnessLandscape/decomposition.o FitnessLandscape/models.o FitnessLandscape/verbose.o ;
ar: creating archive liblandscape.a
ranlib liblandscape.a;
clang -arch x86_64 -O -Wall -o fl_statistics -I/FitnessLandscape/. -L. FitnessLandscape/main_fl_statistics.c -llandscape -lm;
clang -arch x86_64 -O -Wall -o fl_generate -I/FitnessLandscape/. -L. FitnessLandscape/main_fl_generate.c -llandscape -lm;
clang -arch x86_64 -I"/Library/Frameworks/R.framework/Resources/include" -DNDEBUG -I'/Library/Frameworks/R.framework/Versions/4.4-x86_64/Resources/library/Rcpp/include' -I/opt/R/x86_64/include -fPIC -falign-functions=64 -Wall -g -O2 -c OncoSimulR_init.c -o OncoSimulR_init.o
clang++ -arch x86_64 -std=gnu++17 -I"/Library/Frameworks/R.framework/Resources/include" -DNDEBUG -I'/Library/Frameworks/R.framework/Versions/4.4-x86_64/Resources/library/Rcpp/include' -I/opt/R/x86_64/include -fPIC -falign-functions=64 -Wall -g -O2 -c RcppExports.cpp -o RcppExports.o
clang++ -arch x86_64 -std=gnu++17 -I"/Library/Frameworks/R.framework/Resources/include" -DNDEBUG -I'/Library/Frameworks/R.framework/Versions/4.4-x86_64/Resources/library/Rcpp/include' -I/opt/R/x86_64/include -fPIC -falign-functions=64 -Wall -g -O2 -c unity_osimul.cpp -o unity_osimul.o
In file included from unity_osimul.cpp:10:
./UnityOncoSimul/intervention_private_2.cpp:17:10: warning: variable 'totalPop' set but not used [-Wunused-but-set-variable]
double totalPop = 0.0;
^
1 warning generated.
clang++ -arch x86_64 -std=gnu++17 -dynamiclib -Wl,-headerpad_max_install_names -undefined dynamic_lookup -L/Library/Frameworks/R.framework/Resources/lib -L/opt/R/x86_64/lib -o OncoSimulR.so OncoSimulR_init.o RcppExports.o unity_osimul.o -F/Library/Frameworks/R.framework/.. -framework R -Wl,-framework -Wl,CoreFoundation
installing via 'install.libs.R' to /Library/Frameworks/R.framework/Versions/4.4-x86_64/Resources/library/00LOCK-OncoSimulR/00new/OncoSimulR
[1] ""
Installing fl_statistics fl_generate to /Library/Frameworks/R.framework/Versions/4.4-x86_64/Resources/library/00LOCK-OncoSimulR/00new/OncoSimulR/exec
Installing library OncoSimulR.so to /Library/Frameworks/R.framework/Versions/4.4-x86_64/Resources/library/00LOCK-OncoSimulR/00new/OncoSimulR/libs
** R
** data
** inst
** byte-compile and prepare package for lazy loading
** help
*** installing help indices
** building package indices
** installing vignettes
** testing if installed package can be loaded from temporary location
** checking absolute paths in shared objects and dynamic libraries
** testing if installed package can be loaded from final location
** testing if installed package keeps a record of temporary installation path
* DONE (OncoSimulR)
OncoSimulR.Rcheck/tests/testthat.Rout
R version 4.4.0 (2024-04-24) -- "Puppy Cup"
Copyright (C) 2024 The R Foundation for Statistical Computing
Platform: x86_64-apple-darwin20
R is free software and comes with ABSOLUTELY NO WARRANTY.
You are welcome to redistribute it under certain conditions.
Type 'license()' or 'licence()' for distribution details.
R is a collaborative project with many contributors.
Type 'contributors()' for more information and
'citation()' on how to cite R or R packages in publications.
Type 'demo()' for some demos, 'help()' for on-line help, or
'help.start()' for an HTML browser interface to help.
Type 'q()' to quit R.
> library(testthat)
> library(OncoSimulR)
>
> test_check("OncoSimulR")
Starting FDF-letter-fitness-order Sun Jun 9 22:01:18 2024
exprtk parser error:
Error[00] Position: 00 Type: [ Syntax Error] Msg: ERR202 - Undefined symbol: 'n_2_3' Expression: n_2_3
exprtk parser error:
Error[00] Position: 00 Type: [ Syntax Error] Msg: ERR202 - Undefined symbol: 'f_2_3' Expression: f_2_3
Ending FDF-small-fitness-specs Sun Jun 9 22:01:18 2024
Took 0.51
Starting LOD_POM at Sun Jun 9 22:01:19 2024
Ending LOD_POM at Sun Jun 9 22:01:33 2024
Took 14.94
Starting test.Z-all-fitness at Sun Jun 9 22:01:33 2024
Ending test.Z-all-fitness at Sun Jun 9 22:01:34 2024
Took 0.14
Starting test.Z-driver-counts at Sun Jun 9 22:01:34 2024
Ending test.Z-driver-counts at Sun Jun 9 22:01:34 2024
Took 0.12
Starting test.Z-fixation at Sun Jun 9 22:01:34 2024
Ending test.Z-fixation at Sun Jun 9 22:01:34 2024
Took 0.33
Starting test.Z-magellan at Sun Jun 9 22:01:34 2024
Ended test.Z-magellan at Sun Jun 9 22:01:36 2024
Starting test.Z-mutator at Sun Jun 9 22:01:36 2024
Ending test.Z-mutator at Sun Jun 9 22:01:36 2024
Took 0.41
Starting test.Z-mutatorFDF at Sun Jun 9 22:01:36 2024
Ending test.Z-mutatorFDF at Sun Jun 9 22:01:36 2024
Took 0.15
Starting test.Z-oncoSimulIndiv at Sun Jun 9 22:01:36 2024
Ending test.Z-oncoSimulIndiv at Sun Jun 9 22:01:37 2024
Took 0.52
Starting test.Z-oncoSimulIndivConstant at Sun Jun 9 22:01:37 2024
Ending test.Z-oncoSimulIndivConstant at Sun Jun 9 22:01:40 2024
Took 2.89
Starting test.Z-oncoSimulIndivDeath at Sun Jun 9 22:01:40 2024
Ending test.Z-oncoSimulIndivDeath at Sun Jun 9 22:01:41 2024
Took 1
Starting test.Z-oncoSimulIndivFDF at Sun Jun 9 22:01:41 2024
Hitted wall time. Exiting.
Hitting wall time is regarded as an error.
Ending test.Z-oncoSimulIndivFDF at Sun Jun 9 22:01:42 2024
Took 0.64
Starting test.Z-rfitness-landscape at Sun Jun 9 22:01:42 2024
Ending test.Z-rfitness-landscape at Sun Jun 9 22:01:42 2024
Took 0.2
Starting Z-sample-only-last tests Sun Jun 9 22:01:42 2024
Ending Z-sample-only-last tests Sun Jun 9 22:01:42 2024
Took 0
Starting Z-total-present-drivers tests Sun Jun 9 22:01:42 2024
Ending Z-total-present-drivers tests Sun Jun 9 22:01:43 2024
Took 0.94
Dummy empty test Sun Jun 9 22:01:43 2024
Starting accessible_genotypes at Sun Jun 9 22:01:43 2024
Ending accessible_genotypes at Sun Jun 9 22:01:52 2024
Took 8.96
Starting all fitness at Sun Jun 9 22:01:52 2024
Ending all-fitness at Sun Jun 9 22:01:57 2024
Took 5.17
Starting test.allFitnessEffectsFDF at Sun Jun 9 22:01:57 2024
Ending test.allFitnessEffectsFDF at Sun Jun 9 22:01:57 2024
Took 0.12
Starting test.allFitnessEffectsDeath at Sun Jun 9 22:01:57 2024
Ending test.allFitnessEffectsDeath at Sun Jun 9 22:01:57 2024
Took 0.44
Starting test.allFitnessEffectsFDF at Sun Jun 9 22:01:57 2024
Ending test.allFitnessEffectsFDF at Sun Jun 9 22:01:58 2024
Took 0.45
Starting driverCounts at Sun Jun 9 22:01:58 2024
Ending driverCounts at Sun Jun 9 22:02:09 2024
Took 11.43
Starting epist-order-modules at Sun Jun 9 22:02:09 2024
Ending epist-order-modules at Sun Jun 9 22:02:09 2024
Took 0.07
Starting test.evaluatingGenotypesDeath at Sun Jun 9 22:02:09 2024
Ending test.evaluatingGenotypesDeath at Sun Jun 9 22:02:10 2024
Took 0.24
Starting test.evaluatingGenotypesFDF at Sun Jun 9 22:02:10 2024
Ending test.evaluatingGenotypesFDF at Sun Jun 9 22:02:10 2024
Took 0.23
Starting exercise-plotting-code at Sun Jun 9 22:02:10 2024
Ending exercise-plotting-code at Sun Jun 9 22:02:13 2024
Took 3.03
Starting exercise-rfitness at Sun Jun 9 22:02:13 2024
Ending exercise-rfitness at Sun Jun 9 22:02:25 2024
Took 12.34
Starting to_Magella at Sun Jun 9 22:02:25 2024
Ending to_Magella at Sun Jun 9 22:02:25 2024
Took 0.04
Starting fitness preds at Sun Jun 9 22:02:25 2024
Observed vs expected, case III
done tries 1
Ending fitness preds long at Sun Jun 9 22:02:34 2024
Took 8.76
Starting fixation at Sun Jun 9 22:02:34 2024
Ending fixation at Sun Jun 9 22:02:53 2024
Took 19.07
Starting test.flfast-additional.R test at Sun Jun 9 22:02:53 2024
DEBUG2: Value of rnb = nan
DEBUG2: Value of m = 1
DEBUG2: Value of pe = 0
DEBUG2: Value of pm = 0.999998
this is spP
popSize = 1
birth = 1
death = 0
W = 1.00001
R = 1.00001
mutation = 6e-06
timeLastUpdate = 5.72074
absfitness = -inf
numMutablePos = 6
Unrecoverable exception: Algo 2: retval not finite. Aborting.
Ending test.flfast-additional.R test at Sun Jun 9 22:02:54 2024
Took 1.29
Starting test.flfast-mutator.R test at Sun Jun 9 22:02:55 2024
Finished test.flfast-mutator.R test at Sun Jun 9 22:02:56 2024
Took 1.53
Starting genotFitness at Sun Jun 9 22:02:56 2024
Ending genotFitness at Sun Jun 9 22:02:56 2024
Took 0.22
Starting genot_fitness_to_epistasis at Sun Jun 9 22:02:56 2024
Ending genot_fitness_to_epistasis at Sun Jun 9 22:02:56 2024
Took 0.04
Starting init-mutant tests Sun Jun 9 22:02:56 2024
exprtk parser error:
Error[00] Position: 18 Type: [ Syntax Error] Msg: ERR202 - Undefined symbol: 'f_2' Expression: 1.1 + 0.7*((f_1 + f_2) > 0.3)
Ending init-mutant tests Sun Jun 9 22:03:04 2024
Took 7.42
Starting interventions tests Sun Jun 9 22:03:04 2024
[1] "Checking intervention: intOverA"
[1] "Checking intervention: intOverA"
[1] "Checking intervention: intOverA"
[1] "Checking intervention: intOverA"
[1] "Checking intervention: intOverMultiplicatesA"
In intervention:intOverMultiplicatesA with WhatHappens: n_1 = n_1 * 2. You cannot intervene to generate more population.[1] "Checking intervention: intOverA"
[1] "Checking intervention: intOverA"
[1] "Checking intervention: intOverTotPop"
[1] 0.58 0.58 0.58
[1] "Checking intervention: intOverTotPop"
[1] "Checking intervention: intOverA"
[1] "Checking intervention: intOverB"
[1] "Checking intervention: intOverC"
[1] "Checking intervention: intOverD"
Init Mutant with birth == 1.0
Init Mutant with birth == 1.0
[1] "Checking intervention: intOverA"
[1] "Checking intervention: intOverB"
[1] "Checking intervention: intOverC"
[1] "Checking intervention: intOverD"
Init Mutant with birth == 1.0
Init Mutant with birth == 1.0
[1] "Checking user variable: user_var_1"
[1] "Checking rule: rule_1"
[1] "Checking rule: rule_2"
[1] "Checking rule: rule_3"
[1] "Checking intervention: intOverTotPop"
[1] "Checking intervention: intOverTotPop2"
[1] "Checking intervention: intOverTotPop3"
[1] "Checking user variable: user_var_1"
[1] "Checking rule: rule_1"
[1] "Checking rule: rule_2"
[1] "Checking rule: rule_3"
[1] "Checking intervention: intOverTotPop"
Ending interventions tests Sun Jun 9 22:03:09 2024
Took 5.14
Starting test.magellan at Sun Jun 9 22:03:09 2024
Ending test.magellan at Sun Jun 9 22:03:09 2024
Took 0.28
Starting test.modules-root-no-root at Sun Jun 9 22:03:09 2024
Ending test.modules-root-no-root at Sun Jun 9 22:03:09 2024
Took 0.11
Starting at mutPropGrowth Sun Jun 9 22:03:09 2024
Ended test.mutPropGrowth: Sun Jun 9 22:03:17 2024
Took 7.53
Starting test.mutator-oncoSimulSample.R test at Sun Jun 9 22:03:17 2024
Finished test.mutator-oncoSimulSample.R test at Sun Jun 9 22:03:26 2024
Took 8.88 seconds
Starting test.mutator.R test at Sun Jun 9 22:03:26 2024[1] 4.135424e-07
[1] 2.458081e-12
Finished test.mutator.R test at Sun Jun 9 22:03:42 2024
Took 16.21
Starting test.mutatorFDF.R test at Sun Jun 9 22:03:42 2024
Starting test.no-v1 at Sun Jun 9 22:03:43 2024
Ending test.no-v1 at Sun Jun 9 22:03:43 2024
Took 0.02
Starting oncoSimulIndiv-miscell tests Sun Jun 9 22:03:43 2024
Ending oncoSimulIndiv-miscell tests Sun Jun 9 22:03:49 2024
Took 5.98
Starting oncoSimulSample-failures tests Sun Jun 9 22:03:49 2024
Ending oncoSimulSample-failures tests Sun Jun 9 22:03:53 2024
Took 3.86
Starting oncoSimulSample-limits tests Sun Jun 9 22:03:53 2024
Ending oncoSimulSample-limits tests Sun Jun 9 22:03:53 2024
Took 0.2
Starting per-gene-mutation rates at Sun Jun 9 22:03:53 2024
Ending per-gene-mutation rates at Sun Jun 9 22:05:26 2024
Took 93.25
Starting plotFitnessLandscape at Sun Jun 9 22:05:26 2024
Ending plotFitnessLandscape at Sun Jun 9 22:05:30 2024
Took 3.85
Starting poset-transformations tests Sun Jun 9 22:05:30 2024
Ending poset-transformations tests Sun Jun 9 22:05:50 2024
Took 19.88
Starting sample-prob Sun Jun 9 22:05:50 2024
[1] 1.008283e-24
[1] 3.563992e-09
[1] 2.009877e-08
[1] 1.346349e-11
[1] 8.757591e-12
[1] 2.771584e-13
[1] 4.840627e-13
[1] 4.927337e-12
[1] 6.577034e-09
[1] 1.098222e-10
[1] 3.954205e-07
[1] 2.074031e-09
Ending sample-prob tests Sun Jun 9 22:06:09 2024
Took 18.79
Starting samplePop tests Sun Jun 9 22:06:09 2024
Ending samplePop tests Sun Jun 9 22:06:21 2024
Took 12.47
Starting simuls-runs-examples tests Sun Jun 9 22:06:21 2024
Ending simuls-runs-examples tests Sun Jun 9 22:06:32 2024
Took 11
Starting user variable tests Sun Jun 9 22:06:32 2024
[1] "Checking user variable: user_var_1"
[1] "Checking rule: rule_1"
Ending user variable tests Sun Jun 9 22:06:33 2024
Took 0.4
Starting warning-mutPropGrowth tests Sun Jun 9 22:06:33 2024
Ending warning-mutPropGrowth tests Sun Jun 9 22:06:34 2024
Took 1.13
Starting wide2long tests Sun Jun 9 22:06:34 2024
Ending wide2long tests Sun Jun 9 22:06:34 2024
Took 0.53
[ FAIL 0 | WARN 18 | SKIP 7 | PASS 8417 ]
══ Skipped tests (7) ═══════════════════════════════════════════════════════════
• On Mac (2): 'test.Z-magellan.R:664:5', 'test.Z-oncoSimulIndivFDF.R:125:3'
• empty test (5): 'test.FDF-letter-fitness-order.R:376:1',
'test.ZZ-dummy-skip-warn-test.R:8:1', 'test.ZZ-dummy-skip-warn-test.R:12:1',
'test.fixation.R:4:1', 'test.init-mutant.R:1097:1'
[ FAIL 0 | WARN 18 | SKIP 7 | PASS 8417 ]
>
> proc.time()
user system elapsed
255.445 100.274 326.371
OncoSimulR.Rcheck/OncoSimulR-Ex.timings
| name | user | system | elapsed | |
| OncoSimulWide2Long | 0.177 | 0.002 | 0.179 | |
| POM | 0.733 | 0.054 | 0.472 | |
| allFitnessEffects | 2.041 | 0.068 | 2.121 | |
| benchmarks | 0.010 | 0.006 | 0.016 | |
| createInterventions | 0.301 | 0.005 | 0.307 | |
| createUserVars | 0.490 | 0.017 | 0.507 | |
| evalAllGenotypes | 0.199 | 0.011 | 0.210 | |
| example-missing-drivers | 0.288 | 0.021 | 0.310 | |
| examplePosets | 0.277 | 0.005 | 0.283 | |
| examplesFitnessEffects | 0.046 | 0.003 | 0.050 | |
| freq-dep-simul-examples | 0.010 | 0.002 | 0.013 | |
| mcfLs | 0 | 0 | 0 | |
| oncoSimulIndiv | 1.374 | 0.179 | 1.472 | |
| plot.fitnessEffects | 0.257 | 0.025 | 0.285 | |
| plot.oncosimul | 0.418 | 0.022 | 0.442 | |
| plotClonePhylog | 1.742 | 0.074 | 1.821 | |
| plotFitnessLandscape | 1.106 | 0.022 | 1.134 | |
| plotPoset | 0.097 | 0.007 | 0.105 | |
| poset | 0.114 | 0.006 | 0.124 | |
| rfitness | 0.670 | 0.011 | 0.722 | |
| samplePop | 0.061 | 0.072 | 0.105 | |
| simOGraph | 0.068 | 0.014 | 0.083 | |
| to_Magellan | 0.220 | 0.062 | 0.420 | |
| vignette_pre_computed | 0.008 | 0.003 | 0.012 | |