| Back to Multiple platform build/check report for BioC 3.19: simplified long |
|
This page was generated on 2024-05-09 11:41:13 -0400 (Thu, 09 May 2024).
| Hostname | OS | Arch (*) | R version | Installed pkgs |
|---|---|---|---|---|
| nebbiolo1 | Linux (Ubuntu 22.04.3 LTS) | x86_64 | 4.4.0 (2024-04-24) -- "Puppy Cup" | 4748 |
| palomino3 | Windows Server 2022 Datacenter | x64 | 4.4.0 (2024-04-24 ucrt) -- "Puppy Cup" | 4484 |
| lconway | macOS 12.7.1 Monterey | x86_64 | 4.4.0 (2024-04-24) -- "Puppy Cup" | 4514 |
| kunpeng2 | Linux (openEuler 22.03 LTS-SP1) | aarch64 | 4.4.0 beta (2024-04-15 r86425) -- "Puppy Cup" | 4480 |
| Click on any hostname to see more info about the system (e.g. compilers) (*) as reported by 'uname -p', except on Windows and Mac OS X | ||||
| Package 1495/2300 | Hostname | OS / Arch | INSTALL | BUILD | CHECK | BUILD BIN | ||||||||
| OUTRIDER 1.22.0 (landing page) Christian Mertes
| nebbiolo1 | Linux (Ubuntu 22.04.3 LTS) / x86_64 | OK | OK | OK | |||||||||
| palomino3 | Windows Server 2022 Datacenter / x64 | OK | ERROR | skipped | skipped | |||||||||
| lconway | macOS 12.7.1 Monterey / x86_64 | OK | OK | OK | OK | |||||||||
| kunpeng2 | Linux (openEuler 22.03 LTS-SP1) / aarch64 | OK | OK | OK | ||||||||||
| kjohnson3 | macOS 13.6.5 Ventura / arm64 | see weekly results here | ||||||||||||
|
To the developers/maintainers of the OUTRIDER package: - Allow up to 24 hours (and sometimes 48 hours) for your latest push to git@git.bioconductor.org:packages/OUTRIDER.git to reflect on this report. See Troubleshooting Build Report for more information. - Use the following Renviron settings to reproduce errors and warnings. - If 'R CMD check' started to fail recently on the Linux builder(s) over a missing dependency, add the missing dependency to 'Suggests:' in your DESCRIPTION file. See Renviron.bioc for more information. - See Martin Grigorov's blog post for how to debug Linux ARM64 related issues on a x86_64 host. |
| Package: OUTRIDER |
| Version: 1.22.0 |
| Command: /home/biocbuild/R/R-beta-2024-04-15_r86425/bin/R CMD check --install=check:OUTRIDER.install-out.txt --library=/home/biocbuild/R/R-beta-2024-04-15_r86425/site-library --no-vignettes --timings OUTRIDER_1.22.0.tar.gz |
| StartedAt: 2024-05-09 10:19:01 -0000 (Thu, 09 May 2024) |
| EndedAt: 2024-05-09 10:29:07 -0000 (Thu, 09 May 2024) |
| EllapsedTime: 606.2 seconds |
| RetCode: 0 |
| Status: OK |
| CheckDir: OUTRIDER.Rcheck |
| Warnings: 0 |
##############################################################################
##############################################################################
###
### Running command:
###
### /home/biocbuild/R/R-beta-2024-04-15_r86425/bin/R CMD check --install=check:OUTRIDER.install-out.txt --library=/home/biocbuild/R/R-beta-2024-04-15_r86425/site-library --no-vignettes --timings OUTRIDER_1.22.0.tar.gz
###
##############################################################################
##############################################################################
* using log directory ‘/home/biocbuild/bbs-3.19-bioc/meat/OUTRIDER.Rcheck’
* using R version 4.4.0 beta (2024-04-15 r86425)
* using platform: aarch64-unknown-linux-gnu
* R was compiled by
gcc (GCC) 10.3.1
GNU Fortran (GCC) 10.3.1
* running under: openEuler 22.03 (LTS-SP1)
* using session charset: UTF-8
* using option ‘--no-vignettes’
* checking for file ‘OUTRIDER/DESCRIPTION’ ... OK
* checking extension type ... Package
* this is package ‘OUTRIDER’ version ‘1.22.0’
* package encoding: UTF-8
* checking package namespace information ... OK
* checking package dependencies ... OK
* checking if this is a source package ... OK
* checking if there is a namespace ... OK
* checking for hidden files and directories ... OK
* checking for portable file names ... OK
* checking for sufficient/correct file permissions ... OK
* checking whether package ‘OUTRIDER’ can be installed ... OK
* used C++ compiler: ‘g++ (GCC) 10.3.1’
* checking C++ specification ... NOTE
Specified C++11: please drop specification unless essential
* checking installed package size ... OK
* checking package directory ... OK
* checking ‘build’ directory ... OK
* checking DESCRIPTION meta-information ... NOTE
License stub is invalid DCF.
* checking top-level files ... OK
* checking for left-over files ... OK
* checking index information ... OK
* checking package subdirectories ... OK
* checking code files for non-ASCII characters ... OK
* checking R files for syntax errors ... OK
* checking whether the package can be loaded ... OK
* checking whether the package can be loaded with stated dependencies ... OK
* checking whether the package can be unloaded cleanly ... OK
* checking whether the namespace can be loaded with stated dependencies ... OK
* checking whether the namespace can be unloaded cleanly ... OK
* checking loading without being on the library search path ... OK
* checking dependencies in R code ... NOTE
Unexported object imported by a ':::' call: 'ggbio:::.buildFacetsFromArgs'
See the note in ?`:::` about the use of this operator.
* checking S3 generic/method consistency ... OK
* checking replacement functions ... OK
* checking foreign function calls ... OK
* checking R code for possible problems ... OK
* checking Rd files ... NOTE
checkRd: (-1) results.Rd:48-50: Lost braces in \itemize; \value handles \item{}{} directly
checkRd: (-1) results.Rd:51-52: Lost braces in \itemize; \value handles \item{}{} directly
checkRd: (-1) results.Rd:53-54: Lost braces in \itemize; \value handles \item{}{} directly
checkRd: (-1) results.Rd:55: Lost braces in \itemize; \value handles \item{}{} directly
checkRd: (-1) results.Rd:56-57: Lost braces in \itemize; \value handles \item{}{} directly
checkRd: (-1) results.Rd:58-60: Lost braces in \itemize; \value handles \item{}{} directly
checkRd: (-1) results.Rd:61-62: Lost braces in \itemize; \value handles \item{}{} directly
checkRd: (-1) results.Rd:63-64: Lost braces in \itemize; \value handles \item{}{} directly
checkRd: (-1) results.Rd:65-66: Lost braces in \itemize; \value handles \item{}{} directly
checkRd: (-1) results.Rd:67: Lost braces in \itemize; \value handles \item{}{} directly
checkRd: (-1) results.Rd:68-71: Lost braces in \itemize; \value handles \item{}{} directly
* checking Rd metadata ... OK
* checking Rd cross-references ... OK
* checking for missing documentation entries ... OK
* checking for code/documentation mismatches ... OK
* checking Rd \usage sections ... OK
* checking Rd contents ... OK
* checking for unstated dependencies in examples ... OK
* checking line endings in C/C++/Fortran sources/headers ... OK
* checking line endings in Makefiles ... OK
* checking compilation flags in Makevars ... OK
* checking for GNU extensions in Makefiles ... OK
* checking for portable use of $(BLAS_LIBS) and $(LAPACK_LIBS) ... OK
* checking use of PKG_*FLAGS in Makefiles ... OK
* checking compiled code ... NOTE
Note: information on .o files is not available
* checking files in ‘vignettes’ ... OK
* checking examples ... OK
Examples with CPU (user + system) or elapsed time > 5s
user system elapsed
plotFunctions 19.236 0.319 19.610
OUTRIDER 13.476 3.422 15.370
findEncodingDim 15.988 0.435 16.457
computePvalues 2.821 2.742 3.238
* checking for unstated dependencies in ‘tests’ ... OK
* checking tests ...
Running ‘testthat.R’
OK
* checking for unstated dependencies in vignettes ... OK
* checking package vignettes ... OK
* checking running R code from vignettes ... SKIPPED
* checking re-building of vignette outputs ... SKIPPED
* checking PDF version of manual ... OK
* DONE
Status: 5 NOTEs
See
‘/home/biocbuild/bbs-3.19-bioc/meat/OUTRIDER.Rcheck/00check.log’
for details.
OUTRIDER.Rcheck/00install.out
############################################################################## ############################################################################## ### ### Running command: ### ### /home/biocbuild/R/R-beta-2024-04-15_r86425/bin/R CMD INSTALL OUTRIDER ### ############################################################################## ############################################################################## * installing to library ‘/home/biocbuild/R/R-beta-2024-04-15_r86425/site-library’ * installing *source* package ‘OUTRIDER’ ... ** using staged installation ** libs using C++ compiler: ‘g++ (GCC) 10.3.1’ using C++11 g++ -std=gnu++11 -I"/home/biocbuild/R/R-beta-2024-04-15_r86425/include" -DNDEBUG -I'/home/biocbuild/R/R-beta-2024-04-15_r86425/site-library/Rcpp/include' -I'/home/biocbuild/R/R-beta-2024-04-15_r86425/site-library/RcppArmadillo/include' -I/usr/local/include -fopenmp -DARMA_DONT_USE_OPENMP -fPIC -g -O2 -Wall -c RcppExports.cpp -o RcppExports.o g++ -std=gnu++11 -I"/home/biocbuild/R/R-beta-2024-04-15_r86425/include" -DNDEBUG -I'/home/biocbuild/R/R-beta-2024-04-15_r86425/site-library/Rcpp/include' -I'/home/biocbuild/R/R-beta-2024-04-15_r86425/site-library/RcppArmadillo/include' -I/usr/local/include -fopenmp -DARMA_DONT_USE_OPENMP -fPIC -g -O2 -Wall -c loss_n_gradient_functions.cpp -o loss_n_gradient_functions.o g++ -std=gnu++11 -shared -L/home/biocbuild/R/R-beta-2024-04-15_r86425/lib -L/usr/local/lib -o OUTRIDER.so RcppExports.o loss_n_gradient_functions.o -fopenmp -lopenblas -lgfortran -lm -L/home/biocbuild/R/R-beta-2024-04-15_r86425/lib -lR installing to /home/biocbuild/R/R-beta-2024-04-15_r86425/site-library/00LOCK-OUTRIDER/00new/OUTRIDER/libs ** R ** inst ** byte-compile and prepare package for lazy loading ** help *** installing help indices ** building package indices ** installing vignettes ** testing if installed package can be loaded from temporary location ** checking absolute paths in shared objects and dynamic libraries ** testing if installed package can be loaded from final location ** testing if installed package keeps a record of temporary installation path * DONE (OUTRIDER)
OUTRIDER.Rcheck/tests/testthat.Rout
R version 4.4.0 beta (2024-04-15 r86425) -- "Puppy Cup"
Copyright (C) 2024 The R Foundation for Statistical Computing
Platform: aarch64-unknown-linux-gnu
R is free software and comes with ABSOLUTELY NO WARRANTY.
You are welcome to redistribute it under certain conditions.
Type 'license()' or 'licence()' for distribution details.
R is a collaborative project with many contributors.
Type 'contributors()' for more information and
'citation()' on how to cite R or R packages in publications.
Type 'demo()' for some demos, 'help()' for on-line help, or
'help.start()' for an HTML browser interface to help.
Type 'q()' to quit R.
> library(testthat)
> library(OUTRIDER)
Loading required package: BiocParallel
Loading required package: GenomicFeatures
Loading required package: BiocGenerics
Attaching package: 'BiocGenerics'
The following objects are masked from 'package:stats':
IQR, mad, sd, var, xtabs
The following objects are masked from 'package:base':
Filter, Find, Map, Position, Reduce, anyDuplicated, aperm, append,
as.data.frame, basename, cbind, colnames, dirname, do.call,
duplicated, eval, evalq, get, grep, grepl, intersect, is.unsorted,
lapply, mapply, match, mget, order, paste, pmax, pmax.int, pmin,
pmin.int, rank, rbind, rownames, sapply, setdiff, table, tapply,
union, unique, unsplit, which.max, which.min
Loading required package: S4Vectors
Loading required package: stats4
Attaching package: 'S4Vectors'
The following object is masked from 'package:utils':
findMatches
The following objects are masked from 'package:base':
I, expand.grid, unname
Loading required package: IRanges
Loading required package: GenomeInfoDb
Loading required package: GenomicRanges
Loading required package: AnnotationDbi
Loading required package: Biobase
Welcome to Bioconductor
Vignettes contain introductory material; view with
'browseVignettes()'. To cite Bioconductor, see
'citation("Biobase")', and for packages 'citation("pkgname")'.
Loading required package: SummarizedExperiment
Loading required package: MatrixGenerics
Loading required package: matrixStats
Attaching package: 'matrixStats'
The following objects are masked from 'package:Biobase':
anyMissing, rowMedians
Attaching package: 'MatrixGenerics'
The following objects are masked from 'package:matrixStats':
colAlls, colAnyNAs, colAnys, colAvgsPerRowSet, colCollapse,
colCounts, colCummaxs, colCummins, colCumprods, colCumsums,
colDiffs, colIQRDiffs, colIQRs, colLogSumExps, colMadDiffs,
colMads, colMaxs, colMeans2, colMedians, colMins, colOrderStats,
colProds, colQuantiles, colRanges, colRanks, colSdDiffs, colSds,
colSums2, colTabulates, colVarDiffs, colVars, colWeightedMads,
colWeightedMeans, colWeightedMedians, colWeightedSds,
colWeightedVars, rowAlls, rowAnyNAs, rowAnys, rowAvgsPerColSet,
rowCollapse, rowCounts, rowCummaxs, rowCummins, rowCumprods,
rowCumsums, rowDiffs, rowIQRDiffs, rowIQRs, rowLogSumExps,
rowMadDiffs, rowMads, rowMaxs, rowMeans2, rowMedians, rowMins,
rowOrderStats, rowProds, rowQuantiles, rowRanges, rowRanks,
rowSdDiffs, rowSds, rowSums2, rowTabulates, rowVarDiffs, rowVars,
rowWeightedMads, rowWeightedMeans, rowWeightedMedians,
rowWeightedSds, rowWeightedVars
The following object is masked from 'package:Biobase':
rowMedians
Loading required package: data.table
Attaching package: 'data.table'
The following object is masked from 'package:SummarizedExperiment':
shift
The following object is masked from 'package:GenomicRanges':
shift
The following object is masked from 'package:IRanges':
shift
The following objects are masked from 'package:S4Vectors':
first, second
>
> register(SerialParam())
>
> test_check("OUTRIDER")
[1] "Thu May 9 10:27:40 2024: Initial PCA loss: 6.12416417456246"
[1] "Thu May 9 10:27:41 2024: Iteration: 1 loss: 4.49467982776892"
[1] "Thu May 9 10:27:42 2024: Iteration: 2 loss: 4.4163644215881"
[1] "Thu May 9 10:27:43 2024: Iteration: 3 loss: 4.37930283424446"
[1] "Thu May 9 10:27:44 2024: Iteration: 4 loss: 4.36383562986276"
[1] "Thu May 9 10:27:45 2024: Iteration: 5 loss: 4.35437910819535"
[1] "Thu May 9 10:27:46 2024: Iteration: 6 loss: 4.34937544887535"
Time difference of 5.755677 secs
[1] "Thu May 9 10:27:46 2024: 6 Final nb-AE loss: 4.34937544887535"
[1] "Thu May 9 10:27:48 2024: Initial PCA loss: 6.12416417456246"
[1] "Thu May 9 10:27:49 2024: Iteration: 1 loss: 4.49467982776892"
[1] "Thu May 9 10:27:50 2024: Iteration: 2 loss: 4.4163644215881"
[1] "Thu May 9 10:27:51 2024: Iteration: 3 loss: 4.37930283424446"
[1] "Thu May 9 10:27:52 2024: Iteration: 4 loss: 4.36383562986276"
[1] "Thu May 9 10:27:53 2024: Iteration: 5 loss: 4.35437910819535"
[1] "Thu May 9 10:27:54 2024: Iteration: 6 loss: 4.34937544887535"
Time difference of 5.537797 secs
[1] "Thu May 9 10:27:54 2024: 6 Final nb-AE loss: 4.34937544887535"
class: OutriderDataSet
class: RangedSummarizedExperiment
dim: 100 50
metadata(1): version
assays(1): counts
rownames(100): ENSG00000223972.4 ENSG00000227232.4 ...
ENSG00000107404.13 ENSG00000162576.12
rowData names(0):
colnames(50): GTEX.UPK5.0426.SM.3GAEK GTEX.WFG7.2026.SM.3GIL7 ...
GTEX.11UD2.2526.SM.5CVNU GTEX.13O61.1426.SM.5KM3D
colData names(1): sampleID
[1] "Thu May 9 10:28:11 2024: Initial PCA loss: 4.46981928373548"
[1] "Thu May 9 10:28:13 2024: Iteration: 1 loss: 4.15101536858808"
[1] "Thu May 9 10:28:14 2024: Iteration: 2 loss: 4.13135276900884"
Time difference of 1.878329 secs
[1] "Thu May 9 10:28:14 2024: 2 Final nb-AE loss: 4.13135276900884"
[1] "Evaluation loss: 0.378094129294511 for q=3"
[1] "Thu May 9 10:28:15 2024: Initial PCA loss: 4.44428507650793"
[1] "Thu May 9 10:28:17 2024: Iteration: 1 loss: 4.09473992231701"
[1] "Thu May 9 10:28:18 2024: Iteration: 2 loss: 4.06493090947721"
Time difference of 1.905881 secs
[1] "Thu May 9 10:28:18 2024: 2 Final nb-AE loss: 4.06493090947721"
[1] "Evaluation loss: 0.32040592610531 for q=4"
[1] "Thu May 9 10:28:19 2024: Initial PCA loss: 4.41666996131345"
[1] "Thu May 9 10:28:21 2024: Iteration: 1 loss: 4.00959375699605"
[1] "Thu May 9 10:28:22 2024: Iteration: 2 loss: 3.98073587879055"
Time difference of 1.922116 secs
[1] "Thu May 9 10:28:22 2024: 2 Final nb-AE loss: 3.98073587879055"
[1] "Evaluation loss: 0.28841445313027 for q=5"
[1] "Thu May 9 10:28:34 2024: Initial PCA loss: 7.16457134714849"
[1] "Thu May 9 10:28:36 2024: Iteration: 1 loss: 6.82914904822917"
[1] "Thu May 9 10:28:37 2024: Iteration: 2 loss: 6.82749374530494"
Time difference of 2.435159 secs
[1] "Thu May 9 10:28:37 2024: 2 Final nb-AE loss: 6.82749374530494"
[ FAIL 0 | WARN 10 | SKIP 0 | PASS 115 ]
[ FAIL 0 | WARN 10 | SKIP 0 | PASS 115 ]
>
> proc.time()
user system elapsed
104.616 3.469 108.343
OUTRIDER.Rcheck/OUTRIDER-Ex.timings
| name | user | system | elapsed | |
| OUTRIDER | 13.476 | 3.422 | 15.370 | |
| OutriderDataSet-class | 1.107 | 0.131 | 1.243 | |
| aberrant | 2.429 | 0.956 | 2.306 | |
| computeGeneLength | 1.846 | 0.374 | 2.226 | |
| computeLatentSpace | 1.060 | 0.096 | 1.158 | |
| computePvalues | 2.821 | 2.742 | 3.238 | |
| computeZscores | 1.197 | 0.176 | 1.375 | |
| controlForConfounders | 1.516 | 0.164 | 1.682 | |
| counts | 0.773 | 0.036 | 0.810 | |
| estimateBestQ | 0.556 | 0.039 | 0.596 | |
| filterExpression | 2.064 | 0.044 | 2.111 | |
| findEncodingDim | 15.988 | 0.435 | 16.457 | |
| fit | 1.235 | 0.016 | 1.254 | |
| fpkm | 1.076 | 0.000 | 1.079 | |
| getter_setter_functions | 4.170 | 0.011 | 4.190 | |
| makeExampleOutriderDataSet | 1.592 | 0.040 | 1.635 | |
| normalizationFactors | 0.987 | 0.004 | 0.992 | |
| plotFunctions | 19.236 | 0.319 | 19.610 | |
| results | 4.783 | 0.009 | 4.800 | |
| sampleExclusionMask | 0.599 | 0.000 | 0.600 | |
| sizeFactors | 0.925 | 0.000 | 0.927 | |