| Back to Multiple platform build/check report for BioC 3.19: simplified long |
|
This page was generated on 2024-10-18 20:38 -0400 (Fri, 18 Oct 2024).
| Hostname | OS | Arch (*) | R version | Installed pkgs |
|---|---|---|---|---|
| nebbiolo1 | Linux (Ubuntu 22.04.3 LTS) | x86_64 | 4.4.1 (2024-06-14) -- "Race for Your Life" | 4763 |
| palomino7 | Windows Server 2022 Datacenter | x64 | 4.4.1 (2024-06-14 ucrt) -- "Race for Your Life" | 4500 |
| merida1 | macOS 12.7.5 Monterey | x86_64 | 4.4.1 (2024-06-14) -- "Race for Your Life" | 4530 |
| kjohnson1 | macOS 13.6.6 Ventura | arm64 | 4.4.1 (2024-06-14) -- "Race for Your Life" | 4480 |
| Click on any hostname to see more info about the system (e.g. compilers) (*) as reported by 'uname -p', except on Windows and Mac OS X | ||||
| Package 1495/2300 | Hostname | OS / Arch | INSTALL | BUILD | CHECK | BUILD BIN | ||||||||
| OUTRIDER 1.22.0 (landing page) Christian Mertes
| nebbiolo1 | Linux (Ubuntu 22.04.3 LTS) / x86_64 | OK | OK | OK | |||||||||
| palomino7 | Windows Server 2022 Datacenter / x64 | OK | OK | OK | OK | |||||||||
| merida1 | macOS 12.7.5 Monterey / x86_64 | OK | OK | OK | OK | |||||||||
| kjohnson1 | macOS 13.6.6 Ventura / arm64 | OK | OK | OK | OK | |||||||||
|
To the developers/maintainers of the OUTRIDER package: - Allow up to 24 hours (and sometimes 48 hours) for your latest push to git@git.bioconductor.org:packages/OUTRIDER.git to reflect on this report. See Troubleshooting Build Report for more information. - Use the following Renviron settings to reproduce errors and warnings. - If 'R CMD check' started to fail recently on the Linux builder(s) over a missing dependency, add the missing dependency to 'Suggests:' in your DESCRIPTION file. See Renviron.bioc for more information. |
| Package: OUTRIDER |
| Version: 1.22.0 |
| Command: /home/biocbuild/bbs-3.19-bioc/R/bin/R CMD check --install=check:OUTRIDER.install-out.txt --library=/home/biocbuild/bbs-3.19-bioc/R/site-library --timings OUTRIDER_1.22.0.tar.gz |
| StartedAt: 2024-10-17 03:24:01 -0400 (Thu, 17 Oct 2024) |
| EndedAt: 2024-10-17 03:42:51 -0400 (Thu, 17 Oct 2024) |
| EllapsedTime: 1130.0 seconds |
| RetCode: 0 |
| Status: OK |
| CheckDir: OUTRIDER.Rcheck |
| Warnings: 0 |
##############################################################################
##############################################################################
###
### Running command:
###
### /home/biocbuild/bbs-3.19-bioc/R/bin/R CMD check --install=check:OUTRIDER.install-out.txt --library=/home/biocbuild/bbs-3.19-bioc/R/site-library --timings OUTRIDER_1.22.0.tar.gz
###
##############################################################################
##############################################################################
* using log directory ‘/home/biocbuild/bbs-3.19-bioc/meat/OUTRIDER.Rcheck’
* using R version 4.4.1 (2024-06-14)
* using platform: x86_64-pc-linux-gnu
* R was compiled by
gcc (Ubuntu 11.4.0-1ubuntu1~22.04) 11.4.0
GNU Fortran (Ubuntu 11.4.0-1ubuntu1~22.04) 11.4.0
* running under: Ubuntu 22.04.5 LTS
* using session charset: UTF-8
* checking for file ‘OUTRIDER/DESCRIPTION’ ... OK
* checking extension type ... Package
* this is package ‘OUTRIDER’ version ‘1.22.0’
* package encoding: UTF-8
* checking package namespace information ... OK
* checking package dependencies ... OK
* checking if this is a source package ... OK
* checking if there is a namespace ... OK
* checking for hidden files and directories ... OK
* checking for portable file names ... OK
* checking for sufficient/correct file permissions ... OK
* checking whether package ‘OUTRIDER’ can be installed ... OK
* used C++ compiler: ‘g++ (Ubuntu 11.4.0-1ubuntu1~22.04) 11.4.0’
* checking C++ specification ... NOTE
Specified C++11: please drop specification unless essential
* checking installed package size ... OK
* checking package directory ... OK
* checking ‘build’ directory ... OK
* checking DESCRIPTION meta-information ... NOTE
License stub is invalid DCF.
* checking top-level files ... OK
* checking for left-over files ... OK
* checking index information ... OK
* checking package subdirectories ... OK
* checking code files for non-ASCII characters ... OK
* checking R files for syntax errors ... OK
* checking whether the package can be loaded ... OK
* checking whether the package can be loaded with stated dependencies ... OK
* checking whether the package can be unloaded cleanly ... OK
* checking whether the namespace can be loaded with stated dependencies ... OK
* checking whether the namespace can be unloaded cleanly ... OK
* checking loading without being on the library search path ... OK
* checking dependencies in R code ... NOTE
Unexported object imported by a ':::' call: 'ggbio:::.buildFacetsFromArgs'
See the note in ?`:::` about the use of this operator.
* checking S3 generic/method consistency ... OK
* checking replacement functions ... OK
* checking foreign function calls ... OK
* checking R code for possible problems ... OK
* checking Rd files ... NOTE
checkRd: (-1) results.Rd:48-50: Lost braces in \itemize; \value handles \item{}{} directly
checkRd: (-1) results.Rd:51-52: Lost braces in \itemize; \value handles \item{}{} directly
checkRd: (-1) results.Rd:53-54: Lost braces in \itemize; \value handles \item{}{} directly
checkRd: (-1) results.Rd:55: Lost braces in \itemize; \value handles \item{}{} directly
checkRd: (-1) results.Rd:56-57: Lost braces in \itemize; \value handles \item{}{} directly
checkRd: (-1) results.Rd:58-60: Lost braces in \itemize; \value handles \item{}{} directly
checkRd: (-1) results.Rd:61-62: Lost braces in \itemize; \value handles \item{}{} directly
checkRd: (-1) results.Rd:63-64: Lost braces in \itemize; \value handles \item{}{} directly
checkRd: (-1) results.Rd:65-66: Lost braces in \itemize; \value handles \item{}{} directly
checkRd: (-1) results.Rd:67: Lost braces in \itemize; \value handles \item{}{} directly
checkRd: (-1) results.Rd:68-71: Lost braces in \itemize; \value handles \item{}{} directly
* checking Rd metadata ... OK
* checking Rd cross-references ... OK
* checking for missing documentation entries ... OK
* checking for code/documentation mismatches ... OK
* checking Rd \usage sections ... OK
* checking Rd contents ... OK
* checking for unstated dependencies in examples ... OK
* checking line endings in C/C++/Fortran sources/headers ... OK
* checking line endings in Makefiles ... OK
* checking compilation flags in Makevars ... OK
* checking for GNU extensions in Makefiles ... OK
* checking for portable use of $(BLAS_LIBS) and $(LAPACK_LIBS) ... OK
* checking use of PKG_*FLAGS in Makefiles ... OK
* checking compiled code ... NOTE
Note: information on .o files is not available
* checking files in ‘vignettes’ ... OK
* checking examples ... OK
Examples with CPU (user + system) or elapsed time > 5s
user system elapsed
OUTRIDER 19.822 4.316 31.092
plotFunctions 13.210 0.362 13.534
findEncodingDim 10.290 0.429 10.719
* checking for unstated dependencies in ‘tests’ ... OK
* checking tests ...
Running ‘testthat.R’
OK
* checking for unstated dependencies in vignettes ... OK
* checking package vignettes ... OK
* checking re-building of vignette outputs ... OK
* checking PDF version of manual ... OK
* DONE
Status: 5 NOTEs
See
‘/home/biocbuild/bbs-3.19-bioc/meat/OUTRIDER.Rcheck/00check.log’
for details.
OUTRIDER.Rcheck/00install.out
############################################################################## ############################################################################## ### ### Running command: ### ### /home/biocbuild/bbs-3.19-bioc/R/bin/R CMD INSTALL OUTRIDER ### ############################################################################## ############################################################################## * installing to library ‘/home/biocbuild/bbs-3.19-bioc/R/site-library’ * installing *source* package ‘OUTRIDER’ ... ** using staged installation ** libs using C++ compiler: ‘g++ (Ubuntu 11.4.0-1ubuntu1~22.04) 11.4.0’ using C++11 g++ -std=gnu++11 -I"/home/biocbuild/bbs-3.19-bioc/R/include" -DNDEBUG -I'/home/biocbuild/bbs-3.19-bioc/R/site-library/Rcpp/include' -I'/home/biocbuild/bbs-3.19-bioc/R/site-library/RcppArmadillo/include' -I/usr/local/include -fopenmp -DARMA_DONT_USE_OPENMP -fpic -g -O2 -Wall -c RcppExports.cpp -o RcppExports.o g++ -std=gnu++11 -I"/home/biocbuild/bbs-3.19-bioc/R/include" -DNDEBUG -I'/home/biocbuild/bbs-3.19-bioc/R/site-library/Rcpp/include' -I'/home/biocbuild/bbs-3.19-bioc/R/site-library/RcppArmadillo/include' -I/usr/local/include -fopenmp -DARMA_DONT_USE_OPENMP -fpic -g -O2 -Wall -c loss_n_gradient_functions.cpp -o loss_n_gradient_functions.o g++ -std=gnu++11 -shared -L/home/biocbuild/bbs-3.19-bioc/R/lib -L/usr/local/lib -o OUTRIDER.so RcppExports.o loss_n_gradient_functions.o -fopenmp -llapack -L/home/biocbuild/bbs-3.19-bioc/R/lib -lRblas -lgfortran -lm -lquadmath -L/home/biocbuild/bbs-3.19-bioc/R/lib -lR installing to /home/biocbuild/bbs-3.19-bioc/R/site-library/00LOCK-OUTRIDER/00new/OUTRIDER/libs ** R ** inst ** byte-compile and prepare package for lazy loading ** help *** installing help indices ** building package indices ** installing vignettes ** testing if installed package can be loaded from temporary location ** checking absolute paths in shared objects and dynamic libraries ** testing if installed package can be loaded from final location ** testing if installed package keeps a record of temporary installation path * DONE (OUTRIDER)
OUTRIDER.Rcheck/tests/testthat.Rout
R version 4.4.1 (2024-06-14) -- "Race for Your Life"
Copyright (C) 2024 The R Foundation for Statistical Computing
Platform: x86_64-pc-linux-gnu
R is free software and comes with ABSOLUTELY NO WARRANTY.
You are welcome to redistribute it under certain conditions.
Type 'license()' or 'licence()' for distribution details.
R is a collaborative project with many contributors.
Type 'contributors()' for more information and
'citation()' on how to cite R or R packages in publications.
Type 'demo()' for some demos, 'help()' for on-line help, or
'help.start()' for an HTML browser interface to help.
Type 'q()' to quit R.
> library(testthat)
> library(OUTRIDER)
Loading required package: BiocParallel
Loading required package: GenomicFeatures
Loading required package: BiocGenerics
Attaching package: 'BiocGenerics'
The following objects are masked from 'package:stats':
IQR, mad, sd, var, xtabs
The following objects are masked from 'package:base':
Filter, Find, Map, Position, Reduce, anyDuplicated, aperm, append,
as.data.frame, basename, cbind, colnames, dirname, do.call,
duplicated, eval, evalq, get, grep, grepl, intersect, is.unsorted,
lapply, mapply, match, mget, order, paste, pmax, pmax.int, pmin,
pmin.int, rank, rbind, rownames, sapply, setdiff, table, tapply,
union, unique, unsplit, which.max, which.min
Loading required package: S4Vectors
Loading required package: stats4
Attaching package: 'S4Vectors'
The following object is masked from 'package:utils':
findMatches
The following objects are masked from 'package:base':
I, expand.grid, unname
Loading required package: IRanges
Loading required package: GenomeInfoDb
Loading required package: GenomicRanges
Loading required package: AnnotationDbi
Loading required package: Biobase
Welcome to Bioconductor
Vignettes contain introductory material; view with
'browseVignettes()'. To cite Bioconductor, see
'citation("Biobase")', and for packages 'citation("pkgname")'.
Loading required package: SummarizedExperiment
Loading required package: MatrixGenerics
Loading required package: matrixStats
Attaching package: 'matrixStats'
The following objects are masked from 'package:Biobase':
anyMissing, rowMedians
Attaching package: 'MatrixGenerics'
The following objects are masked from 'package:matrixStats':
colAlls, colAnyNAs, colAnys, colAvgsPerRowSet, colCollapse,
colCounts, colCummaxs, colCummins, colCumprods, colCumsums,
colDiffs, colIQRDiffs, colIQRs, colLogSumExps, colMadDiffs,
colMads, colMaxs, colMeans2, colMedians, colMins, colOrderStats,
colProds, colQuantiles, colRanges, colRanks, colSdDiffs, colSds,
colSums2, colTabulates, colVarDiffs, colVars, colWeightedMads,
colWeightedMeans, colWeightedMedians, colWeightedSds,
colWeightedVars, rowAlls, rowAnyNAs, rowAnys, rowAvgsPerColSet,
rowCollapse, rowCounts, rowCummaxs, rowCummins, rowCumprods,
rowCumsums, rowDiffs, rowIQRDiffs, rowIQRs, rowLogSumExps,
rowMadDiffs, rowMads, rowMaxs, rowMeans2, rowMedians, rowMins,
rowOrderStats, rowProds, rowQuantiles, rowRanges, rowRanks,
rowSdDiffs, rowSds, rowSums2, rowTabulates, rowVarDiffs, rowVars,
rowWeightedMads, rowWeightedMeans, rowWeightedMedians,
rowWeightedSds, rowWeightedVars
The following object is masked from 'package:Biobase':
rowMedians
Loading required package: data.table
Attaching package: 'data.table'
The following object is masked from 'package:SummarizedExperiment':
shift
The following object is masked from 'package:GenomicRanges':
shift
The following object is masked from 'package:IRanges':
shift
The following objects are masked from 'package:S4Vectors':
first, second
>
> register(SerialParam())
>
> test_check("OUTRIDER")
[1] "Thu Oct 17 03:37:11 2024: Initial PCA loss: 6.13885346357677"
[1] "Thu Oct 17 03:37:13 2024: Iteration: 1 loss: 4.41499158807714"
[1] "Thu Oct 17 03:37:13 2024: Iteration: 2 loss: 4.3419163846128"
[1] "Thu Oct 17 03:37:14 2024: Iteration: 3 loss: 4.2939536800745"
[1] "Thu Oct 17 03:37:15 2024: Iteration: 4 loss: 4.26296827119449"
[1] "Thu Oct 17 03:37:15 2024: Iteration: 5 loss: 4.24866666696205"
[1] "Thu Oct 17 03:37:16 2024: Iteration: 6 loss: 4.24301927608486"
Time difference of 3.927795 secs
[1] "Thu Oct 17 03:37:16 2024: 6 Final nb-AE loss: 4.24301927608486"
[1] "Thu Oct 17 03:37:19 2024: Initial PCA loss: 6.13885346357677"
[1] "Thu Oct 17 03:37:21 2024: Iteration: 1 loss: 4.41499158807714"
[1] "Thu Oct 17 03:37:21 2024: Iteration: 2 loss: 4.3419163846128"
[1] "Thu Oct 17 03:37:22 2024: Iteration: 3 loss: 4.2939536800745"
[1] "Thu Oct 17 03:37:22 2024: Iteration: 4 loss: 4.26296827119449"
[1] "Thu Oct 17 03:37:23 2024: Iteration: 5 loss: 4.24866666696205"
[1] "Thu Oct 17 03:37:23 2024: Iteration: 6 loss: 4.24301927608486"
Time difference of 3.45306 secs
[1] "Thu Oct 17 03:37:23 2024: 6 Final nb-AE loss: 4.24301927608486"
class: OutriderDataSet
class: RangedSummarizedExperiment
dim: 100 50
metadata(1): version
assays(1): counts
rownames(100): ENSG00000223972.4 ENSG00000227232.4 ...
ENSG00000107404.13 ENSG00000162576.12
rowData names(0):
colnames(50): GTEX.UPK5.0426.SM.3GAEK GTEX.WFG7.2026.SM.3GIL7 ...
GTEX.11UD2.2526.SM.5CVNU GTEX.13O61.1426.SM.5KM3D
colData names(1): sampleID
[1] "Thu Oct 17 03:37:42 2024: Initial PCA loss: 4.48113183375037"
[1] "Thu Oct 17 03:37:44 2024: Iteration: 1 loss: 4.11372555724557"
[1] "Thu Oct 17 03:37:45 2024: Iteration: 2 loss: 4.09486915767655"
Time difference of 2.438348 secs
[1] "Thu Oct 17 03:37:45 2024: 2 Final nb-AE loss: 4.09486915767655"
[1] "Evaluation loss: 0.587007549873967 for q=3"
[1] "Thu Oct 17 03:37:46 2024: Initial PCA loss: 4.45311629788653"
[1] "Thu Oct 17 03:37:47 2024: Iteration: 1 loss: 4.05039800703965"
[1] "Thu Oct 17 03:37:48 2024: Iteration: 2 loss: 4.01609605935017"
Time difference of 1.203038 secs
[1] "Thu Oct 17 03:37:48 2024: 2 Final nb-AE loss: 4.01609605935017"
[1] "Evaluation loss: 0.582170305306558 for q=4"
[1] "Thu Oct 17 03:37:48 2024: Initial PCA loss: 4.42215060522441"
[1] "Thu Oct 17 03:37:50 2024: Iteration: 1 loss: 3.95016155744323"
[1] "Thu Oct 17 03:37:50 2024: Iteration: 2 loss: 3.92211280554248"
Time difference of 1.511714 secs
[1] "Thu Oct 17 03:37:50 2024: 2 Final nb-AE loss: 3.92211280554248"
[1] "Evaluation loss: 0.502730237056564 for q=5"
[1] "Thu Oct 17 03:38:07 2024: Initial PCA loss: 7.16457134714849"
[1] "Thu Oct 17 03:38:09 2024: Iteration: 1 loss: 6.82915165643358"
[1] "Thu Oct 17 03:38:10 2024: Iteration: 2 loss: 6.82749554346071"
Time difference of 1.571854 secs
[1] "Thu Oct 17 03:38:10 2024: 2 Final nb-AE loss: 6.82749554346071"
[ FAIL 0 | WARN 10 | SKIP 0 | PASS 115 ]
[ FAIL 0 | WARN 10 | SKIP 0 | PASS 115 ]
>
> proc.time()
user system elapsed
103.765 2.452 111.387
OUTRIDER.Rcheck/OUTRIDER-Ex.timings
| name | user | system | elapsed | |
| OUTRIDER | 19.822 | 4.316 | 31.092 | |
| OutriderDataSet-class | 0.719 | 0.089 | 0.809 | |
| aberrant | 1.703 | 0.815 | 1.661 | |
| computeGeneLength | 1.338 | 0.124 | 1.461 | |
| computeLatentSpace | 0.681 | 0.071 | 0.753 | |
| computePvalues | 1.901 | 1.715 | 2.107 | |
| computeZscores | 0.766 | 0.072 | 0.839 | |
| controlForConfounders | 0.980 | 0.136 | 1.116 | |
| counts | 0.506 | 0.036 | 0.542 | |
| estimateBestQ | 0.354 | 0.036 | 0.390 | |
| filterExpression | 1.252 | 0.148 | 1.401 | |
| findEncodingDim | 10.290 | 0.429 | 10.719 | |
| fit | 0.788 | 0.008 | 0.796 | |
| fpkm | 0.678 | 0.004 | 0.681 | |
| getter_setter_functions | 2.754 | 0.008 | 2.762 | |
| makeExampleOutriderDataSet | 0.973 | 0.000 | 0.973 | |
| normalizationFactors | 0.614 | 0.008 | 0.622 | |
| plotFunctions | 13.210 | 0.362 | 13.534 | |
| results | 3.193 | 0.044 | 3.237 | |
| sampleExclusionMask | 0.403 | 0.004 | 0.407 | |
| sizeFactors | 0.563 | 0.008 | 0.572 | |