| Back to Multiple platform build/check report for BioC 3.19: simplified long |
|
This page was generated on 2024-06-28 17:42 -0400 (Fri, 28 Jun 2024).
| Hostname | OS | Arch (*) | R version | Installed pkgs |
|---|---|---|---|---|
| nebbiolo1 | Linux (Ubuntu 22.04.3 LTS) | x86_64 | 4.4.0 (2024-04-24) -- "Puppy Cup" | 4760 |
| palomino3 | Windows Server 2022 Datacenter | x64 | 4.4.0 (2024-04-24 ucrt) -- "Puppy Cup" | 4494 |
| merida1 | macOS 12.7.4 Monterey | x86_64 | 4.4.0 (2024-04-24) -- "Puppy Cup" | 4508 |
| kjohnson1 | macOS 13.6.6 Ventura | arm64 | 4.4.0 (2024-04-24) -- "Puppy Cup" | 4466 |
| palomino7 | Windows Server 2022 Datacenter | x64 | 4.4.1 (2024-06-14 ucrt) -- "Race for Your Life" | 4362 |
| Click on any hostname to see more info about the system (e.g. compilers) (*) as reported by 'uname -p', except on Windows and Mac OS X | ||||
| Package 1393/2300 | Hostname | OS / Arch | INSTALL | BUILD | CHECK | BUILD BIN | ||||||||
| MutationalPatterns 3.14.0 (landing page) Mark van Roosmalen
| nebbiolo1 | Linux (Ubuntu 22.04.3 LTS) / x86_64 | OK | OK | OK | |||||||||
| palomino3 | Windows Server 2022 Datacenter / x64 | OK | OK | OK | OK | |||||||||
| merida1 | macOS 12.7.4 Monterey / x86_64 | OK | ERROR | skipped | skipped | |||||||||
| kjohnson1 | macOS 13.6.6 Ventura / arm64 | OK | ERROR | skipped | skipped | |||||||||
| palomino7 | Windows Server 2022 Datacenter / x64 | OK | OK | OK | OK | |||||||||
|
To the developers/maintainers of the MutationalPatterns package: - Allow up to 24 hours (and sometimes 48 hours) for your latest push to git@git.bioconductor.org:packages/MutationalPatterns.git to reflect on this report. See Troubleshooting Build Report for more information. - Use the following Renviron settings to reproduce errors and warnings. - If 'R CMD check' started to fail recently on the Linux builder(s) over a missing dependency, add the missing dependency to 'Suggests:' in your DESCRIPTION file. See Renviron.bioc for more information. |
| Package: MutationalPatterns |
| Version: 3.14.0 |
| Command: F:\biocbuild\bbs-3.19-bioc\R\bin\R.exe CMD check --no-multiarch --install=check:MutationalPatterns.install-out.txt --library=F:\biocbuild\bbs-3.19-bioc\R\library --no-vignettes --timings MutationalPatterns_3.14.0.tar.gz |
| StartedAt: 2024-06-27 04:05:40 -0400 (Thu, 27 Jun 2024) |
| EndedAt: 2024-06-27 04:18:26 -0400 (Thu, 27 Jun 2024) |
| EllapsedTime: 766.5 seconds |
| RetCode: 0 |
| Status: OK |
| CheckDir: MutationalPatterns.Rcheck |
| Warnings: 0 |
##############################################################################
##############################################################################
###
### Running command:
###
### F:\biocbuild\bbs-3.19-bioc\R\bin\R.exe CMD check --no-multiarch --install=check:MutationalPatterns.install-out.txt --library=F:\biocbuild\bbs-3.19-bioc\R\library --no-vignettes --timings MutationalPatterns_3.14.0.tar.gz
###
##############################################################################
##############################################################################
* using log directory 'F:/biocbuild/bbs-3.19-bioc/meat/MutationalPatterns.Rcheck'
* using R version 4.4.0 (2024-04-24 ucrt)
* using platform: x86_64-w64-mingw32
* R was compiled by
gcc.exe (GCC) 13.2.0
GNU Fortran (GCC) 13.2.0
* running under: Windows Server 2022 x64 (build 20348)
* using session charset: UTF-8
* using option '--no-vignettes'
* checking for file 'MutationalPatterns/DESCRIPTION' ... OK
* checking extension type ... Package
* this is package 'MutationalPatterns' version '3.14.0'
* package encoding: UTF-8
* checking package namespace information ... OK
* checking package dependencies ... OK
* checking if this is a source package ... OK
* checking if there is a namespace ... OK
* checking for hidden files and directories ... OK
* checking for portable file names ... OK
* checking whether package 'MutationalPatterns' can be installed ... OK
* checking installed package size ... OK
* checking package directory ... OK
* checking 'build' directory ... OK
* checking DESCRIPTION meta-information ... NOTE
License stub is invalid DCF.
* checking top-level files ... OK
* checking for left-over files ... OK
* checking index information ... OK
* checking package subdirectories ... OK
* checking code files for non-ASCII characters ... OK
* checking R files for syntax errors ... OK
* checking whether the package can be loaded ... OK
* checking whether the package can be loaded with stated dependencies ... OK
* checking whether the package can be unloaded cleanly ... OK
* checking whether the namespace can be loaded with stated dependencies ... OK
* checking whether the namespace can be unloaded cleanly ... OK
* checking dependencies in R code ... OK
* checking S3 generic/method consistency ... OK
* checking replacement functions ... OK
* checking foreign function calls ... OK
* checking R code for possible problems ... OK
* checking Rd files ... OK
* checking Rd metadata ... OK
* checking Rd cross-references ... OK
* checking for missing documentation entries ... OK
* checking for code/documentation mismatches ... OK
* checking Rd \usage sections ... OK
* checking Rd contents ... OK
* checking for unstated dependencies in examples ... OK
* checking files in 'vignettes' ... OK
* checking examples ... OK
Examples with CPU (user + system) or elapsed time > 5s
user system elapsed
read_vcfs_as_granges 27.06 2.49 36.17
context_potential_damage_analysis 27.36 0.63 27.98
plot_lesion_segregation 19.80 0.22 20.27
get_mut_type 15.05 0.08 15.16
genomic_distribution 13.60 1.31 16.41
calculate_lesion_segregation 12.39 0.52 12.91
bin_mutation_density 12.09 0.64 12.86
get_indel_context 9.11 1.39 10.50
plot_indel_contexts 10.27 0.08 10.34
plot_compare_indels 9.62 0.11 10.19
fit_to_signatures_bootstrapped 7.61 0.30 7.91
plot_river 7.25 0.13 7.37
plot_spectrum_region 6.72 0.32 7.06
plot_profile_heatmap 6.49 0.20 6.70
mut_matrix_stranded 5.78 0.77 6.56
plot_spectrum 5.92 0.24 6.16
split_muts_region 5.77 0.11 5.92
plot_compare_dbs 5.33 0.08 5.40
plot_192_profile 5.24 0.08 5.32
* checking for unstated dependencies in 'tests' ... OK
* checking tests ...
Running 'testthat.R'
OK
* checking for unstated dependencies in vignettes ... OK
* checking package vignettes ... OK
* checking running R code from vignettes ... SKIPPED
* checking re-building of vignette outputs ... SKIPPED
* checking PDF version of manual ... OK
* DONE
Status: 1 NOTE
See
'F:/biocbuild/bbs-3.19-bioc/meat/MutationalPatterns.Rcheck/00check.log'
for details.
MutationalPatterns.Rcheck/00install.out
############################################################################## ############################################################################## ### ### Running command: ### ### F:\biocbuild\bbs-3.19-bioc\R\bin\R.exe CMD INSTALL MutationalPatterns ### ############################################################################## ############################################################################## * installing to library 'F:/biocbuild/bbs-3.19-bioc/R/library' * installing *source* package 'MutationalPatterns' ... ** using staged installation ** R ** inst ** byte-compile and prepare package for lazy loading ** help *** installing help indices ** building package indices ** installing vignettes ** testing if installed package can be loaded from temporary location ** testing if installed package can be loaded from final location ** testing if installed package keeps a record of temporary installation path * DONE (MutationalPatterns)
MutationalPatterns.Rcheck/tests/testthat.Rout
R version 4.4.0 (2024-04-24 ucrt) -- "Puppy Cup"
Copyright (C) 2024 The R Foundation for Statistical Computing
Platform: x86_64-w64-mingw32/x64
R is free software and comes with ABSOLUTELY NO WARRANTY.
You are welcome to redistribute it under certain conditions.
Type 'license()' or 'licence()' for distribution details.
R is a collaborative project with many contributors.
Type 'contributors()' for more information and
'citation()' on how to cite R or R packages in publications.
Type 'demo()' for some demos, 'help()' for on-line help, or
'help.start()' for an HTML browser interface to help.
Type 'q()' to quit R.
> library(testthat)
> library(MutationalPatterns)
Loading required package: GenomicRanges
Loading required package: stats4
Loading required package: BiocGenerics
Attaching package: 'BiocGenerics'
The following objects are masked from 'package:stats':
IQR, mad, sd, var, xtabs
The following objects are masked from 'package:base':
Filter, Find, Map, Position, Reduce, anyDuplicated, aperm, append,
as.data.frame, basename, cbind, colnames, dirname, do.call,
duplicated, eval, evalq, get, grep, grepl, intersect, is.unsorted,
lapply, mapply, match, mget, order, paste, pmax, pmax.int, pmin,
pmin.int, rank, rbind, rownames, sapply, setdiff, table, tapply,
union, unique, unsplit, which.max, which.min
Loading required package: S4Vectors
Attaching package: 'S4Vectors'
The following object is masked from 'package:utils':
findMatches
The following objects are masked from 'package:base':
I, expand.grid, unname
Loading required package: IRanges
Attaching package: 'IRanges'
The following object is masked from 'package:grDevices':
windows
Loading required package: GenomeInfoDb
Loading required package: NMF
Loading required package: registry
Loading required package: rngtools
Loading required package: cluster
NMF - BioConductor layer [OK] | Shared memory capabilities [NO: windows] | Cores 2/2
Attaching package: 'NMF'
The following object is masked from 'package:S4Vectors':
nrun
The following object is masked from 'package:testthat':
compare
>
> test_check("MutationalPatterns")
[ FAIL 0 | WARN 5 | SKIP 0 | PASS 474 ]
[ FAIL 0 | WARN 5 | SKIP 0 | PASS 474 ]
>
> proc.time()
user system elapsed
275.40 23.06 317.20
MutationalPatterns.Rcheck/MutationalPatterns-Ex.timings
| name | user | system | elapsed | |
| bin_mutation_density | 12.09 | 0.64 | 12.86 | |
| binomial_test | 0 | 0 | 0 | |
| calculate_lesion_segregation | 12.39 | 0.52 | 12.91 | |
| cluster_signatures | 0.04 | 0.01 | 0.11 | |
| context_potential_damage_analysis | 27.36 | 0.63 | 27.98 | |
| convert_sigs_to_ref | 0.05 | 0.02 | 0.06 | |
| cos_sim | 0 | 0 | 0 | |
| cos_sim_matrix | 0.03 | 0.00 | 0.04 | |
| count_dbs_contexts | 0.11 | 0.00 | 0.10 | |
| count_indel_contexts | 0.16 | 0.00 | 0.16 | |
| count_mbs_contexts | 0.16 | 0.00 | 0.16 | |
| determine_regional_similarity | 3.81 | 0.56 | 4.37 | |
| enrichment_depletion_test | 0.20 | 0.01 | 0.22 | |
| extract_signatures | 0 | 0 | 0 | |
| fit_to_signatures | 0.18 | 0.00 | 0.18 | |
| fit_to_signatures_bootstrapped | 7.61 | 0.30 | 7.91 | |
| fit_to_signatures_strict | 4.14 | 0.17 | 4.29 | |
| genomic_distribution | 13.60 | 1.31 | 16.41 | |
| get_dbs_context | 0.26 | 0.02 | 0.28 | |
| get_indel_context | 9.11 | 1.39 | 10.50 | |
| get_known_signatures | 0.52 | 0.37 | 1.00 | |
| get_mut_type | 15.05 | 0.08 | 15.16 | |
| lengthen_mut_matrix | 0.01 | 0.00 | 0.01 | |
| merge_signatures | 1.49 | 0.09 | 1.58 | |
| mut_context | 1.45 | 0.32 | 1.77 | |
| mut_matrix | 2.55 | 0.54 | 3.09 | |
| mut_matrix_stranded | 5.78 | 0.77 | 6.56 | |
| mut_strand | 1.33 | 0.05 | 1.42 | |
| mut_type | 0.06 | 0.00 | 0.06 | |
| mut_type_occurrences | 1.33 | 0.20 | 1.53 | |
| mutations_from_vcf | 0.03 | 0.00 | 0.03 | |
| plot_192_profile | 5.24 | 0.08 | 5.32 | |
| plot_96_profile | 3.72 | 0.03 | 3.75 | |
| plot_bootstrapped_contribution | 2.25 | 0.01 | 2.27 | |
| plot_compare_dbs | 5.33 | 0.08 | 5.40 | |
| plot_compare_indels | 9.62 | 0.11 | 10.19 | |
| plot_compare_mbs | 1.20 | 0.02 | 1.29 | |
| plot_compare_profiles | 2.49 | 0.01 | 2.54 | |
| plot_contribution | 2.50 | 0.02 | 2.51 | |
| plot_contribution_heatmap | 2.04 | 0.01 | 2.63 | |
| plot_correlation_bootstrap | 0.67 | 0.00 | 0.67 | |
| plot_cosine_heatmap | 2.31 | 0.05 | 2.38 | |
| plot_dbs_contexts | 4.91 | 0.06 | 4.98 | |
| plot_enrichment_depletion | 4.42 | 0.05 | 4.48 | |
| plot_indel_contexts | 10.27 | 0.08 | 10.34 | |
| plot_lesion_segregation | 19.80 | 0.22 | 20.27 | |
| plot_main_dbs_contexts | 0.76 | 0.00 | 0.76 | |
| plot_main_indel_contexts | 0.92 | 0.04 | 0.97 | |
| plot_mbs_contexts | 0.8 | 0.0 | 0.8 | |
| plot_original_vs_reconstructed | 0.56 | 0.02 | 0.58 | |
| plot_profile_heatmap | 6.49 | 0.20 | 6.70 | |
| plot_profile_region | 1.51 | 0.02 | 1.55 | |
| plot_rainfall | 2.11 | 0.01 | 2.12 | |
| plot_regional_similarity | 2.03 | 0.05 | 2.08 | |
| plot_river | 7.25 | 0.13 | 7.37 | |
| plot_signature_strand_bias | 1.09 | 0.01 | 1.14 | |
| plot_spectrum | 5.92 | 0.24 | 6.16 | |
| plot_spectrum_region | 6.72 | 0.32 | 7.06 | |
| plot_strand | 0.38 | 0.03 | 0.41 | |
| plot_strand_bias | 1.19 | 0.00 | 1.19 | |
| pool_mut_mat | 0.08 | 0.00 | 0.08 | |
| read_vcfs_as_granges | 27.06 | 2.49 | 36.17 | |
| rename_nmf_signatures | 0.05 | 0.05 | 0.09 | |
| signature_potential_damage_analysis | 0.14 | 0.00 | 0.16 | |
| split_muts_region | 5.77 | 0.11 | 5.92 | |
| strand_bias_test | 0.14 | 0.00 | 0.14 | |
| strand_occurrences | 0.20 | 0.04 | 0.25 | |
| type_context | 1.95 | 0.39 | 2.35 | |