| Back to Multiple platform build/check report for BioC 3.19: simplified long |
|
This page was generated on 2024-10-18 20:38 -0400 (Fri, 18 Oct 2024).
| Hostname | OS | Arch (*) | R version | Installed pkgs |
|---|---|---|---|---|
| nebbiolo1 | Linux (Ubuntu 22.04.3 LTS) | x86_64 | 4.4.1 (2024-06-14) -- "Race for Your Life" | 4763 |
| palomino7 | Windows Server 2022 Datacenter | x64 | 4.4.1 (2024-06-14 ucrt) -- "Race for Your Life" | 4500 |
| merida1 | macOS 12.7.5 Monterey | x86_64 | 4.4.1 (2024-06-14) -- "Race for Your Life" | 4530 |
| kjohnson1 | macOS 13.6.6 Ventura | arm64 | 4.4.1 (2024-06-14) -- "Race for Your Life" | 4480 |
| Click on any hostname to see more info about the system (e.g. compilers) (*) as reported by 'uname -p', except on Windows and Mac OS X | ||||
| Package 1393/2300 | Hostname | OS / Arch | INSTALL | BUILD | CHECK | BUILD BIN | ||||||||
| MutationalPatterns 3.14.0 (landing page) Mark van Roosmalen
| nebbiolo1 | Linux (Ubuntu 22.04.3 LTS) / x86_64 | OK | OK | OK | |||||||||
| palomino7 | Windows Server 2022 Datacenter / x64 | OK | OK | OK | OK | |||||||||
| merida1 | macOS 12.7.5 Monterey / x86_64 | OK | ERROR | skipped | skipped | |||||||||
| kjohnson1 | macOS 13.6.6 Ventura / arm64 | OK | ERROR | skipped | skipped | |||||||||
|
To the developers/maintainers of the MutationalPatterns package: - Allow up to 24 hours (and sometimes 48 hours) for your latest push to git@git.bioconductor.org:packages/MutationalPatterns.git to reflect on this report. See Troubleshooting Build Report for more information. - Use the following Renviron settings to reproduce errors and warnings. - If 'R CMD check' started to fail recently on the Linux builder(s) over a missing dependency, add the missing dependency to 'Suggests:' in your DESCRIPTION file. See Renviron.bioc for more information. |
| Package: MutationalPatterns |
| Version: 3.14.0 |
| Command: /home/biocbuild/bbs-3.19-bioc/R/bin/R CMD check --install=check:MutationalPatterns.install-out.txt --library=/home/biocbuild/bbs-3.19-bioc/R/site-library --timings MutationalPatterns_3.14.0.tar.gz |
| StartedAt: 2024-10-17 02:57:44 -0400 (Thu, 17 Oct 2024) |
| EndedAt: 2024-10-17 03:16:07 -0400 (Thu, 17 Oct 2024) |
| EllapsedTime: 1102.6 seconds |
| RetCode: 0 |
| Status: OK |
| CheckDir: MutationalPatterns.Rcheck |
| Warnings: 0 |
##############################################################################
##############################################################################
###
### Running command:
###
### /home/biocbuild/bbs-3.19-bioc/R/bin/R CMD check --install=check:MutationalPatterns.install-out.txt --library=/home/biocbuild/bbs-3.19-bioc/R/site-library --timings MutationalPatterns_3.14.0.tar.gz
###
##############################################################################
##############################################################################
* using log directory ‘/home/biocbuild/bbs-3.19-bioc/meat/MutationalPatterns.Rcheck’
* using R version 4.4.1 (2024-06-14)
* using platform: x86_64-pc-linux-gnu
* R was compiled by
gcc (Ubuntu 11.4.0-1ubuntu1~22.04) 11.4.0
GNU Fortran (Ubuntu 11.4.0-1ubuntu1~22.04) 11.4.0
* running under: Ubuntu 22.04.5 LTS
* using session charset: UTF-8
* checking for file ‘MutationalPatterns/DESCRIPTION’ ... OK
* checking extension type ... Package
* this is package ‘MutationalPatterns’ version ‘3.14.0’
* package encoding: UTF-8
* checking package namespace information ... OK
* checking package dependencies ... OK
* checking if this is a source package ... OK
* checking if there is a namespace ... OK
* checking for hidden files and directories ... OK
* checking for portable file names ... OK
* checking for sufficient/correct file permissions ... OK
* checking whether package ‘MutationalPatterns’ can be installed ... OK
* checking installed package size ... OK
* checking package directory ... OK
* checking ‘build’ directory ... OK
* checking DESCRIPTION meta-information ... NOTE
License stub is invalid DCF.
* checking top-level files ... OK
* checking for left-over files ... OK
* checking index information ... OK
* checking package subdirectories ... OK
* checking code files for non-ASCII characters ... OK
* checking R files for syntax errors ... OK
* checking whether the package can be loaded ... OK
* checking whether the package can be loaded with stated dependencies ... OK
* checking whether the package can be unloaded cleanly ... OK
* checking whether the namespace can be loaded with stated dependencies ... OK
* checking whether the namespace can be unloaded cleanly ... OK
* checking loading without being on the library search path ... OK
* checking dependencies in R code ... OK
* checking S3 generic/method consistency ... OK
* checking replacement functions ... OK
* checking foreign function calls ... OK
* checking R code for possible problems ... OK
* checking Rd files ... OK
* checking Rd metadata ... OK
* checking Rd cross-references ... OK
* checking for missing documentation entries ... OK
* checking for code/documentation mismatches ... OK
* checking Rd \usage sections ... OK
* checking Rd contents ... OK
* checking for unstated dependencies in examples ... OK
* checking files in ‘vignettes’ ... OK
* checking examples ... OK
Examples with CPU (user + system) or elapsed time > 5s
user system elapsed
context_potential_damage_analysis 21.782 0.652 22.435
read_vcfs_as_granges 19.549 1.888 28.981
plot_lesion_segregation 12.772 0.039 12.812
get_mut_type 10.371 0.064 10.436
genomic_distribution 9.654 0.284 9.942
calculate_lesion_segregation 9.558 0.344 9.902
bin_mutation_density 9.091 0.568 9.660
plot_compare_indels 7.641 0.016 7.657
plot_indel_contexts 6.874 0.008 6.882
get_indel_context 5.997 0.844 6.841
* checking for unstated dependencies in ‘tests’ ... OK
* checking tests ...
Running ‘testthat.R’
OK
* checking for unstated dependencies in vignettes ... OK
* checking package vignettes ... OK
* checking re-building of vignette outputs ... OK
* checking PDF version of manual ... OK
* DONE
Status: 1 NOTE
See
‘/home/biocbuild/bbs-3.19-bioc/meat/MutationalPatterns.Rcheck/00check.log’
for details.
MutationalPatterns.Rcheck/00install.out
############################################################################## ############################################################################## ### ### Running command: ### ### /home/biocbuild/bbs-3.19-bioc/R/bin/R CMD INSTALL MutationalPatterns ### ############################################################################## ############################################################################## * installing to library ‘/home/biocbuild/bbs-3.19-bioc/R/site-library’ * installing *source* package ‘MutationalPatterns’ ... ** using staged installation ** R ** inst ** byte-compile and prepare package for lazy loading ** help *** installing help indices ** building package indices ** installing vignettes ** testing if installed package can be loaded from temporary location ** testing if installed package can be loaded from final location ** testing if installed package keeps a record of temporary installation path * DONE (MutationalPatterns)
MutationalPatterns.Rcheck/tests/testthat.Rout
R version 4.4.1 (2024-06-14) -- "Race for Your Life"
Copyright (C) 2024 The R Foundation for Statistical Computing
Platform: x86_64-pc-linux-gnu
R is free software and comes with ABSOLUTELY NO WARRANTY.
You are welcome to redistribute it under certain conditions.
Type 'license()' or 'licence()' for distribution details.
R is a collaborative project with many contributors.
Type 'contributors()' for more information and
'citation()' on how to cite R or R packages in publications.
Type 'demo()' for some demos, 'help()' for on-line help, or
'help.start()' for an HTML browser interface to help.
Type 'q()' to quit R.
> library(testthat)
> library(MutationalPatterns)
Loading required package: GenomicRanges
Loading required package: stats4
Loading required package: BiocGenerics
Attaching package: 'BiocGenerics'
The following objects are masked from 'package:stats':
IQR, mad, sd, var, xtabs
The following objects are masked from 'package:base':
Filter, Find, Map, Position, Reduce, anyDuplicated, aperm, append,
as.data.frame, basename, cbind, colnames, dirname, do.call,
duplicated, eval, evalq, get, grep, grepl, intersect, is.unsorted,
lapply, mapply, match, mget, order, paste, pmax, pmax.int, pmin,
pmin.int, rank, rbind, rownames, sapply, setdiff, table, tapply,
union, unique, unsplit, which.max, which.min
Loading required package: S4Vectors
Attaching package: 'S4Vectors'
The following object is masked from 'package:utils':
findMatches
The following objects are masked from 'package:base':
I, expand.grid, unname
Loading required package: IRanges
Loading required package: GenomeInfoDb
Loading required package: NMF
Loading required package: registry
Loading required package: rngtools
Loading required package: cluster
NMF - BioConductor layer [OK] | Shared memory capabilities [NO: bigmemory] | Cores 2/2
To enable shared memory capabilities, try: install.extras('
NMF
')
Attaching package: 'NMF'
The following object is masked from 'package:S4Vectors':
nrun
The following object is masked from 'package:testthat':
compare
>
> test_check("MutationalPatterns")
[ FAIL 0 | WARN 5 | SKIP 0 | PASS 474 ]
[ FAIL 0 | WARN 5 | SKIP 0 | PASS 474 ]
>
> proc.time()
user system elapsed
185.813 8.146 212.090
MutationalPatterns.Rcheck/MutationalPatterns-Ex.timings
| name | user | system | elapsed | |
| bin_mutation_density | 9.091 | 0.568 | 9.660 | |
| binomial_test | 0.011 | 0.000 | 0.011 | |
| calculate_lesion_segregation | 9.558 | 0.344 | 9.902 | |
| cluster_signatures | 0.042 | 0.000 | 0.043 | |
| context_potential_damage_analysis | 21.782 | 0.652 | 22.435 | |
| convert_sigs_to_ref | 0.036 | 0.000 | 0.037 | |
| cos_sim | 0.000 | 0.000 | 0.001 | |
| cos_sim_matrix | 0.017 | 0.004 | 0.021 | |
| count_dbs_contexts | 0.073 | 0.008 | 0.081 | |
| count_indel_contexts | 0.114 | 0.000 | 0.114 | |
| count_mbs_contexts | 0.057 | 0.008 | 0.064 | |
| determine_regional_similarity | 2.641 | 0.396 | 3.037 | |
| enrichment_depletion_test | 0.134 | 0.000 | 0.134 | |
| extract_signatures | 0.001 | 0.001 | 0.001 | |
| fit_to_signatures | 0.081 | 0.014 | 0.096 | |
| fit_to_signatures_bootstrapped | 4.799 | 0.048 | 4.847 | |
| fit_to_signatures_strict | 2.787 | 0.020 | 2.808 | |
| genomic_distribution | 9.654 | 0.284 | 9.942 | |
| get_dbs_context | 0.218 | 0.008 | 0.226 | |
| get_indel_context | 5.997 | 0.844 | 6.841 | |
| get_known_signatures | 0.242 | 0.452 | 0.697 | |
| get_mut_type | 10.371 | 0.064 | 10.436 | |
| lengthen_mut_matrix | 0.007 | 0.011 | 0.018 | |
| merge_signatures | 1.036 | 0.101 | 1.136 | |
| mut_context | 1.010 | 0.184 | 1.195 | |
| mut_matrix | 1.712 | 0.248 | 1.960 | |
| mut_matrix_stranded | 3.919 | 0.416 | 4.334 | |
| mut_strand | 0.985 | 0.024 | 1.008 | |
| mut_type | 0.028 | 0.000 | 0.028 | |
| mut_type_occurrences | 0.822 | 0.140 | 0.962 | |
| mutations_from_vcf | 0.025 | 0.000 | 0.026 | |
| plot_192_profile | 2.983 | 0.020 | 3.004 | |
| plot_96_profile | 2.325 | 0.008 | 2.334 | |
| plot_bootstrapped_contribution | 1.819 | 0.000 | 1.819 | |
| plot_compare_dbs | 4.940 | 0.012 | 4.952 | |
| plot_compare_indels | 7.641 | 0.016 | 7.657 | |
| plot_compare_mbs | 0.850 | 0.031 | 0.882 | |
| plot_compare_profiles | 2.057 | 0.000 | 2.058 | |
| plot_contribution | 1.586 | 0.008 | 1.594 | |
| plot_contribution_heatmap | 1.429 | 0.004 | 1.432 | |
| plot_correlation_bootstrap | 0.476 | 0.011 | 0.487 | |
| plot_cosine_heatmap | 1.725 | 0.036 | 1.760 | |
| plot_dbs_contexts | 4.410 | 0.187 | 4.599 | |
| plot_enrichment_depletion | 2.997 | 0.041 | 3.037 | |
| plot_indel_contexts | 6.874 | 0.008 | 6.882 | |
| plot_lesion_segregation | 12.772 | 0.039 | 12.812 | |
| plot_main_dbs_contexts | 0.485 | 0.003 | 0.489 | |
| plot_main_indel_contexts | 0.719 | 0.008 | 0.726 | |
| plot_mbs_contexts | 0.459 | 0.005 | 0.463 | |
| plot_original_vs_reconstructed | 0.452 | 0.003 | 0.456 | |
| plot_profile_heatmap | 4.771 | 0.052 | 4.823 | |
| plot_profile_region | 1.036 | 0.000 | 1.036 | |
| plot_rainfall | 1.576 | 0.032 | 1.608 | |
| plot_regional_similarity | 1.326 | 0.001 | 1.327 | |
| plot_river | 4.876 | 0.000 | 4.876 | |
| plot_signature_strand_bias | 0.680 | 0.004 | 0.684 | |
| plot_spectrum | 4.053 | 0.315 | 4.379 | |
| plot_spectrum_region | 4.071 | 0.144 | 4.216 | |
| plot_strand | 0.184 | 0.012 | 0.196 | |
| plot_strand_bias | 0.741 | 0.026 | 0.767 | |
| pool_mut_mat | 0.031 | 0.004 | 0.035 | |
| read_vcfs_as_granges | 19.549 | 1.888 | 28.981 | |
| rename_nmf_signatures | 0.038 | 0.024 | 0.061 | |
| signature_potential_damage_analysis | 0.076 | 0.012 | 0.088 | |
| split_muts_region | 3.984 | 0.320 | 4.304 | |
| strand_bias_test | 0.108 | 0.004 | 0.112 | |
| strand_occurrences | 0.147 | 0.016 | 0.163 | |
| type_context | 1.165 | 0.276 | 1.441 | |