| Back to Multiple platform build/check report for BioC 3.19: simplified long |
|
This page was generated on 2024-10-18 20:38 -0400 (Fri, 18 Oct 2024).
| Hostname | OS | Arch (*) | R version | Installed pkgs |
|---|---|---|---|---|
| nebbiolo1 | Linux (Ubuntu 22.04.3 LTS) | x86_64 | 4.4.1 (2024-06-14) -- "Race for Your Life" | 4763 |
| palomino7 | Windows Server 2022 Datacenter | x64 | 4.4.1 (2024-06-14 ucrt) -- "Race for Your Life" | 4500 |
| merida1 | macOS 12.7.5 Monterey | x86_64 | 4.4.1 (2024-06-14) -- "Race for Your Life" | 4530 |
| kjohnson1 | macOS 13.6.6 Ventura | arm64 | 4.4.1 (2024-06-14) -- "Race for Your Life" | 4480 |
| Click on any hostname to see more info about the system (e.g. compilers) (*) as reported by 'uname -p', except on Windows and Mac OS X | ||||
| Package 1154/2300 | Hostname | OS / Arch | INSTALL | BUILD | CHECK | BUILD BIN | ||||||||
| MANOR 1.76.0 (landing page) Pierre Neuvial
| nebbiolo1 | Linux (Ubuntu 22.04.3 LTS) / x86_64 | OK | OK | WARNINGS | |||||||||
| palomino7 | Windows Server 2022 Datacenter / x64 | OK | OK | WARNINGS | OK | |||||||||
| merida1 | macOS 12.7.5 Monterey / x86_64 | OK | OK | WARNINGS | OK | |||||||||
| kjohnson1 | macOS 13.6.6 Ventura / arm64 | OK | OK | WARNINGS | OK | |||||||||
|
To the developers/maintainers of the MANOR package: - Allow up to 24 hours (and sometimes 48 hours) for your latest push to git@git.bioconductor.org:packages/MANOR.git to reflect on this report. See Troubleshooting Build Report for more information. - Use the following Renviron settings to reproduce errors and warnings. - If 'R CMD check' started to fail recently on the Linux builder(s) over a missing dependency, add the missing dependency to 'Suggests:' in your DESCRIPTION file. See Renviron.bioc for more information. |
| Package: MANOR |
| Version: 1.76.0 |
| Command: /home/biocbuild/bbs-3.19-bioc/R/bin/R CMD INSTALL MANOR |
| StartedAt: 2024-10-16 15:50:30 -0400 (Wed, 16 Oct 2024) |
| EndedAt: 2024-10-16 15:50:51 -0400 (Wed, 16 Oct 2024) |
| EllapsedTime: 21.2 seconds |
| RetCode: 0 |
| Status: OK |
##############################################################################
##############################################################################
###
### Running command:
###
### /home/biocbuild/bbs-3.19-bioc/R/bin/R CMD INSTALL MANOR
###
##############################################################################
##############################################################################
* installing to library ‘/home/biocbuild/bbs-3.19-bioc/R/site-library’
* installing *source* package ‘MANOR’ ...
** using staged installation
** libs
using C compiler: ‘gcc (Ubuntu 11.4.0-1ubuntu1~22.04) 11.4.0’
gcc -I"/home/biocbuild/bbs-3.19-bioc/R/include" -DNDEBUG -I/usr/local/include -fpic -g -O2 -Wall -c Rnem_arg.c -o Rnem_arg.o
gcc -I"/home/biocbuild/bbs-3.19-bioc/R/include" -DNDEBUG -I/usr/local/include -fpic -g -O2 -Wall -c Rnem_exe.c -o Rnem_exe.o
gcc -I"/home/biocbuild/bbs-3.19-bioc/R/include" -DNDEBUG -I/usr/local/include -fpic -g -O2 -Wall -c exememo.c -o exememo.o
exememo.c: In function ‘GenAlloc’:
exememo.c:43:7: warning: format not a string literal and no format arguments [-Wformat-security]
43 | error(msg);
| ^~~~~
In file included from /home/biocbuild/bbs-3.19-bioc/R/include/R.h:73,
from exememo.c:20:
/home/biocbuild/bbs-3.19-bioc/R/include/R_ext/Error.h:68:15: warning: ‘msg’ may be used uninitialized [-Wmaybe-uninitialized]
68 | #define error Rf_error
| ^~~~~~~~
exememo.c:39:11: note: ‘msg’ was declared here
39 | char* msg;
| ^~~
gcc -I"/home/biocbuild/bbs-3.19-bioc/R/include" -DNDEBUG -I/usr/local/include -fpic -g -O2 -Wall -c nem_alg.c -o nem_alg.o
In file included from /usr/include/string.h:535,
from nem_alg.c:72:
In function ‘strncpy’,
inlined from ‘ClassifyByNemHeuBeta’ at nem_alg.c:801:7,
inlined from ‘ClassifyByNem’ at nem_alg.c:578:13:
/usr/include/x86_64-linux-gnu/bits/string_fortified.h:95:10: warning: ‘__builtin_strncpy’ output may be truncated copying 100 bytes from a string of length 100 [-Wstringop-truncation]
95 | return __builtin___strncpy_chk (__dest, __src, __len,
| ^~~~~~~~~~~~~~~~~~~~~~~~~~~~~~~~~~~~~~~~~~~~~~
96 | __glibc_objsize (__dest));
| ~~~~~~~~~~~~~~~~~~~~~~~~~
gcc -I"/home/biocbuild/bbs-3.19-bioc/R/include" -DNDEBUG -I/usr/local/include -fpic -g -O2 -Wall -c nem_hlp.c -o nem_hlp.o
gcc -I"/home/biocbuild/bbs-3.19-bioc/R/include" -DNDEBUG -I/usr/local/include -fpic -g -O2 -Wall -c nem_mod.c -o nem_mod.o
gcc -I"/home/biocbuild/bbs-3.19-bioc/R/include" -DNDEBUG -I/usr/local/include -fpic -g -O2 -Wall -c nem_nei.c -o nem_nei.o
gcc -I"/home/biocbuild/bbs-3.19-bioc/R/include" -DNDEBUG -I/usr/local/include -fpic -g -O2 -Wall -c nem_rnd.c -o nem_rnd.o
gcc -I"/home/biocbuild/bbs-3.19-bioc/R/include" -DNDEBUG -I/usr/local/include -fpic -g -O2 -Wall -c nem_ver.c -o nem_ver.o
gcc -I"/home/biocbuild/bbs-3.19-bioc/R/include" -DNDEBUG -I/usr/local/include -fpic -g -O2 -Wall -c registerDynamicSymbols.c -o registerDynamicSymbols.o
gcc -shared -L/home/biocbuild/bbs-3.19-bioc/R/lib -L/usr/local/lib -o MANOR.so Rnem_arg.o Rnem_exe.o exememo.o nem_alg.o nem_hlp.o nem_mod.o nem_nei.o nem_rnd.o nem_ver.o registerDynamicSymbols.o -L/home/biocbuild/bbs-3.19-bioc/R/lib -lR
installing to /home/biocbuild/bbs-3.19-bioc/R/site-library/00LOCK-MANOR/00new/MANOR/libs
** R
** data
** inst
** byte-compile and prepare package for lazy loading
** help
*** installing help indices
** building package indices
** installing vignettes
** testing if installed package can be loaded from temporary location
** checking absolute paths in shared objects and dynamic libraries
** testing if installed package can be loaded from final location
** testing if installed package keeps a record of temporary installation path
* DONE (MANOR)