| Back to Multiple platform build/check report for BioC 3.19: simplified long |
|
This page was generated on 2024-05-09 11:41:02 -0400 (Thu, 09 May 2024).
| Hostname | OS | Arch (*) | R version | Installed pkgs |
|---|---|---|---|---|
| nebbiolo1 | Linux (Ubuntu 22.04.3 LTS) | x86_64 | 4.4.0 (2024-04-24) -- "Puppy Cup" | 4748 |
| palomino3 | Windows Server 2022 Datacenter | x64 | 4.4.0 (2024-04-24 ucrt) -- "Puppy Cup" | 4484 |
| lconway | macOS 12.7.1 Monterey | x86_64 | 4.4.0 (2024-04-24) -- "Puppy Cup" | 4514 |
| kunpeng2 | Linux (openEuler 22.03 LTS-SP1) | aarch64 | 4.4.0 beta (2024-04-15 r86425) -- "Puppy Cup" | 4480 |
| Click on any hostname to see more info about the system (e.g. compilers) (*) as reported by 'uname -p', except on Windows and Mac OS X | ||||
| Package 1147/2300 | Hostname | OS / Arch | INSTALL | BUILD | CHECK | BUILD BIN | ||||||||
| MAGeCKFlute 2.8.0 (landing page) Wubing Zhang
| nebbiolo1 | Linux (Ubuntu 22.04.3 LTS) / x86_64 | OK | OK | OK | |||||||||
| palomino3 | Windows Server 2022 Datacenter / x64 | OK | OK | OK | OK | |||||||||
| lconway | macOS 12.7.1 Monterey / x86_64 | OK | OK | OK | OK | |||||||||
| kunpeng2 | Linux (openEuler 22.03 LTS-SP1) / aarch64 | OK | OK | OK | ||||||||||
| kjohnson3 | macOS 13.6.5 Ventura / arm64 | see weekly results here | ||||||||||||
|
To the developers/maintainers of the MAGeCKFlute package: - Allow up to 24 hours (and sometimes 48 hours) for your latest push to git@git.bioconductor.org:packages/MAGeCKFlute.git to reflect on this report. See Troubleshooting Build Report for more information. - Use the following Renviron settings to reproduce errors and warnings. - If 'R CMD check' started to fail recently on the Linux builder(s) over a missing dependency, add the missing dependency to 'Suggests:' in your DESCRIPTION file. See Renviron.bioc for more information. - See Martin Grigorov's blog post for how to debug Linux ARM64 related issues on a x86_64 host. |
| Package: MAGeCKFlute |
| Version: 2.8.0 |
| Command: /home/biocbuild/R/R-beta-2024-04-15_r86425/bin/R CMD check --install=check:MAGeCKFlute.install-out.txt --library=/home/biocbuild/R/R-beta-2024-04-15_r86425/site-library --no-vignettes --timings MAGeCKFlute_2.8.0.tar.gz |
| StartedAt: 2024-05-09 08:57:57 -0000 (Thu, 09 May 2024) |
| EndedAt: 2024-05-09 09:02:54 -0000 (Thu, 09 May 2024) |
| EllapsedTime: 297.6 seconds |
| RetCode: 0 |
| Status: OK |
| CheckDir: MAGeCKFlute.Rcheck |
| Warnings: 0 |
##############################################################################
##############################################################################
###
### Running command:
###
### /home/biocbuild/R/R-beta-2024-04-15_r86425/bin/R CMD check --install=check:MAGeCKFlute.install-out.txt --library=/home/biocbuild/R/R-beta-2024-04-15_r86425/site-library --no-vignettes --timings MAGeCKFlute_2.8.0.tar.gz
###
##############################################################################
##############################################################################
* using log directory ‘/home/biocbuild/bbs-3.19-bioc/meat/MAGeCKFlute.Rcheck’
* using R version 4.4.0 beta (2024-04-15 r86425)
* using platform: aarch64-unknown-linux-gnu
* R was compiled by
gcc (GCC) 10.3.1
GNU Fortran (GCC) 10.3.1
* running under: openEuler 22.03 (LTS-SP1)
* using session charset: UTF-8
* using option ‘--no-vignettes’
* checking for file ‘MAGeCKFlute/DESCRIPTION’ ... OK
* checking extension type ... Package
* this is package ‘MAGeCKFlute’ version ‘2.8.0’
* package encoding: UTF-8
* checking package namespace information ... OK
* checking package dependencies ... OK
* checking if this is a source package ... OK
* checking if there is a namespace ... OK
* checking for hidden files and directories ... OK
* checking for portable file names ... OK
* checking for sufficient/correct file permissions ... OK
* checking whether package ‘MAGeCKFlute’ can be installed ... OK
* checking installed package size ... NOTE
installed size is 20.7Mb
sub-directories of 1Mb or more:
extdata 20.3Mb
* checking package directory ... OK
* checking ‘build’ directory ... OK
* checking DESCRIPTION meta-information ... OK
* checking top-level files ... OK
* checking for left-over files ... OK
* checking index information ... OK
* checking package subdirectories ... OK
* checking code files for non-ASCII characters ... OK
* checking R files for syntax errors ... OK
* checking whether the package can be loaded ... OK
* checking whether the package can be loaded with stated dependencies ... OK
* checking whether the package can be unloaded cleanly ... OK
* checking whether the namespace can be loaded with stated dependencies ... OK
* checking whether the namespace can be unloaded cleanly ... OK
* checking loading without being on the library search path ... OK
* checking dependencies in R code ... OK
* checking S3 generic/method consistency ... OK
* checking replacement functions ... OK
* checking foreign function calls ... OK
* checking R code for possible problems ... NOTE
EnrichedFilter: no visible global function definition for ‘is’
EnrichedGeneView: no visible global function definition for ‘is’
EnrichedView: no visible global function definition for ‘is’
EnrichedView: no visible global function definition for ‘slot’
enrich.HGT: no visible global function definition for ‘new’
Undefined global functions or variables:
is new slot
Consider adding
importFrom("methods", "is", "new", "slot")
to your NAMESPACE file (and ensure that your DESCRIPTION Imports field
contains 'methods').
* checking Rd files ... NOTE
checkRd: (-1) FluteMLE.Rd:87: Lost braces; missing escapes or markup?
87 | \item {QC}: {Quality control}
| ^
checkRd: (-1) FluteMLE.Rd:88: Lost braces; missing escapes or markup?
88 | \item {Selection}: {Positive selection and negative selection.}
| ^
checkRd: (-1) FluteMLE.Rd:89: Lost braces; missing escapes or markup?
89 | \item {Enrichment}: {Enrichment analysis for positive and negative selection genes.}
| ^
checkRd: (-1) FluteMLE.Rd:90: Lost braces; missing escapes or markup?
90 | \item {PathwayView}: {Pathway view for top enriched pathways.}
| ^
checkRd: (-1) getOrg.Rd:18: Lost braces
18 | \code{pkg}{annotation package name}
| ^
* checking Rd metadata ... OK
* checking Rd cross-references ... OK
* checking for missing documentation entries ... OK
* checking for code/documentation mismatches ... OK
* checking Rd \usage sections ... OK
* checking Rd contents ... OK
* checking for unstated dependencies in examples ... OK
* checking files in ‘vignettes’ ... OK
* checking examples ... OK
Examples with CPU (user + system) or elapsed time > 5s
user system elapsed
MAView 4.793 0.411 5.212
* checking for unstated dependencies in vignettes ... OK
* checking package vignettes ... OK
* checking running R code from vignettes ... SKIPPED
* checking re-building of vignette outputs ... SKIPPED
* checking PDF version of manual ... OK
* DONE
Status: 3 NOTEs
See
‘/home/biocbuild/bbs-3.19-bioc/meat/MAGeCKFlute.Rcheck/00check.log’
for details.
MAGeCKFlute.Rcheck/00install.out
############################################################################## ############################################################################## ### ### Running command: ### ### /home/biocbuild/R/R-beta-2024-04-15_r86425/bin/R CMD INSTALL MAGeCKFlute ### ############################################################################## ############################################################################## * installing to library ‘/home/biocbuild/R/R-beta-2024-04-15_r86425/site-library’ * installing *source* package ‘MAGeCKFlute’ ... ** using staged installation ** R ** inst ** byte-compile and prepare package for lazy loading ** help *** installing help indices ** building package indices ** installing vignettes ** testing if installed package can be loaded from temporary location ** testing if installed package can be loaded from final location ** testing if installed package keeps a record of temporary installation path * DONE (MAGeCKFlute)
MAGeCKFlute.Rcheck/MAGeCKFlute-Ex.timings
| name | user | system | elapsed | |
| BarView | 0.279 | 0.004 | 0.284 | |
| BatchRemove | 4.336 | 0.172 | 4.517 | |
| ConsistencyView | 1.247 | 0.052 | 1.303 | |
| CutoffCalling | 0.004 | 0.000 | 0.004 | |
| DensityDiffView | 1.156 | 0.020 | 1.178 | |
| DensityView | 1.229 | 0.056 | 1.287 | |
| EnrichAnalyzer | 0.013 | 0.000 | 0.014 | |
| EnrichedFilter | 0.008 | 0.008 | 0.017 | |
| EnrichedGeneView | 0.014 | 0.000 | 0.013 | |
| EnrichedView | 0.012 | 0.000 | 0.012 | |
| FluteMLE | 0.001 | 0.000 | 0.001 | |
| FluteRRA | 0.002 | 0.000 | 0.002 | |
| HeatmapView | 0.516 | 0.008 | 0.525 | |
| IdentBarView | 0.178 | 0.020 | 0.199 | |
| IncorporateDepmap | 0.308 | 0.004 | 0.313 | |
| MAView | 4.793 | 0.411 | 5.212 | |
| MapRatesView | 0.446 | 0.024 | 0.470 | |
| NormalizeBeta | 0.977 | 0.032 | 1.010 | |
| OmitCommonEssential | 0 | 0 | 0 | |
| RankView | 0.912 | 0.024 | 0.937 | |
| ReadBeta | 0.479 | 0.004 | 0.483 | |
| ReadRRA | 0.303 | 0.000 | 0.304 | |
| ReadsgRRA | 0.017 | 0.000 | 0.018 | |
| ResembleDepmap | 0.252 | 0.000 | 0.253 | |
| ScatterView | 3.646 | 0.047 | 3.699 | |
| Selector | 0.526 | 0.032 | 0.559 | |
| SquareView | 1.499 | 0.019 | 1.521 | |
| TransGeneID | 1.927 | 0.032 | 1.965 | |
| ViolinView | 1.630 | 0.016 | 1.650 | |
| VolcanoView | 1.995 | 0.004 | 2.002 | |
| arrangePathview | 0.524 | 0.008 | 0.532 | |
| enrich.GSE | 0.011 | 0.000 | 0.011 | |
| enrich.HGT | 2.809 | 0.071 | 2.888 | |
| enrich.ORT | 4.932 | 0.036 | 4.979 | |
| getCols | 0.007 | 0.000 | 0.007 | |
| getGeneAnn | 0 | 0 | 0 | |
| getOrg | 0.001 | 0.000 | 0.000 | |
| getOrtAnn | 0 | 0 | 0 | |
| gsGetter | 0.404 | 0.006 | 0.411 | |
| hclustView | 0.387 | 0.006 | 0.394 | |
| loadDepmap | 0 | 0 | 0 | |
| normalize.loess | 1.256 | 0.004 | 1.263 | |
| sgRankView | 0.234 | 0.004 | 0.238 | |
| writeGMT | 0.031 | 0.000 | 0.031 | |