| Back to Multiple platform build/check report for BioC 3.19: simplified long |
|
This page was generated on 2024-06-11 14:42 -0400 (Tue, 11 Jun 2024).
| Hostname | OS | Arch (*) | R version | Installed pkgs |
|---|---|---|---|---|
| nebbiolo1 | Linux (Ubuntu 22.04.3 LTS) | x86_64 | 4.4.0 (2024-04-24) -- "Puppy Cup" | 4757 |
| palomino3 | Windows Server 2022 Datacenter | x64 | 4.4.0 (2024-04-24 ucrt) -- "Puppy Cup" | 4491 |
| lconway | macOS 12.7.1 Monterey | x86_64 | 4.4.0 (2024-04-24) -- "Puppy Cup" | 4522 |
| kjohnson3 | macOS 13.6.5 Ventura | arm64 | 4.4.0 (2024-04-24) -- "Puppy Cup" | 4468 |
| Click on any hostname to see more info about the system (e.g. compilers) (*) as reported by 'uname -p', except on Windows and Mac OS X | ||||
| Package 1147/2300 | Hostname | OS / Arch | INSTALL | BUILD | CHECK | BUILD BIN | ||||||||
| MAGeCKFlute 2.8.0 (landing page) Wubing Zhang
| nebbiolo1 | Linux (Ubuntu 22.04.3 LTS) / x86_64 | OK | OK | OK | |||||||||
| palomino3 | Windows Server 2022 Datacenter / x64 | OK | OK | OK | OK | |||||||||
| lconway | macOS 12.7.1 Monterey / x86_64 | OK | OK | OK | OK | |||||||||
| kjohnson3 | macOS 13.6.5 Ventura / arm64 | OK | OK | OK | OK | |||||||||
|
To the developers/maintainers of the MAGeCKFlute package: - Allow up to 24 hours (and sometimes 48 hours) for your latest push to git@git.bioconductor.org:packages/MAGeCKFlute.git to reflect on this report. See Troubleshooting Build Report for more information. - Use the following Renviron settings to reproduce errors and warnings. - If 'R CMD check' started to fail recently on the Linux builder(s) over a missing dependency, add the missing dependency to 'Suggests:' in your DESCRIPTION file. See Renviron.bioc for more information. |
| Package: MAGeCKFlute |
| Version: 2.8.0 |
| Command: /Library/Frameworks/R.framework/Resources/bin/R CMD check --install=check:MAGeCKFlute.install-out.txt --library=/Library/Frameworks/R.framework/Resources/library --no-vignettes --timings MAGeCKFlute_2.8.0.tar.gz |
| StartedAt: 2024-06-09 21:15:11 -0400 (Sun, 09 Jun 2024) |
| EndedAt: 2024-06-09 21:19:24 -0400 (Sun, 09 Jun 2024) |
| EllapsedTime: 252.9 seconds |
| RetCode: 0 |
| Status: OK |
| CheckDir: MAGeCKFlute.Rcheck |
| Warnings: 0 |
##############################################################################
##############################################################################
###
### Running command:
###
### /Library/Frameworks/R.framework/Resources/bin/R CMD check --install=check:MAGeCKFlute.install-out.txt --library=/Library/Frameworks/R.framework/Resources/library --no-vignettes --timings MAGeCKFlute_2.8.0.tar.gz
###
##############################################################################
##############################################################################
* using log directory ‘/Users/biocbuild/bbs-3.19-bioc/meat/MAGeCKFlute.Rcheck’
* using R version 4.4.0 (2024-04-24)
* using platform: x86_64-apple-darwin20
* R was compiled by
Apple clang version 14.0.0 (clang-1400.0.29.202)
GNU Fortran (GCC) 12.2.0
* running under: macOS Monterey 12.7.1
* using session charset: UTF-8
* using option ‘--no-vignettes’
* checking for file ‘MAGeCKFlute/DESCRIPTION’ ... OK
* checking extension type ... Package
* this is package ‘MAGeCKFlute’ version ‘2.8.0’
* package encoding: UTF-8
* checking package namespace information ... OK
* checking package dependencies ... OK
* checking if this is a source package ... OK
* checking if there is a namespace ... OK
* checking for hidden files and directories ... OK
* checking for portable file names ... OK
* checking for sufficient/correct file permissions ... OK
* checking whether package ‘MAGeCKFlute’ can be installed ... OK
* checking installed package size ... NOTE
installed size is 20.7Mb
sub-directories of 1Mb or more:
extdata 20.3Mb
* checking package directory ... OK
* checking ‘build’ directory ... OK
* checking DESCRIPTION meta-information ... OK
* checking top-level files ... OK
* checking for left-over files ... OK
* checking index information ... OK
* checking package subdirectories ... OK
* checking code files for non-ASCII characters ... OK
* checking R files for syntax errors ... OK
* checking whether the package can be loaded ... OK
* checking whether the package can be loaded with stated dependencies ... OK
* checking whether the package can be unloaded cleanly ... OK
* checking whether the namespace can be loaded with stated dependencies ... OK
* checking whether the namespace can be unloaded cleanly ... OK
* checking dependencies in R code ... OK
* checking S3 generic/method consistency ... OK
* checking replacement functions ... OK
* checking foreign function calls ... OK
* checking R code for possible problems ... NOTE
EnrichedFilter: no visible global function definition for ‘is’
EnrichedGeneView: no visible global function definition for ‘is’
EnrichedView: no visible global function definition for ‘is’
EnrichedView: no visible global function definition for ‘slot’
enrich.HGT: no visible global function definition for ‘new’
Undefined global functions or variables:
is new slot
Consider adding
importFrom("methods", "is", "new", "slot")
to your NAMESPACE file (and ensure that your DESCRIPTION Imports field
contains 'methods').
* checking Rd files ... NOTE
checkRd: (-1) FluteMLE.Rd:87: Lost braces; missing escapes or markup?
87 | \item {QC}: {Quality control}
| ^
checkRd: (-1) FluteMLE.Rd:88: Lost braces; missing escapes or markup?
88 | \item {Selection}: {Positive selection and negative selection.}
| ^
checkRd: (-1) FluteMLE.Rd:89: Lost braces; missing escapes or markup?
89 | \item {Enrichment}: {Enrichment analysis for positive and negative selection genes.}
| ^
checkRd: (-1) FluteMLE.Rd:90: Lost braces; missing escapes or markup?
90 | \item {PathwayView}: {Pathway view for top enriched pathways.}
| ^
checkRd: (-1) getOrg.Rd:18: Lost braces
18 | \code{pkg}{annotation package name}
| ^
* checking Rd metadata ... OK
* checking Rd cross-references ... OK
* checking for missing documentation entries ... OK
* checking for code/documentation mismatches ... OK
* checking Rd \usage sections ... OK
* checking Rd contents ... OK
* checking for unstated dependencies in examples ... OK
* checking files in ‘vignettes’ ... OK
* checking examples ... OK
Examples with CPU (user + system) or elapsed time > 5s
user system elapsed
MAView 9.261 0.284 9.566
* checking for unstated dependencies in vignettes ... OK
* checking package vignettes ... OK
* checking running R code from vignettes ... SKIPPED
* checking re-building of vignette outputs ... SKIPPED
* checking PDF version of manual ... OK
* DONE
Status: 3 NOTEs
See
‘/Users/biocbuild/bbs-3.19-bioc/meat/MAGeCKFlute.Rcheck/00check.log’
for details.
MAGeCKFlute.Rcheck/00install.out
############################################################################## ############################################################################## ### ### Running command: ### ### /Library/Frameworks/R.framework/Resources/bin/R CMD INSTALL MAGeCKFlute ### ############################################################################## ############################################################################## * installing to library ‘/Library/Frameworks/R.framework/Versions/4.4-x86_64/Resources/library’ * installing *source* package ‘MAGeCKFlute’ ... ** using staged installation ** R ** inst ** byte-compile and prepare package for lazy loading ** help *** installing help indices ** building package indices ** installing vignettes ** testing if installed package can be loaded from temporary location ** testing if installed package can be loaded from final location ** testing if installed package keeps a record of temporary installation path * DONE (MAGeCKFlute)
MAGeCKFlute.Rcheck/MAGeCKFlute-Ex.timings
| name | user | system | elapsed | |
| BarView | 0.186 | 0.012 | 0.199 | |
| BatchRemove | 3.514 | 0.112 | 3.634 | |
| ConsistencyView | 0.982 | 0.063 | 1.049 | |
| CutoffCalling | 0.003 | 0.001 | 0.005 | |
| DensityDiffView | 1.084 | 0.030 | 1.118 | |
| DensityView | 1.016 | 0.040 | 1.061 | |
| EnrichAnalyzer | 0.016 | 0.002 | 0.019 | |
| EnrichedFilter | 0.014 | 0.001 | 0.014 | |
| EnrichedGeneView | 0.012 | 0.001 | 0.014 | |
| EnrichedView | 0.011 | 0.001 | 0.013 | |
| FluteMLE | 0.001 | 0.000 | 0.002 | |
| FluteRRA | 0.002 | 0.001 | 0.003 | |
| HeatmapView | 0.383 | 0.009 | 0.394 | |
| IdentBarView | 0.157 | 0.002 | 0.160 | |
| IncorporateDepmap | 0.280 | 0.012 | 0.295 | |
| MAView | 9.261 | 0.284 | 9.566 | |
| MapRatesView | 0.486 | 0.007 | 0.495 | |
| NormalizeBeta | 0.872 | 0.024 | 0.899 | |
| OmitCommonEssential | 0 | 0 | 0 | |
| RankView | 0.648 | 0.039 | 0.688 | |
| ReadBeta | 0.394 | 0.006 | 0.401 | |
| ReadRRA | 0.262 | 0.011 | 0.274 | |
| ReadsgRRA | 0.014 | 0.001 | 0.016 | |
| ResembleDepmap | 0.215 | 0.003 | 0.219 | |
| ScatterView | 3.218 | 0.121 | 3.351 | |
| Selector | 0.588 | 0.010 | 0.600 | |
| SquareView | 1.044 | 0.039 | 1.087 | |
| TransGeneID | 2.467 | 0.031 | 2.504 | |
| ViolinView | 1.390 | 0.050 | 1.445 | |
| VolcanoView | 1.495 | 0.078 | 1.578 | |
| arrangePathview | 0.291 | 0.004 | 0.295 | |
| enrich.GSE | 0.010 | 0.001 | 0.011 | |
| enrich.HGT | 2.178 | 0.067 | 2.248 | |
| enrich.ORT | 4.497 | 0.151 | 4.656 | |
| getCols | 0.005 | 0.001 | 0.005 | |
| getGeneAnn | 0.000 | 0.000 | 0.001 | |
| getOrg | 0.001 | 0.000 | 0.001 | |
| getOrtAnn | 0 | 0 | 0 | |
| gsGetter | 0.331 | 0.009 | 0.341 | |
| hclustView | 0.472 | 0.016 | 0.489 | |
| loadDepmap | 0 | 0 | 0 | |
| normalize.loess | 1.812 | 0.047 | 1.864 | |
| sgRankView | 0.168 | 0.002 | 0.171 | |
| writeGMT | 0.023 | 0.001 | 0.024 | |