| Back to Multiple platform build/check report for BioC 3.19: simplified long |
|
This page was generated on 2024-06-11 14:43 -0400 (Tue, 11 Jun 2024).
| Hostname | OS | Arch (*) | R version | Installed pkgs |
|---|---|---|---|---|
| nebbiolo1 | Linux (Ubuntu 22.04.3 LTS) | x86_64 | 4.4.0 (2024-04-24) -- "Puppy Cup" | 4757 |
| palomino3 | Windows Server 2022 Datacenter | x64 | 4.4.0 (2024-04-24 ucrt) -- "Puppy Cup" | 4491 |
| lconway | macOS 12.7.1 Monterey | x86_64 | 4.4.0 (2024-04-24) -- "Puppy Cup" | 4522 |
| kjohnson3 | macOS 13.6.5 Ventura | arm64 | 4.4.0 (2024-04-24) -- "Puppy Cup" | 4468 |
| Click on any hostname to see more info about the system (e.g. compilers) (*) as reported by 'uname -p', except on Windows and Mac OS X | ||||
| Package 1040/2300 | Hostname | OS / Arch | INSTALL | BUILD | CHECK | BUILD BIN | ||||||||
| INSPEcT 1.34.0 (landing page) Stefano de Pretis
| nebbiolo1 | Linux (Ubuntu 22.04.3 LTS) / x86_64 | OK | OK | OK | |||||||||
| palomino3 | Windows Server 2022 Datacenter / x64 | OK | OK | OK | OK | |||||||||
| lconway | macOS 12.7.1 Monterey / x86_64 | OK | OK | OK | OK | |||||||||
| kjohnson3 | macOS 13.6.5 Ventura / arm64 | OK | OK | OK | OK | |||||||||
|
To the developers/maintainers of the INSPEcT package: - Allow up to 24 hours (and sometimes 48 hours) for your latest push to git@git.bioconductor.org:packages/INSPEcT.git to reflect on this report. See Troubleshooting Build Report for more information. - Use the following Renviron settings to reproduce errors and warnings. - If 'R CMD check' started to fail recently on the Linux builder(s) over a missing dependency, add the missing dependency to 'Suggests:' in your DESCRIPTION file. See Renviron.bioc for more information. |
| Package: INSPEcT |
| Version: 1.34.0 |
| Command: /Library/Frameworks/R.framework/Resources/bin/R CMD check --install=check:INSPEcT.install-out.txt --library=/Library/Frameworks/R.framework/Resources/library --no-vignettes --timings INSPEcT_1.34.0.tar.gz |
| StartedAt: 2024-06-10 19:15:48 -0400 (Mon, 10 Jun 2024) |
| EndedAt: 2024-06-10 19:36:24 -0400 (Mon, 10 Jun 2024) |
| EllapsedTime: 1236.8 seconds |
| RetCode: 0 |
| Status: OK |
| CheckDir: INSPEcT.Rcheck |
| Warnings: 0 |
##############################################################################
##############################################################################
###
### Running command:
###
### /Library/Frameworks/R.framework/Resources/bin/R CMD check --install=check:INSPEcT.install-out.txt --library=/Library/Frameworks/R.framework/Resources/library --no-vignettes --timings INSPEcT_1.34.0.tar.gz
###
##############################################################################
##############################################################################
* using log directory ‘/Users/biocbuild/bbs-3.19-bioc/meat/INSPEcT.Rcheck’
* using R version 4.4.0 (2024-04-24)
* using platform: aarch64-apple-darwin20
* R was compiled by
Apple clang version 14.0.0 (clang-1400.0.29.202)
GNU Fortran (GCC) 12.2.0
* running under: macOS Ventura 13.6.5
* using session charset: UTF-8
* using option ‘--no-vignettes’
* checking for file ‘INSPEcT/DESCRIPTION’ ... OK
* checking extension type ... Package
* this is package ‘INSPEcT’ version ‘1.34.0’
* checking package namespace information ... OK
* checking package dependencies ... OK
* checking if this is a source package ... OK
* checking if there is a namespace ... OK
* checking for hidden files and directories ... OK
* checking for portable file names ... OK
* checking for sufficient/correct file permissions ... OK
* checking whether package ‘INSPEcT’ can be installed ... OK
* checking installed package size ... NOTE
installed size is 7.1Mb
sub-directories of 1Mb or more:
R 1.8Mb
data 2.8Mb
* checking package directory ... OK
* checking ‘build’ directory ... OK
* checking DESCRIPTION meta-information ... OK
* checking top-level files ... OK
* checking for left-over files ... OK
* checking index information ... OK
* checking package subdirectories ... OK
* checking code files for non-ASCII characters ... OK
* checking R files for syntax errors ... OK
* checking whether the package can be loaded ... OK
* checking whether the package can be loaded with stated dependencies ... OK
* checking whether the package can be unloaded cleanly ... OK
* checking whether the namespace can be loaded with stated dependencies ... OK
* checking whether the namespace can be unloaded cleanly ... OK
* checking dependencies in R code ... OK
* checking S3 generic/method consistency ... OK
* checking replacement functions ... OK
* checking foreign function calls ... OK
* checking R code for possible problems ... NOTE
output_pars: no visible global function definition for ‘plot.new’
plotSingleRNADynamic: no visible global function definition for ‘lines’
Undefined global functions or variables:
lines plot.new
Consider adding
importFrom("graphics", "lines", "plot.new")
to your NAMESPACE file.
* checking Rd files ... OK
* checking Rd metadata ... OK
* checking Rd cross-references ... OK
* checking for missing documentation entries ... OK
* checking for code/documentation mismatches ... OK
* checking Rd \usage sections ... OK
* checking Rd contents ... OK
* checking for unstated dependencies in examples ... OK
* checking contents of ‘data’ directory ... OK
* checking data for non-ASCII characters ... OK
* checking data for ASCII and uncompressed saves ... OK
* checking files in ‘vignettes’ ... OK
* checking examples ... OK
Examples with CPU (user + system) or elapsed time > 5s
user system elapsed
makeSimDataset 82.018 0.656 131.901
quantifyExpressionsFromBAMs 39.499 4.521 65.102
INSPEcT_diffsteady-class 33.200 0.388 50.479
rocThresholds 26.510 0.247 40.835
makeSimModel 25.869 0.221 39.462
rocCurve 25.258 0.257 39.463
plotMA 25.299 0.213 36.956
compareSteady 24.672 0.214 36.645
quantifyExpressionsFromTrCounts 21.038 0.204 32.443
modelRates 17.146 0.114 23.606
processingDelay 15.550 0.149 23.944
newINSPEcT 14.230 0.112 21.607
compareSteadyNoNascent 6.302 0.063 9.606
makeOscillatorySimModel 5.975 0.067 8.884
inspectFromPCR 3.345 0.044 5.113
* checking for unstated dependencies in vignettes ... OK
* checking package vignettes ... OK
* checking running R code from vignettes ... SKIPPED
* checking re-building of vignette outputs ... SKIPPED
* checking PDF version of manual ... OK
* DONE
Status: 2 NOTEs
See
‘/Users/biocbuild/bbs-3.19-bioc/meat/INSPEcT.Rcheck/00check.log’
for details.
INSPEcT.Rcheck/00install.out
############################################################################## ############################################################################## ### ### Running command: ### ### /Library/Frameworks/R.framework/Resources/bin/R CMD INSTALL INSPEcT ### ############################################################################## ############################################################################## * installing to library ‘/Library/Frameworks/R.framework/Versions/4.4-arm64/Resources/library’ * installing *source* package ‘INSPEcT’ ... ** using staged installation ** R ** data ** inst ** byte-compile and prepare package for lazy loading ** help *** installing help indices ** building package indices ** installing vignettes ** testing if installed package can be loaded from temporary location ** testing if installed package can be loaded from final location ** testing if installed package keeps a record of temporary installation path * DONE (INSPEcT)
INSPEcT.Rcheck/INSPEcT-Ex.timings
| name | user | system | elapsed | |
| AIC-INSPEcT-method | 0.165 | 0.011 | 0.283 | |
| Extract | 0.391 | 0.020 | 0.615 | |
| INSPEcT_diffsteady-class | 33.200 | 0.388 | 50.479 | |
| calculateRatePvals | 0.205 | 0.008 | 0.318 | |
| chisqmodel | 0.164 | 0.008 | 0.273 | |
| chisqtest | 0.163 | 0.008 | 0.255 | |
| combine | 0.366 | 0.009 | 0.520 | |
| compareSteady | 24.672 | 0.214 | 36.645 | |
| compareSteadyNoNascent | 6.302 | 0.063 | 9.606 | |
| convergence | 0.164 | 0.008 | 0.278 | |
| geneClass | 0.202 | 0.007 | 0.305 | |
| inHeatmap | 0.202 | 0.011 | 0.304 | |
| inspectFromPCR | 3.345 | 0.044 | 5.113 | |
| labeledSF | 0.162 | 0.006 | 0.263 | |
| logLik | 0.165 | 0.005 | 0.256 | |
| makeModelRates | 0.204 | 0.006 | 0.310 | |
| makeOscillatorySimModel | 5.975 | 0.067 | 8.884 | |
| makeSimDataset | 82.018 | 0.656 | 131.901 | |
| makeSimModel | 25.869 | 0.221 | 39.462 | |
| modelRates | 17.146 | 0.114 | 23.606 | |
| modelRatesNF | 1.610 | 0.040 | 2.372 | |
| modelSelection | 0.162 | 0.005 | 0.271 | |
| modelingParams | 0.161 | 0.005 | 0.166 | |
| nGenes | 0.160 | 0.005 | 0.183 | |
| nTpts | 0.162 | 0.005 | 0.237 | |
| newINSPEcT | 14.230 | 0.112 | 21.607 | |
| plotGene | 0.211 | 0.007 | 0.318 | |
| plotMA | 25.299 | 0.213 | 36.956 | |
| processingDelay | 15.550 | 0.149 | 23.944 | |
| quantifyExpressionsFromBAMs | 39.499 | 4.521 | 65.102 | |
| quantifyExpressionsFromTrCounts | 21.038 | 0.204 | 32.443 | |
| ratePvals | 0.163 | 0.006 | 0.254 | |
| ratesFirstGuess | 0.163 | 0.007 | 0.259 | |
| ratesFirstGuessVar | 0.161 | 0.006 | 0.237 | |
| removeModel | 0.280 | 0.006 | 0.413 | |
| rocCurve | 25.258 | 0.257 | 39.463 | |
| rocThresholds | 26.510 | 0.247 | 40.835 | |
| split | 0.267 | 0.008 | 0.448 | |
| tpts | 0.161 | 0.006 | 0.261 | |
| viewConfidenceIntervals | 0.163 | 0.009 | 0.274 | |
| viewModelRates | 0.162 | 0.007 | 0.273 | |