| Back to Multiple platform build/check report for BioC 3.19: simplified long |
|
This page was generated on 2024-06-28 17:41 -0400 (Fri, 28 Jun 2024).
| Hostname | OS | Arch (*) | R version | Installed pkgs |
|---|---|---|---|---|
| nebbiolo1 | Linux (Ubuntu 22.04.3 LTS) | x86_64 | 4.4.0 (2024-04-24) -- "Puppy Cup" | 4760 |
| palomino3 | Windows Server 2022 Datacenter | x64 | 4.4.0 (2024-04-24 ucrt) -- "Puppy Cup" | 4494 |
| merida1 | macOS 12.7.4 Monterey | x86_64 | 4.4.0 (2024-04-24) -- "Puppy Cup" | 4508 |
| kjohnson1 | macOS 13.6.6 Ventura | arm64 | 4.4.0 (2024-04-24) -- "Puppy Cup" | 4466 |
| palomino7 | Windows Server 2022 Datacenter | x64 | 4.4.1 (2024-06-14 ucrt) -- "Race for Your Life" | 4362 |
| Click on any hostname to see more info about the system (e.g. compilers) (*) as reported by 'uname -p', except on Windows and Mac OS X | ||||
| Package 1040/2300 | Hostname | OS / Arch | INSTALL | BUILD | CHECK | BUILD BIN | ||||||||
| INSPEcT 1.34.0 (landing page) Stefano de Pretis
| nebbiolo1 | Linux (Ubuntu 22.04.3 LTS) / x86_64 | OK | OK | OK | |||||||||
| palomino3 | Windows Server 2022 Datacenter / x64 | OK | OK | OK | OK | |||||||||
| merida1 | macOS 12.7.4 Monterey / x86_64 | OK | OK | OK | OK | |||||||||
| kjohnson1 | macOS 13.6.6 Ventura / arm64 | OK | OK | OK | OK | |||||||||
| palomino7 | Windows Server 2022 Datacenter / x64 | OK | OK | OK | OK | |||||||||
|
To the developers/maintainers of the INSPEcT package: - Allow up to 24 hours (and sometimes 48 hours) for your latest push to git@git.bioconductor.org:packages/INSPEcT.git to reflect on this report. See Troubleshooting Build Report for more information. - Use the following Renviron settings to reproduce errors and warnings. - If 'R CMD check' started to fail recently on the Linux builder(s) over a missing dependency, add the missing dependency to 'Suggests:' in your DESCRIPTION file. See Renviron.bioc for more information. |
| Package: INSPEcT |
| Version: 1.34.0 |
| Command: F:\biocbuild\bbs-3.19-bioc\R\bin\R.exe CMD check --no-multiarch --install=check:INSPEcT.install-out.txt --library=F:\biocbuild\bbs-3.19-bioc\R\library --no-vignettes --timings INSPEcT_1.34.0.tar.gz |
| StartedAt: 2024-06-27 02:47:38 -0400 (Thu, 27 Jun 2024) |
| EndedAt: 2024-06-27 02:56:39 -0400 (Thu, 27 Jun 2024) |
| EllapsedTime: 540.8 seconds |
| RetCode: 0 |
| Status: OK |
| CheckDir: INSPEcT.Rcheck |
| Warnings: 0 |
##############################################################################
##############################################################################
###
### Running command:
###
### F:\biocbuild\bbs-3.19-bioc\R\bin\R.exe CMD check --no-multiarch --install=check:INSPEcT.install-out.txt --library=F:\biocbuild\bbs-3.19-bioc\R\library --no-vignettes --timings INSPEcT_1.34.0.tar.gz
###
##############################################################################
##############################################################################
* using log directory 'F:/biocbuild/bbs-3.19-bioc/meat/INSPEcT.Rcheck'
* using R version 4.4.0 (2024-04-24 ucrt)
* using platform: x86_64-w64-mingw32
* R was compiled by
gcc.exe (GCC) 13.2.0
GNU Fortran (GCC) 13.2.0
* running under: Windows Server 2022 x64 (build 20348)
* using session charset: UTF-8
* using option '--no-vignettes'
* checking for file 'INSPEcT/DESCRIPTION' ... OK
* checking extension type ... Package
* this is package 'INSPEcT' version '1.34.0'
* checking package namespace information ... OK
* checking package dependencies ... OK
* checking if this is a source package ... OK
* checking if there is a namespace ... OK
* checking for hidden files and directories ... OK
* checking for portable file names ... OK
* checking whether package 'INSPEcT' can be installed ... OK
* checking installed package size ... NOTE
installed size is 7.1Mb
sub-directories of 1Mb or more:
R 1.8Mb
data 2.8Mb
* checking package directory ... OK
* checking 'build' directory ... OK
* checking DESCRIPTION meta-information ... OK
* checking top-level files ... OK
* checking for left-over files ... OK
* checking index information ... OK
* checking package subdirectories ... OK
* checking code files for non-ASCII characters ... OK
* checking R files for syntax errors ... OK
* checking whether the package can be loaded ... OK
* checking whether the package can be loaded with stated dependencies ... OK
* checking whether the package can be unloaded cleanly ... OK
* checking whether the namespace can be loaded with stated dependencies ... OK
* checking whether the namespace can be unloaded cleanly ... OK
* checking dependencies in R code ... OK
* checking S3 generic/method consistency ... OK
* checking replacement functions ... OK
* checking foreign function calls ... OK
* checking R code for possible problems ... NOTE
output_pars: no visible global function definition for 'plot.new'
plotSingleRNADynamic: no visible global function definition for 'lines'
Undefined global functions or variables:
lines plot.new
Consider adding
importFrom("graphics", "lines", "plot.new")
to your NAMESPACE file.
* checking Rd files ... OK
* checking Rd metadata ... OK
* checking Rd cross-references ... OK
* checking for missing documentation entries ... OK
* checking for code/documentation mismatches ... OK
* checking Rd \usage sections ... OK
* checking Rd contents ... OK
* checking for unstated dependencies in examples ... OK
* checking contents of 'data' directory ... OK
* checking data for non-ASCII characters ... OK
* checking data for ASCII and uncompressed saves ... OK
* checking files in 'vignettes' ... OK
* checking examples ... OK
Examples with CPU (user + system) or elapsed time > 5s
user system elapsed
makeSimModel 29.09 0.20 29.29
quantifyExpressionsFromTrCounts 20.46 0.22 20.72
newINSPEcT 19.53 0.16 19.70
processingDelay 17.79 0.28 18.07
compareSteadyNoNascent 8.94 0.25 9.20
makeOscillatorySimModel 6.47 0.10 6.97
* checking for unstated dependencies in vignettes ... OK
* checking package vignettes ... OK
* checking running R code from vignettes ... SKIPPED
* checking re-building of vignette outputs ... SKIPPED
* checking PDF version of manual ... OK
* DONE
Status: 2 NOTEs
See
'F:/biocbuild/bbs-3.19-bioc/meat/INSPEcT.Rcheck/00check.log'
for details.
INSPEcT.Rcheck/00install.out
############################################################################## ############################################################################## ### ### Running command: ### ### F:\biocbuild\bbs-3.19-bioc\R\bin\R.exe CMD INSTALL INSPEcT ### ############################################################################## ############################################################################## * installing to library 'F:/biocbuild/bbs-3.19-bioc/R/library' * installing *source* package 'INSPEcT' ... ** using staged installation ** R ** data ** inst ** byte-compile and prepare package for lazy loading ** help *** installing help indices ** building package indices ** installing vignettes ** testing if installed package can be loaded from temporary location ** testing if installed package can be loaded from final location ** testing if installed package keeps a record of temporary installation path * DONE (INSPEcT)
INSPEcT.Rcheck/INSPEcT-Ex.timings
| name | user | system | elapsed | |
| AIC-INSPEcT-method | 0.25 | 0.00 | 0.57 | |
| Extract | 0.41 | 0.03 | 0.43 | |
| INSPEcT_diffsteady-class | 0 | 0 | 0 | |
| calculateRatePvals | 0.21 | 0.03 | 0.23 | |
| chisqmodel | 0.17 | 0.00 | 0.18 | |
| chisqtest | 0.19 | 0.00 | 0.18 | |
| combine | 0.43 | 0.01 | 0.46 | |
| compareSteady | 0 | 0 | 0 | |
| compareSteadyNoNascent | 8.94 | 0.25 | 9.20 | |
| convergence | 0.20 | 0.02 | 0.22 | |
| geneClass | 0.19 | 0.00 | 0.19 | |
| inHeatmap | 0.17 | 0.02 | 0.18 | |
| inspectFromPCR | 0 | 0 | 0 | |
| labeledSF | 0.25 | 0.00 | 0.25 | |
| logLik | 0.17 | 0.00 | 0.18 | |
| makeModelRates | 0.19 | 0.01 | 0.20 | |
| makeOscillatorySimModel | 6.47 | 0.10 | 6.97 | |
| makeSimDataset | 0 | 0 | 0 | |
| makeSimModel | 29.09 | 0.20 | 29.29 | |
| modelRates | 0 | 0 | 0 | |
| modelRatesNF | 0 | 0 | 0 | |
| modelSelection | 0.22 | 0.01 | 0.25 | |
| modelingParams | 0.24 | 0.02 | 0.25 | |
| nGenes | 0.15 | 0.05 | 0.21 | |
| nTpts | 0.19 | 0.01 | 0.20 | |
| newINSPEcT | 19.53 | 0.16 | 19.70 | |
| plotGene | 0.24 | 0.05 | 0.28 | |
| plotMA | 0 | 0 | 0 | |
| processingDelay | 17.79 | 0.28 | 18.07 | |
| quantifyExpressionsFromBAMs | 0 | 0 | 0 | |
| quantifyExpressionsFromTrCounts | 20.46 | 0.22 | 20.72 | |
| ratePvals | 0.18 | 0.00 | 0.18 | |
| ratesFirstGuess | 0.16 | 0.00 | 0.16 | |
| ratesFirstGuessVar | 0.16 | 0.00 | 0.16 | |
| removeModel | 0.28 | 0.03 | 0.31 | |
| rocCurve | 0 | 0 | 0 | |
| rocThresholds | 0 | 0 | 0 | |
| split | 0.26 | 0.00 | 0.27 | |
| tpts | 0.14 | 0.02 | 0.15 | |
| viewConfidenceIntervals | 0.28 | 0.00 | 0.28 | |
| viewModelRates | 0.25 | 0.00 | 0.25 | |