| Back to Multiple platform build/check report for BioC 3.19: simplified long | 
 | 
This page was generated on 2024-10-18 20:38 -0400 (Fri, 18 Oct 2024).
| Hostname | OS | Arch (*) | R version | Installed pkgs | 
|---|---|---|---|---|
| nebbiolo1 | Linux (Ubuntu 22.04.3 LTS) | x86_64 | 4.4.1 (2024-06-14) -- "Race for Your Life" | 4763 | 
| palomino7 | Windows Server 2022 Datacenter | x64 | 4.4.1 (2024-06-14 ucrt) -- "Race for Your Life" | 4500 | 
| merida1 | macOS 12.7.5 Monterey | x86_64 | 4.4.1 (2024-06-14) -- "Race for Your Life" | 4530 | 
| kjohnson1 | macOS 13.6.6 Ventura | arm64 | 4.4.1 (2024-06-14) -- "Race for Your Life" | 4480 | 
| Click on any hostname to see more info about the system (e.g. compilers) (*) as reported by 'uname -p', except on Windows and Mac OS X | ||||
| Package 880/2300 | Hostname | OS / Arch | INSTALL | BUILD | CHECK | BUILD BIN | ||||||||
| GlobalAncova 4.22.0  (landing page) Manuela Hummel 
 | nebbiolo1 | Linux (Ubuntu 22.04.3 LTS) / x86_64 | OK | OK | WARNINGS |  | ||||||||
| palomino7 | Windows Server 2022 Datacenter / x64 | OK | OK | WARNINGS | OK |  | ||||||||
| merida1 | macOS 12.7.5 Monterey / x86_64 | OK | OK | WARNINGS | OK |  | ||||||||
| kjohnson1 | macOS 13.6.6 Ventura / arm64 | OK | OK | WARNINGS | OK |  | ||||||||
| To the developers/maintainers of the GlobalAncova package: - Allow up to 24 hours (and sometimes 48 hours) for your latest push to git@git.bioconductor.org:packages/GlobalAncova.git to reflect on this report. See Troubleshooting Build Report for more information. - Use the following Renviron settings to reproduce errors and warnings. - If 'R CMD check' started to fail recently on the Linux builder(s) over a missing dependency, add the missing dependency to 'Suggests:' in your DESCRIPTION file. See Renviron.bioc for more information. | 
| Package: GlobalAncova | 
| Version: 4.22.0 | 
| Command: /home/biocbuild/bbs-3.19-bioc/R/bin/R CMD INSTALL GlobalAncova | 
| StartedAt: 2024-10-16 16:32:18 -0400 (Wed, 16 Oct 2024) | 
| EndedAt: 2024-10-16 16:32:41 -0400 (Wed, 16 Oct 2024) | 
| EllapsedTime: 23.4 seconds | 
| RetCode: 0 | 
| Status: OK | 
##############################################################################
##############################################################################
###
### Running command:
###
###   /home/biocbuild/bbs-3.19-bioc/R/bin/R CMD INSTALL GlobalAncova
###
##############################################################################
##############################################################################
* installing to library ‘/home/biocbuild/bbs-3.19-bioc/R/site-library’
* installing *source* package ‘GlobalAncova’ ...
** using staged installation
** libs
using C compiler: ‘gcc (Ubuntu 11.4.0-1ubuntu1~22.04) 11.4.0’
gcc -I"/home/biocbuild/bbs-3.19-bioc/R/include" -DNDEBUG   -I/usr/local/include    -fpic  -g -O2  -Wall -c GlobalAncova.c -o GlobalAncova.o
GlobalAncova.c: In function ‘row_orth2d’:
GlobalAncova.c:33:53: warning: format ‘%d’ expects argument of type ‘int’, but argument 2 has type ‘long unsigned int’ [-Wformat=]
   33 |    { error("Warning in row_orth2d: Memory block of %d bytes unavailable",
      |                                                    ~^
      |                                                     |
      |                                                     int
      |                                                    %ld
   34 |       (*sD)*(*sD)*sizeof(double));
      |       ~~~~~~~~~~~~~~~~~~~~~~~~~~                     
      |                  |
      |                  long unsigned int
GlobalAncova.c:38:53: warning: format ‘%d’ expects argument of type ‘int’, but argument 2 has type ‘long unsigned int’ [-Wformat=]
   38 |    { error("Warning in row_orth2d: Memory block of %d bytes unavailable",
      |                                                    ~^
      |                                                     |
      |                                                     int
      |                                                    %ld
   39 |       (*sD)*(*sD)*sizeof(double) );
      |       ~~~~~~~~~~~~~~~~~~~~~~~~~~                     
      |                  |
      |                  long unsigned int
GlobalAncova.c:43:53: warning: format ‘%d’ expects argument of type ‘int’, but argument 2 has type ‘long unsigned int’ [-Wformat=]
   43 |    { error("Warning in row_orth2d: Memory block of %d bytes unavailable",
      |                                                    ~^
      |                                                     |
      |                                                     int
      |                                                    %ld
   44 |       (*zD)*(*sD)*sizeof(double)  );
      |       ~~~~~~~~~~~~~~~~~~~~~~~~~~                     
      |                  |
      |                  long unsigned int
GlobalAncova.c:48:53: warning: format ‘%d’ expects argument of type ‘int’, but argument 2 has type ‘long unsigned int’ [-Wformat=]
   48 |    { error("Warning in row_orth2d: Memory block of %d bytes unavailable",
      |                                                    ~^
      |                                                     |
      |                                                     int
      |                                                    %ld
   49 |       (*zD)*(*zD)*sizeof(double) );
      |       ~~~~~~~~~~~~~~~~~~~~~~~~~~                     
      |                  |
      |                  long unsigned int
GlobalAncova.c: In function ‘genewiseGA’:
GlobalAncova.c:88:54: warning: format ‘%d’ expects argument of type ‘int’, but argument 2 has type ‘long unsigned int’ [-Wformat=]
   88 |     { error("Warning in genewiseGA: Memory block of %d bytes unavailable",
      |                                                     ~^
      |                                                      |
      |                                                      int
      |                                                     %ld
   89 |       (*zxx)*(*zD_full) * sizeof(double) );
      |       ~~~~~~~~~~~~~~~~~~~~~~~~~~~~~~~~~~              
      |                         |
      |                         long unsigned int
GlobalAncova.c:100:56: warning: format ‘%d’ expects argument of type ‘int’, but argument 2 has type ‘long unsigned int’ [-Wformat=]
  100 |       { error("Warning in genewiseGA: Memory block of %d bytes unavailable",
      |                                                       ~^
      |                                                        |
      |                                                        int
      |                                                       %ld
  101 |         (*zxx)*(*zD_red) * sizeof(double) );
      |         ~~~~~~~~~~~~~~~~~~~~~~~~~~~~~~~~~               
      |                          |
      |                          long unsigned int
GlobalAncova.c: In function ‘permut_withFperm’:
GlobalAncova.c:148:48: warning: format ‘%d’ expects argument of type ‘int’, but argument 2 has type ‘long unsigned int’ [-Wformat=]
  148 |   { error("Warning in permut: Memory block of %d bytes unavailable",
      |                                               ~^
      |                                                |
      |                                                int
      |                                               %ld
  149 |      (*zrr) * sizeof(double) );
      |      ~~~~~~~~~~~~~~~~~~~~~~~                    
      |             |
      |             long unsigned int
GlobalAncova.c:153:48: warning: format ‘%d’ expects argument of type ‘int’, but argument 2 has type ‘long unsigned int’ [-Wformat=]
  153 |   { error("Warning in permut: Memory block of %d bytes unavailable",
      |                                               ~^
      |                                                |
      |                                                int
      |                                               %ld
  154 |     (*zrr) * sizeof(double));
      |     ~~~~~~~~~~~~~~~~~~~~~~~                     
      |            |
      |            long unsigned int
GlobalAncova.c:158:48: warning: format ‘%d’ expects argument of type ‘int’, but argument 2 has type ‘long unsigned int’ [-Wformat=]
  158 |   { error("Warning in permut: Memory block of %d bytes unavailable",
      |                                               ~^
      |                                                |
      |                                                int
      |                                               %ld
  159 |     (*n_test_genes) * sizeof(double));
      |     ~~~~~~~~~~~~~~~~~~~~~~~~~~~~~~~~            
      |                     |
      |                     long unsigned int
GlobalAncova.c:163:48: warning: format ‘%d’ expects argument of type ‘int’, but argument 2 has type ‘long unsigned int’ [-Wformat=]
  163 |   { error("Warning in permut: Memory block of %d bytes unavailable",
      |                                               ~^
      |                                                |
      |                                                int
      |                                               %ld
  164 |     (*sD_full)*(*sD_full) * sizeof(double));
      |     ~~~~~~~~~~~~~~~~~~~~~~~~~~~~~~~~~~~~~~      
      |                           |
      |                           long unsigned int
GlobalAncova.c:170:50: warning: format ‘%d’ expects argument of type ‘int’, but argument 2 has type ‘long unsigned int’ [-Wformat=]
  170 |     { error("Warning in permut: Memory block of %d bytes unavailable",
      |                                                 ~^
      |                                                  |
      |                                                  int
      |                                                 %ld
  171 |       (*N_Subjects) * sizeof(int));
      |       ~~~~~~~~~~~~~~~~~~~~~~~~~~~                 
      |                     |
      |                     long unsigned int
GlobalAncova.c: In function ‘permut’:
GlobalAncova.c:250:48: warning: format ‘%d’ expects argument of type ‘int’, but argument 2 has type ‘long unsigned int’ [-Wformat=]
  250 |   { error("Warning in permut: Memory block of %d bytes unavailable",
      |                                               ~^
      |                                                |
      |                                                int
      |                                               %ld
  251 |      (*zrr) * sizeof(double) );
      |      ~~~~~~~~~~~~~~~~~~~~~~~                    
      |             |
      |             long unsigned int
GlobalAncova.c:255:48: warning: format ‘%d’ expects argument of type ‘int’, but argument 2 has type ‘long unsigned int’ [-Wformat=]
  255 |   { error("Warning in permut: Memory block of %d bytes unavailable",
      |                                               ~^
      |                                                |
      |                                                int
      |                                               %ld
  256 |     (*zrr) * sizeof(double));
      |     ~~~~~~~~~~~~~~~~~~~~~~~                     
      |            |
      |            long unsigned int
GlobalAncova.c:260:48: warning: format ‘%d’ expects argument of type ‘int’, but argument 2 has type ‘long unsigned int’ [-Wformat=]
  260 |   { error("Warning in permut: Memory block of %d bytes unavailable",
      |                                               ~^
      |                                                |
      |                                                int
      |                                               %ld
  261 |     (*n_test_genes) * sizeof(double));
      |     ~~~~~~~~~~~~~~~~~~~~~~~~~~~~~~~~            
      |                     |
      |                     long unsigned int
GlobalAncova.c:265:48: warning: format ‘%d’ expects argument of type ‘int’, but argument 2 has type ‘long unsigned int’ [-Wformat=]
  265 |   { error("Warning in permut: Memory block of %d bytes unavailable",
      |                                               ~^
      |                                                |
      |                                                int
      |                                               %ld
  266 |     (*sD_full)*(*sD_full) * sizeof(double));
      |     ~~~~~~~~~~~~~~~~~~~~~~~~~~~~~~~~~~~~~~      
      |                           |
      |                           long unsigned int
GlobalAncova.c:272:50: warning: format ‘%d’ expects argument of type ‘int’, but argument 2 has type ‘long unsigned int’ [-Wformat=]
  272 |     { error("Warning in permut: Memory block of %d bytes unavailable",
      |                                                 ~^
      |                                                  |
      |                                                  int
      |                                                 %ld
  273 |       (*N_Subjects) * sizeof(int));
      |       ~~~~~~~~~~~~~~~~~~~~~~~~~~~                 
      |                     |
      |                     long unsigned int
GlobalAncova.c: In function ‘permut_withFperm’:
GlobalAncova.c:166:8: warning: ‘ord_perm’ may be used uninitialized in this function [-Wmaybe-uninitialized]
  166 |   int *ord_perm ;
      |        ^~~~~~~~
GlobalAncova.c: In function ‘permut’:
GlobalAncova.c:268:8: warning: ‘ord_perm’ may be used uninitialized in this function [-Wmaybe-uninitialized]
  268 |   int *ord_perm ;
      |        ^~~~~~~~
gcc -I"/home/biocbuild/bbs-3.19-bioc/R/include" -DNDEBUG   -I/usr/local/include    -fpic  -g -O2  -Wall -c ludcmp.c -o ludcmp.o
gcc -I"/home/biocbuild/bbs-3.19-bioc/R/include" -DNDEBUG   -I/usr/local/include    -fpic  -g -O2  -Wall -c matrix.c -o matrix.o
gcc -shared -L/home/biocbuild/bbs-3.19-bioc/R/lib -L/usr/local/lib -o GlobalAncova.so GlobalAncova.o ludcmp.o matrix.o -L/home/biocbuild/bbs-3.19-bioc/R/lib -lR
installing to /home/biocbuild/bbs-3.19-bioc/R/site-library/00LOCK-GlobalAncova/00new/GlobalAncova/libs
** R
** data
** inst
** byte-compile and prepare package for lazy loading
** help
*** installing help indices
** building package indices
** installing vignettes
** testing if installed package can be loaded from temporary location
** checking absolute paths in shared objects and dynamic libraries
** testing if installed package can be loaded from final location
** testing if installed package keeps a record of temporary installation path
* DONE (GlobalAncova)