| Back to Multiple platform build/check report for BioC 3.19: simplified long | 
 | 
This page was generated on 2024-10-18 20:42 -0400 (Fri, 18 Oct 2024).
| Hostname | OS | Arch (*) | R version | Installed pkgs | 
|---|---|---|---|---|
| nebbiolo1 | Linux (Ubuntu 22.04.3 LTS) | x86_64 | 4.4.1 (2024-06-14) -- "Race for Your Life" | 4763 | 
| palomino7 | Windows Server 2022 Datacenter | x64 | 4.4.1 (2024-06-14 ucrt) -- "Race for Your Life" | 4500 | 
| merida1 | macOS 12.7.5 Monterey | x86_64 | 4.4.1 (2024-06-14) -- "Race for Your Life" | 4530 | 
| kjohnson1 | macOS 13.6.6 Ventura | arm64 | 4.4.1 (2024-06-14) -- "Race for Your Life" | 4480 | 
| Click on any hostname to see more info about the system (e.g. compilers) (*) as reported by 'uname -p', except on Windows and Mac OS X | ||||
| Package 880/2300 | Hostname | OS / Arch | INSTALL | BUILD | CHECK | BUILD BIN | ||||||||
| GlobalAncova 4.22.0  (landing page) Manuela Hummel 
 | nebbiolo1 | Linux (Ubuntu 22.04.3 LTS) / x86_64 | OK | OK | WARNINGS |  | ||||||||
| palomino7 | Windows Server 2022 Datacenter / x64 | OK | OK | WARNINGS | OK |  | ||||||||
| merida1 | macOS 12.7.5 Monterey / x86_64 | OK | OK | WARNINGS | OK |  | ||||||||
| kjohnson1 | macOS 13.6.6 Ventura / arm64 | OK | OK | WARNINGS | OK |  | ||||||||
| To the developers/maintainers of the GlobalAncova package: - Allow up to 24 hours (and sometimes 48 hours) for your latest push to git@git.bioconductor.org:packages/GlobalAncova.git to reflect on this report. See Troubleshooting Build Report for more information. - Use the following Renviron settings to reproduce errors and warnings. - If 'R CMD check' started to fail recently on the Linux builder(s) over a missing dependency, add the missing dependency to 'Suggests:' in your DESCRIPTION file. See Renviron.bioc for more information. | 
| Package: GlobalAncova | 
| Version: 4.22.0 | 
| Command: /Library/Frameworks/R.framework/Resources/bin/R CMD INSTALL GlobalAncova | 
| StartedAt: 2024-10-16 18:04:25 -0400 (Wed, 16 Oct 2024) | 
| EndedAt: 2024-10-16 18:04:54 -0400 (Wed, 16 Oct 2024) | 
| EllapsedTime: 28.6 seconds | 
| RetCode: 0 | 
| Status: OK | 
##############################################################################
##############################################################################
###
### Running command:
###
###   /Library/Frameworks/R.framework/Resources/bin/R CMD INSTALL GlobalAncova
###
##############################################################################
##############################################################################
* installing to library ‘/Library/Frameworks/R.framework/Versions/4.4-arm64/Resources/library’
* installing *source* package ‘GlobalAncova’ ...
** using staged installation
** libs
using C compiler: ‘Apple clang version 15.0.0 (clang-1500.0.40.1)’
using SDK: ‘MacOSX11.3.sdk’
clang -arch arm64 -I"/Library/Frameworks/R.framework/Resources/include" -DNDEBUG   -I/opt/R/arm64/include    -fPIC  -falign-functions=64 -Wall -g -O2  -c GlobalAncova.c -o GlobalAncova.o
GlobalAncova.c:34:7: warning: format specifies type 'int' but the argument has type 'unsigned long' [-Wformat]
      (*sD)*(*sD)*sizeof(double));
      ^~~~~~~~~~~~~~~~~~~~~~~~~~
GlobalAncova.c:39:7: warning: format specifies type 'int' but the argument has type 'unsigned long' [-Wformat]
      (*sD)*(*sD)*sizeof(double) );
      ^~~~~~~~~~~~~~~~~~~~~~~~~~
GlobalAncova.c:44:7: warning: format specifies type 'int' but the argument has type 'unsigned long' [-Wformat]
      (*zD)*(*sD)*sizeof(double)  );
      ^~~~~~~~~~~~~~~~~~~~~~~~~~
GlobalAncova.c:49:7: warning: format specifies type 'int' but the argument has type 'unsigned long' [-Wformat]
      (*zD)*(*zD)*sizeof(double) );
      ^~~~~~~~~~~~~~~~~~~~~~~~~~
GlobalAncova.c:89:7: warning: format specifies type 'int' but the argument has type 'unsigned long' [-Wformat]
      (*zxx)*(*zD_full) * sizeof(double) );
      ^~~~~~~~~~~~~~~~~~~~~~~~~~~~~~~~~~
GlobalAncova.c:101:9: warning: format specifies type 'int' but the argument has type 'unsigned long' [-Wformat]
        (*zxx)*(*zD_red) * sizeof(double) );
        ^~~~~~~~~~~~~~~~~~~~~~~~~~~~~~~~~
GlobalAncova.c:149:6: warning: format specifies type 'int' but the argument has type 'unsigned long' [-Wformat]
     (*zrr) * sizeof(double) );
     ^~~~~~~~~~~~~~~~~~~~~~~
GlobalAncova.c:154:5: warning: format specifies type 'int' but the argument has type 'unsigned long' [-Wformat]
    (*zrr) * sizeof(double));
    ^~~~~~~~~~~~~~~~~~~~~~~
GlobalAncova.c:159:5: warning: format specifies type 'int' but the argument has type 'unsigned long' [-Wformat]
    (*n_test_genes) * sizeof(double));
    ^~~~~~~~~~~~~~~~~~~~~~~~~~~~~~~~
GlobalAncova.c:164:5: warning: format specifies type 'int' but the argument has type 'unsigned long' [-Wformat]
    (*sD_full)*(*sD_full) * sizeof(double));
    ^~~~~~~~~~~~~~~~~~~~~~~~~~~~~~~~~~~~~~
GlobalAncova.c:171:7: warning: format specifies type 'int' but the argument has type 'unsigned long' [-Wformat]
      (*N_Subjects) * sizeof(int));
      ^~~~~~~~~~~~~~~~~~~~~~~~~~~
GlobalAncova.c:251:6: warning: format specifies type 'int' but the argument has type 'unsigned long' [-Wformat]
     (*zrr) * sizeof(double) );
     ^~~~~~~~~~~~~~~~~~~~~~~
GlobalAncova.c:256:5: warning: format specifies type 'int' but the argument has type 'unsigned long' [-Wformat]
    (*zrr) * sizeof(double));
    ^~~~~~~~~~~~~~~~~~~~~~~
GlobalAncova.c:261:5: warning: format specifies type 'int' but the argument has type 'unsigned long' [-Wformat]
    (*n_test_genes) * sizeof(double));
    ^~~~~~~~~~~~~~~~~~~~~~~~~~~~~~~~
GlobalAncova.c:266:5: warning: format specifies type 'int' but the argument has type 'unsigned long' [-Wformat]
    (*sD_full)*(*sD_full) * sizeof(double));
    ^~~~~~~~~~~~~~~~~~~~~~~~~~~~~~~~~~~~~~
GlobalAncova.c:273:7: warning: format specifies type 'int' but the argument has type 'unsigned long' [-Wformat]
      (*N_Subjects) * sizeof(int));
      ^~~~~~~~~~~~~~~~~~~~~~~~~~~
16 warnings generated.
clang -arch arm64 -I"/Library/Frameworks/R.framework/Resources/include" -DNDEBUG   -I/opt/R/arm64/include    -fPIC  -falign-functions=64 -Wall -g -O2  -c ludcmp.c -o ludcmp.o
clang -arch arm64 -I"/Library/Frameworks/R.framework/Resources/include" -DNDEBUG   -I/opt/R/arm64/include    -fPIC  -falign-functions=64 -Wall -g -O2  -c matrix.c -o matrix.o
clang -arch arm64 -dynamiclib -Wl,-headerpad_max_install_names -undefined dynamic_lookup -L/Library/Frameworks/R.framework/Resources/lib -L/opt/R/arm64/lib -o GlobalAncova.so GlobalAncova.o ludcmp.o matrix.o -F/Library/Frameworks/R.framework/.. -framework R -Wl,-framework -Wl,CoreFoundation
installing to /Library/Frameworks/R.framework/Versions/4.4-arm64/Resources/library/00LOCK-GlobalAncova/00new/GlobalAncova/libs
** R
** data
** inst
** byte-compile and prepare package for lazy loading
** help
*** installing help indices
** building package indices
** installing vignettes
** testing if installed package can be loaded from temporary location
** checking absolute paths in shared objects and dynamic libraries
** testing if installed package can be loaded from final location
** testing if installed package keeps a record of temporary installation path
* DONE (GlobalAncova)