| Back to Multiple platform build/check report for BioC 3.18: simplified long |
|
This page was generated on 2023-11-02 11:41:23 -0400 (Thu, 02 Nov 2023).
| Hostname | OS | Arch (*) | R version | Installed pkgs |
|---|---|---|---|---|
| nebbiolo2 | Linux (Ubuntu 22.04.2 LTS) | x86_64 | 4.3.1 (2023-06-16) -- "Beagle Scouts" | 4729 |
| palomino4 | Windows Server 2022 Datacenter | x64 | 4.3.1 (2023-06-16 ucrt) -- "Beagle Scouts" | 4463 |
| lconway | macOS 12.6.5 Monterey | x86_64 | 4.3.1 Patched (2023-06-17 r84564) -- "Beagle Scouts" | 4478 |
| kunpeng2 | Linux (openEuler 22.03 LTS-SP1) | aarch64 | 4.3.1 (2023-06-16) -- "Beagle Scouts" | 4464 |
| Click on any hostname to see more info about the system (e.g. compilers) (*) as reported by 'uname -p', except on Windows and Mac OS X | ||||
| Package 2164/2266 | Hostname | OS / Arch | INSTALL | BUILD | CHECK | BUILD BIN | ||||||||
| transite 1.20.0 (landing page) Konstantin Krismer
| nebbiolo2 | Linux (Ubuntu 22.04.2 LTS) / x86_64 | OK | OK | OK | |||||||||
| palomino4 | Windows Server 2022 Datacenter / x64 | OK | OK | OK | OK | |||||||||
| lconway | macOS 12.6.5 Monterey / x86_64 | OK | OK | OK | OK | |||||||||
| kjohnson1 | macOS 13.6.1 Ventura / arm64 | see weekly results here | ||||||||||||
| kunpeng2 | Linux (openEuler 22.03 LTS-SP1) / aarch64 | OK | OK | OK | ||||||||||
|
To the developers/maintainers of the transite package: - Allow up to 24 hours (and sometimes 48 hours) for your latest push to git@git.bioconductor.org:packages/transite.git to reflect on this report. See Troubleshooting Build Report for more information. - Use the following Renviron settings to reproduce errors and warnings. - If 'R CMD check' started to fail recently on the Linux builder(s) over a missing dependency, add the missing dependency to 'Suggests:' in your DESCRIPTION file. See Renviron.bioc for more information. - See Martin Grigorov's blog post for how to debug Linux ARM64 related issues on a x86_64 host. |
| Package: transite |
| Version: 1.20.0 |
| Command: /home/biocbuild/R/R-4.3.1/bin/R CMD check --install=check:transite.install-out.txt --library=/home/biocbuild/R/R-4.3.1/site-library --no-vignettes --timings transite_1.20.0.tar.gz |
| StartedAt: 2023-11-02 15:00:56 -0000 (Thu, 02 Nov 2023) |
| EndedAt: 2023-11-02 15:08:52 -0000 (Thu, 02 Nov 2023) |
| EllapsedTime: 475.9 seconds |
| RetCode: 0 |
| Status: OK |
| CheckDir: transite.Rcheck |
| Warnings: 0 |
##############################################################################
##############################################################################
###
### Running command:
###
### /home/biocbuild/R/R-4.3.1/bin/R CMD check --install=check:transite.install-out.txt --library=/home/biocbuild/R/R-4.3.1/site-library --no-vignettes --timings transite_1.20.0.tar.gz
###
##############################################################################
##############################################################################
* using log directory ‘/home/biocbuild/bbs-3.18-bioc/meat/transite.Rcheck’
* using R version 4.3.1 (2023-06-16)
* using platform: aarch64-unknown-linux-gnu (64-bit)
* R was compiled by
gcc (GCC) 10.3.1
GNU Fortran (GCC) 10.3.1
* running under: openEuler 22.03 (LTS-SP1)
* using session charset: UTF-8
* using option ‘--no-vignettes’
* checking for file ‘transite/DESCRIPTION’ ... OK
* this is package ‘transite’ version ‘1.20.0’
* package encoding: UTF-8
* checking package namespace information ... OK
* checking package dependencies ... OK
* checking if this is a source package ... OK
* checking if there is a namespace ... OK
* checking for hidden files and directories ... OK
* checking for portable file names ... OK
* checking for sufficient/correct file permissions ... OK
* checking whether package ‘transite’ can be installed ... OK
* used C++ compiler: ‘g++ (GCC) 10.3.1’
* checking C++ specification ... NOTE
Specified C++11: please drop specification unless essential
* checking installed package size ... OK
* checking package directory ... OK
* checking ‘build’ directory ... OK
* checking DESCRIPTION meta-information ... OK
* checking top-level files ... OK
* checking for left-over files ... OK
* checking index information ... OK
* checking package subdirectories ... OK
* checking R files for non-ASCII characters ... OK
* checking R files for syntax errors ... OK
* checking whether the package can be loaded ... OK
* checking whether the package can be loaded with stated dependencies ... OK
* checking whether the package can be unloaded cleanly ... OK
* checking whether the namespace can be loaded with stated dependencies ... OK
* checking whether the namespace can be unloaded cleanly ... OK
* checking loading without being on the library search path ... OK
* checking startup messages can be suppressed ... OK
* checking dependencies in R code ... OK
* checking S3 generic/method consistency ... OK
* checking replacement functions ... OK
* checking foreign function calls ... OK
* checking R code for possible problems ... OK
* checking Rd files ... OK
* checking Rd metadata ... OK
* checking Rd cross-references ... OK
* checking for missing documentation entries ... OK
* checking for code/documentation mismatches ... OK
* checking Rd \usage sections ... OK
* checking Rd contents ... OK
* checking for unstated dependencies in examples ... OK
* checking contents of ‘data’ directory ... OK
* checking data for non-ASCII characters ... OK
* checking data for ASCII and uncompressed saves ... OK
* checking line endings in C/C++/Fortran sources/headers ... OK
* checking compiled code ... NOTE
Note: information on .o files is not available
* checking files in ‘vignettes’ ... OK
* checking examples ... OK
Examples with CPU (user + system) or elapsed time > 5s
user system elapsed
run_kmer_tsma 54.594 0.136 54.839
run_kmer_spma 47.965 0.419 48.480
calculate_kmer_enrichment 6.329 0.072 6.414
run_matrix_spma 4.460 0.047 6.525
* checking for unstated dependencies in ‘tests’ ... OK
* checking tests ...
Running ‘testthat.R’
OK
* checking for unstated dependencies in vignettes ... OK
* checking package vignettes in ‘inst/doc’ ... OK
* checking running R code from vignettes ... SKIPPED
* checking re-building of vignette outputs ... SKIPPED
* checking PDF version of manual ... OK
* DONE
Status: 2 NOTEs
See
‘/home/biocbuild/bbs-3.18-bioc/meat/transite.Rcheck/00check.log’
for details.
transite.Rcheck/00install.out
############################################################################## ############################################################################## ### ### Running command: ### ### /home/biocbuild/R/R-4.3.1/bin/R CMD INSTALL transite ### ############################################################################## ############################################################################## * installing to library ‘/home/biocbuild/R/R-4.3.1/site-library’ * installing *source* package ‘transite’ ... ** using staged installation ** libs using C++ compiler: ‘g++ (GCC) 10.3.1’ using C++11 g++ -std=gnu++11 -I"/home/biocbuild/R/R-4.3.1/include" -DNDEBUG -I'/home/biocbuild/R/R-4.3.1/site-library/Rcpp/include' -I/usr/local/include -fPIC -g -O2 -Wall -c RcppExports.cpp -o RcppExports.o g++ -std=gnu++11 -I"/home/biocbuild/R/R-4.3.1/include" -DNDEBUG -I'/home/biocbuild/R/R-4.3.1/site-library/Rcpp/include' -I/usr/local/include -fPIC -g -O2 -Wall -c scoring.cpp -o scoring.o g++ -std=gnu++11 -shared -L/home/biocbuild/R/R-4.3.1/lib -L/usr/local/lib -o transite.so RcppExports.o scoring.o -L/home/biocbuild/R/R-4.3.1/lib -lR installing to /home/biocbuild/R/R-4.3.1/site-library/00LOCK-transite/00new/transite/libs ** R ** data ** inst ** byte-compile and prepare package for lazy loading ** help *** installing help indices ** building package indices ** installing vignettes ** testing if installed package can be loaded from temporary location ** checking absolute paths in shared objects and dynamic libraries ** testing if installed package can be loaded from final location ** testing if installed package keeps a record of temporary installation path * DONE (transite)
transite.Rcheck/tests/testthat.Rout
R version 4.3.1 (2023-06-16) -- "Beagle Scouts"
Copyright (C) 2023 The R Foundation for Statistical Computing
Platform: aarch64-unknown-linux-gnu (64-bit)
R is free software and comes with ABSOLUTELY NO WARRANTY.
You are welcome to redistribute it under certain conditions.
Type 'license()' or 'licence()' for distribution details.
R is a collaborative project with many contributors.
Type 'contributors()' for more information and
'citation()' on how to cite R or R packages in publications.
Type 'demo()' for some demos, 'help()' for on-line help, or
'help.start()' for an HTML browser interface to help.
Type 'q()' to quit R.
> library(testthat)
> library(transite)
>
> test_check("transite")
[ FAIL 0 | WARN 6 | SKIP 0 | PASS 95 ]
[ FAIL 0 | WARN 6 | SKIP 0 | PASS 95 ]
>
> proc.time()
user system elapsed
113.425 1.625 219.145
transite.Rcheck/transite-Ex.timings
| name | user | system | elapsed | |
| RBPMotif-class | 0.005 | 0.000 | 0.005 | |
| SpectrumScore-class | 0.001 | 0.000 | 0.001 | |
| calculate_kmer_enrichment | 6.329 | 0.072 | 6.414 | |
| calculate_local_consistency | 0.695 | 0.008 | 0.704 | |
| calculate_motif_enrichment | 1.857 | 0.028 | 1.888 | |
| calculate_transcript_mc | 0.007 | 0.000 | 0.007 | |
| check_kmers | 0.001 | 0.000 | 0.001 | |
| classify_spectrum | 2.891 | 0.124 | 3.020 | |
| compute_kmer_enrichment | 3.119 | 0.060 | 3.184 | |
| create_kmer_motif | 0.003 | 0.000 | 0.003 | |
| create_matrix_motif | 0.003 | 0.000 | 0.003 | |
| draw_volcano_plot | 0.528 | 0.012 | 0.541 | |
| estimate_significance_core | 0.003 | 0.000 | 0.003 | |
| generate_iupac_by_kmers | 0.001 | 0.000 | 0.000 | |
| generate_iupac_by_matrix | 0.003 | 0.000 | 0.003 | |
| generate_kmers | 0.166 | 0.000 | 0.167 | |
| generate_kmers_from_iupac | 0.003 | 0.000 | 0.003 | |
| geometric_mean | 0 | 0 | 0 | |
| get_motif_by_id | 0.004 | 0.000 | 0.005 | |
| get_motif_by_rbp | 0.006 | 0.000 | 0.006 | |
| get_motifs | 0 | 0 | 0 | |
| get_motifs_meta_info | 0.012 | 0.004 | 0.016 | |
| get_ppm | 0.005 | 0.000 | 0.005 | |
| init_iupac_lookup_table | 0.003 | 0.000 | 0.003 | |
| p_combine | 0.001 | 0.000 | 0.001 | |
| run_kmer_spma | 47.965 | 0.419 | 48.480 | |
| run_kmer_tsma | 54.594 | 0.136 | 54.839 | |
| run_matrix_spma | 4.460 | 0.047 | 6.525 | |
| run_matrix_tsma | 0.028 | 0.000 | 0.029 | |
| score_sequences | 0.006 | 0.000 | 0.006 | |
| score_spectrum | 3.313 | 0.000 | 3.319 | |
| score_transcripts | 0.011 | 0.000 | 0.010 | |
| set_motifs | 0.003 | 0.000 | 0.003 | |
| subdivide_data | 0.007 | 0.000 | 0.007 | |