| Back to Multiple platform build/check report for BioC 3.18: simplified long |
|
This page was generated on 2023-11-02 11:41:23 -0400 (Thu, 02 Nov 2023).
| Hostname | OS | Arch (*) | R version | Installed pkgs |
|---|---|---|---|---|
| nebbiolo2 | Linux (Ubuntu 22.04.2 LTS) | x86_64 | 4.3.1 (2023-06-16) -- "Beagle Scouts" | 4729 |
| palomino4 | Windows Server 2022 Datacenter | x64 | 4.3.1 (2023-06-16 ucrt) -- "Beagle Scouts" | 4463 |
| lconway | macOS 12.6.5 Monterey | x86_64 | 4.3.1 Patched (2023-06-17 r84564) -- "Beagle Scouts" | 4478 |
| kunpeng2 | Linux (openEuler 22.03 LTS-SP1) | aarch64 | 4.3.1 (2023-06-16) -- "Beagle Scouts" | 4464 |
| Click on any hostname to see more info about the system (e.g. compilers) (*) as reported by 'uname -p', except on Windows and Mac OS X | ||||
| Package 2152/2266 | Hostname | OS / Arch | INSTALL | BUILD | CHECK | BUILD BIN | ||||||||
| topGO 2.54.0 (landing page) Adrian Alexa
| nebbiolo2 | Linux (Ubuntu 22.04.2 LTS) / x86_64 | OK | OK | OK | |||||||||
| palomino4 | Windows Server 2022 Datacenter / x64 | OK | OK | OK | OK | |||||||||
| lconway | macOS 12.6.5 Monterey / x86_64 | OK | OK | OK | OK | |||||||||
| kjohnson1 | macOS 13.6.1 Ventura / arm64 | see weekly results here | ||||||||||||
| kunpeng2 | Linux (openEuler 22.03 LTS-SP1) / aarch64 | OK | OK | OK | ||||||||||
|
To the developers/maintainers of the topGO package: - Allow up to 24 hours (and sometimes 48 hours) for your latest push to git@git.bioconductor.org:packages/topGO.git to reflect on this report. See Troubleshooting Build Report for more information. - Use the following Renviron settings to reproduce errors and warnings. - If 'R CMD check' started to fail recently on the Linux builder(s) over a missing dependency, add the missing dependency to 'Suggests:' in your DESCRIPTION file. See Renviron.bioc for more information. - See Martin Grigorov's blog post for how to debug Linux ARM64 related issues on a x86_64 host. |
| Package: topGO |
| Version: 2.54.0 |
| Command: /home/biocbuild/R/R-4.3.1/bin/R CMD check --install=check:topGO.install-out.txt --library=/home/biocbuild/R/R-4.3.1/site-library --no-vignettes --timings topGO_2.54.0.tar.gz |
| StartedAt: 2023-11-02 14:59:07 -0000 (Thu, 02 Nov 2023) |
| EndedAt: 2023-11-02 15:01:53 -0000 (Thu, 02 Nov 2023) |
| EllapsedTime: 166.3 seconds |
| RetCode: 0 |
| Status: OK |
| CheckDir: topGO.Rcheck |
| Warnings: 0 |
##############################################################################
##############################################################################
###
### Running command:
###
### /home/biocbuild/R/R-4.3.1/bin/R CMD check --install=check:topGO.install-out.txt --library=/home/biocbuild/R/R-4.3.1/site-library --no-vignettes --timings topGO_2.54.0.tar.gz
###
##############################################################################
##############################################################################
* using log directory ‘/home/biocbuild/bbs-3.18-bioc/meat/topGO.Rcheck’
* using R version 4.3.1 (2023-06-16)
* using platform: aarch64-unknown-linux-gnu (64-bit)
* R was compiled by
gcc (GCC) 10.3.1
GNU Fortran (GCC) 10.3.1
* running under: openEuler 22.03 (LTS-SP1)
* using session charset: UTF-8
* using option ‘--no-vignettes’
* checking for file ‘topGO/DESCRIPTION’ ... OK
* checking extension type ... Package
* this is package ‘topGO’ version ‘2.54.0’
* checking package namespace information ... OK
* checking package dependencies ... NOTE
Depends: includes the non-default packages:
'BiocGenerics', 'graph', 'Biobase', 'GO.db', 'AnnotationDbi',
'SparseM'
Adding so many packages to the search path is excessive and importing
selectively is preferable.
* checking if this is a source package ... OK
* checking if there is a namespace ... OK
* checking for hidden files and directories ... OK
* checking for portable file names ... OK
* checking for sufficient/correct file permissions ... OK
* checking whether package ‘topGO’ can be installed ... OK
* checking installed package size ... OK
* checking package directory ... OK
* checking ‘build’ directory ... OK
* checking DESCRIPTION meta-information ... OK
* checking top-level files ... OK
* checking for left-over files ... OK
* checking index information ... OK
* checking package subdirectories ... OK
* checking R files for non-ASCII characters ... OK
* checking R files for syntax errors ... OK
* checking whether the package can be loaded ... OK
* checking whether the package can be loaded with stated dependencies ... OK
* checking whether the package can be unloaded cleanly ... OK
* checking whether the namespace can be loaded with stated dependencies ... OK
* checking whether the namespace can be unloaded cleanly ... OK
* checking loading without being on the library search path ... OK
* checking startup messages can be suppressed ... NOTE
groupGOTerms: GOBPTerm, GOMFTerm, GOCCTerm environments built.
It looks like this package (or a package it requires) has a startup
message which cannot be suppressed: see ?packageStartupMessage.
* checking dependencies in R code ... NOTE
'library' or 'require' calls in package code:
‘Rgraphviz’ ‘multtest’
Please use :: or requireNamespace() instead.
See section 'Suggested packages' in the 'Writing R Extensions' manual.
Missing object imported by a ':::' call: ‘globaltest:::globaltest’
* checking S3 generic/method consistency ... OK
* checking replacement functions ... OK
* checking foreign function calls ... OK
* checking R code for possible problems ... NOTE
GOplot: no visible global function definition for ‘getDefaultAttrs’
GOplot: no visible global function definition for ‘agopen’
GOplot.counts : plotSigChart : buildDrawing : <anonymous>: no visible
global function definition for ‘getNodeCenter’
GOplot.counts : plotSigChart : buildDrawing : <anonymous>: no visible
global function definition for ‘pieGlyph’
GOplot.counts : plotSigChart : buildDrawing : <anonymous>: no visible
global function definition for ‘getX’
GOplot.counts : plotSigChart : buildDrawing : <anonymous>: no visible
global function definition for ‘getY’
GOplot.counts : plotSigChart : buildDrawing : <anonymous>: no visible
global function definition for ‘getNodeLW’
GOplot.counts : plotSigChart : buildDrawing : <anonymous>: no visible
global function definition for ‘drawTxtLabel’
GOplot.counts : plotSigChart : buildDrawing : <anonymous>: no visible
global function definition for ‘txtLabel’
GOplot.counts : plotSigChart: no visible global function definition for
‘AgNode’
GOplot.counts : plotSigChart : <anonymous>: no visible global function
definition for ‘name’
GOplot.counts : plotSigChart : <anonymous>: no visible global function
definition for ‘getNodeCenter’
GOplot.counts : plotSigChart: no visible global function definition for
‘getNodeXY’
GOplot.counts : plotSigChart: no visible global function definition for
‘getY’
GOplot.counts: no visible global function definition for
‘getDefaultAttrs’
GOplot.counts: no visible global function definition for ‘agopen’
getPvalues: no visible global function definition for ‘mt.teststat’
getPvalues: no visible global function definition for ‘mt.rawp2adjp’
printDOT: no visible global function definition for ‘getDefaultAttrs’
printDOT: no visible global function definition for ‘toDot’
GOSumTest,classicScore: no visible binding for global variable
‘.PERMSUM.MAT’
GOSumTest,classicScore: no visible binding for global variable
‘.PERMSUM.LOOKUP’
initialize,classicExpr: no visible global function definition for
‘error’
scoresInTerm,topGOdata-missing: no visible global function definition
for ‘scoreInNode’
Undefined global functions or variables:
.PERMSUM.LOOKUP .PERMSUM.MAT AgNode agopen drawTxtLabel error
getDefaultAttrs getNodeCenter getNodeLW getNodeXY getX getY
mt.rawp2adjp mt.teststat name pieGlyph scoreInNode toDot txtLabel
* checking Rd files ... OK
* checking Rd metadata ... OK
* checking Rd cross-references ... OK
* checking for missing documentation entries ... OK
* checking for code/documentation mismatches ... OK
* checking Rd \usage sections ... OK
* checking Rd contents ... OK
* checking for unstated dependencies in examples ... OK
* checking contents of ‘data’ directory ... OK
* checking data for non-ASCII characters ... OK
* checking data for ASCII and uncompressed saves ... OK
* checking files in ‘vignettes’ ... OK
* checking examples ... OK
Examples with CPU (user + system) or elapsed time > 5s
user system elapsed
topGOdata-class 6.294 0.076 6.452
* checking for unstated dependencies in vignettes ... OK
* checking package vignettes in ‘inst/doc’ ... OK
* checking running R code from vignettes ... SKIPPED
* checking re-building of vignette outputs ... SKIPPED
* checking PDF version of manual ... OK
* DONE
Status: 4 NOTEs
See
‘/home/biocbuild/bbs-3.18-bioc/meat/topGO.Rcheck/00check.log’
for details.
topGO.Rcheck/00install.out
############################################################################## ############################################################################## ### ### Running command: ### ### /home/biocbuild/R/R-4.3.1/bin/R CMD INSTALL topGO ### ############################################################################## ############################################################################## * installing to library ‘/home/biocbuild/R/R-4.3.1/site-library’ * installing *source* package ‘topGO’ ... ** using staged installation ** R ** data ** inst ** byte-compile and prepare package for lazy loading ** help *** installing help indices ** building package indices ** installing vignettes ** testing if installed package can be loaded from temporary location groupGOTerms: GOBPTerm, GOMFTerm, GOCCTerm environments built. ** testing if installed package can be loaded from final location groupGOTerms: GOBPTerm, GOMFTerm, GOCCTerm environments built. ** testing if installed package keeps a record of temporary installation path * DONE (topGO)
topGO.Rcheck/topGO-Ex.timings
| name | user | system | elapsed | |
| GOdata | 0.044 | 0.000 | 0.044 | |
| annFUN | 0.979 | 0.096 | 1.335 | |
| classicCount-class | 0 | 0 | 0 | |
| classicExpr-class | 0.000 | 0.002 | 0.002 | |
| classicScore-class | 0.002 | 0.002 | 0.004 | |
| dagFunctions | 0 | 0 | 0 | |
| diagnosticMethods | 0.316 | 0.004 | 0.322 | |
| elimExpr-class | 0.000 | 0.000 | 0.001 | |
| elimScore-class | 0 | 0 | 0 | |
| geneList | 0.002 | 0.000 | 0.002 | |
| getPvalues | 4.093 | 0.092 | 4.197 | |
| getSigGroups | 3.377 | 0.092 | 3.476 | |
| groupGOTerms | 0.371 | 0.000 | 0.372 | |
| inducedGraph | 0.038 | 0.004 | 0.042 | |
| parentChild-class | 0.002 | 0.000 | 0.001 | |
| printGraph-methods | 0.000 | 0.000 | 0.001 | |
| topGOdata-class | 6.294 | 0.076 | 6.452 | |
| topGOresult-class | 0.022 | 0.004 | 0.025 | |