| Back to Multiple platform build/check report for BioC 3.18: simplified long |
|
This page was generated on 2023-11-02 11:41:22 -0400 (Thu, 02 Nov 2023).
| Hostname | OS | Arch (*) | R version | Installed pkgs |
|---|---|---|---|---|
| nebbiolo2 | Linux (Ubuntu 22.04.2 LTS) | x86_64 | 4.3.1 (2023-06-16) -- "Beagle Scouts" | 4729 |
| palomino4 | Windows Server 2022 Datacenter | x64 | 4.3.1 (2023-06-16 ucrt) -- "Beagle Scouts" | 4463 |
| lconway | macOS 12.6.5 Monterey | x86_64 | 4.3.1 Patched (2023-06-17 r84564) -- "Beagle Scouts" | 4478 |
| kunpeng2 | Linux (openEuler 22.03 LTS-SP1) | aarch64 | 4.3.1 (2023-06-16) -- "Beagle Scouts" | 4464 |
| Click on any hostname to see more info about the system (e.g. compilers) (*) as reported by 'uname -p', except on Windows and Mac OS X | ||||
| Package 2131/2266 | Hostname | OS / Arch | INSTALL | BUILD | CHECK | BUILD BIN | ||||||||
| tigre 1.56.0 (landing page) Antti Honkela
| nebbiolo2 | Linux (Ubuntu 22.04.2 LTS) / x86_64 | OK | OK | OK | |||||||||
| palomino4 | Windows Server 2022 Datacenter / x64 | OK | OK | OK | OK | |||||||||
| lconway | macOS 12.6.5 Monterey / x86_64 | OK | OK | OK | OK | |||||||||
| kjohnson1 | macOS 13.6.1 Ventura / arm64 | see weekly results here | ||||||||||||
| kunpeng2 | Linux (openEuler 22.03 LTS-SP1) / aarch64 | OK | OK | OK | ||||||||||
|
To the developers/maintainers of the tigre package: - Allow up to 24 hours (and sometimes 48 hours) for your latest push to git@git.bioconductor.org:packages/tigre.git to reflect on this report. See Troubleshooting Build Report for more information. - Use the following Renviron settings to reproduce errors and warnings. - If 'R CMD check' started to fail recently on the Linux builder(s) over a missing dependency, add the missing dependency to 'Suggests:' in your DESCRIPTION file. See Renviron.bioc for more information. - See Martin Grigorov's blog post for how to debug Linux ARM64 related issues on a x86_64 host. |
| Package: tigre |
| Version: 1.56.0 |
| Command: /home/biocbuild/R/R-4.3.1/bin/R CMD check --install=check:tigre.install-out.txt --library=/home/biocbuild/R/R-4.3.1/site-library --no-vignettes --timings tigre_1.56.0.tar.gz |
| StartedAt: 2023-11-02 14:53:18 -0000 (Thu, 02 Nov 2023) |
| EndedAt: 2023-11-02 14:56:14 -0000 (Thu, 02 Nov 2023) |
| EllapsedTime: 175.3 seconds |
| RetCode: 0 |
| Status: OK |
| CheckDir: tigre.Rcheck |
| Warnings: 0 |
##############################################################################
##############################################################################
###
### Running command:
###
### /home/biocbuild/R/R-4.3.1/bin/R CMD check --install=check:tigre.install-out.txt --library=/home/biocbuild/R/R-4.3.1/site-library --no-vignettes --timings tigre_1.56.0.tar.gz
###
##############################################################################
##############################################################################
* using log directory ‘/home/biocbuild/bbs-3.18-bioc/meat/tigre.Rcheck’
* using R version 4.3.1 (2023-06-16)
* using platform: aarch64-unknown-linux-gnu (64-bit)
* R was compiled by
gcc (GCC) 10.3.1
GNU Fortran (GCC) 10.3.1
* running under: openEuler 22.03 (LTS-SP1)
* using session charset: UTF-8
* using option ‘--no-vignettes’
* checking for file ‘tigre/DESCRIPTION’ ... OK
* this is package ‘tigre’ version ‘1.56.0’
* checking package namespace information ... OK
* checking package dependencies ... OK
* checking if this is a source package ... OK
* checking if there is a namespace ... OK
* checking for hidden files and directories ... OK
* checking for portable file names ... OK
* checking for sufficient/correct file permissions ... OK
* checking whether package ‘tigre’ can be installed ... OK
* used C compiler: ‘gcc (GCC) 10.3.1’
* checking installed package size ... OK
* checking package directory ... OK
* checking ‘build’ directory ... OK
* checking DESCRIPTION meta-information ... OK
* checking top-level files ... OK
* checking for left-over files ... OK
* checking index information ... OK
* checking package subdirectories ... OK
* checking R files for non-ASCII characters ... OK
* checking R files for syntax errors ... OK
* checking whether the package can be loaded ... OK
* checking whether the package can be loaded with stated dependencies ... OK
* checking whether the package can be unloaded cleanly ... OK
* checking whether the namespace can be loaded with stated dependencies ... OK
* checking whether the namespace can be unloaded cleanly ... OK
* checking loading without being on the library search path ... OK
* checking dependencies in R code ... OK
* checking S3 generic/method consistency ... OK
* checking replacement functions ... OK
* checking foreign function calls ... OK
* checking R code for possible problems ... OK
* checking Rd files ... OK
* checking Rd metadata ... OK
* checking Rd cross-references ... OK
* checking for missing documentation entries ... OK
* checking for code/documentation mismatches ... OK
* checking Rd \usage sections ... OK
* checking Rd contents ... OK
* checking for unstated dependencies in examples ... OK
* checking contents of ‘data’ directory ... OK
* checking data for non-ASCII characters ... OK
* checking data for ASCII and uncompressed saves ... OK
* checking line endings in C/C++/Fortran sources/headers ... OK
* checking compiled code ... NOTE
Note: information on .o files is not available
* checking files in ‘vignettes’ ... OK
* checking examples ... OK
Examples with CPU (user + system) or elapsed time > 5s
user system elapsed
processData 7.275 0.24 7.526
* checking for unstated dependencies in vignettes ... OK
* checking package vignettes in ‘inst/doc’ ... OK
* checking running R code from vignettes ... SKIPPED
* checking re-building of vignette outputs ... SKIPPED
* checking PDF version of manual ... OK
* DONE
Status: 1 NOTE
See
‘/home/biocbuild/bbs-3.18-bioc/meat/tigre.Rcheck/00check.log’
for details.
tigre.Rcheck/00install.out
############################################################################## ############################################################################## ### ### Running command: ### ### /home/biocbuild/R/R-4.3.1/bin/R CMD INSTALL tigre ### ############################################################################## ############################################################################## * installing to library ‘/home/biocbuild/R/R-4.3.1/site-library’ * installing *source* package ‘tigre’ ... ** using staged installation ** libs using C compiler: ‘gcc (GCC) 10.3.1’ gcc -I"/home/biocbuild/R/R-4.3.1/include" -DNDEBUG -I/usr/local/include -fPIC -g -O2 -Wall -c miscCFunctions.c -o miscCFunctions.o gcc -shared -L/home/biocbuild/R/R-4.3.1/lib -L/usr/local/lib -o tigre.so miscCFunctions.o -L/home/biocbuild/R/R-4.3.1/lib -lR installing to /home/biocbuild/R/R-4.3.1/site-library/00LOCK-tigre/00new/tigre/libs ** R ** data ** inst ** byte-compile and prepare package for lazy loading ** help *** installing help indices ** building package indices ** installing vignettes ** testing if installed package can be loaded from temporary location ** checking absolute paths in shared objects and dynamic libraries ** testing if installed package can be loaded from final location ** testing if installed package keeps a record of temporary installation path * DONE (tigre)
tigre.Rcheck/tigre-Ex.timings
| name | user | system | elapsed | |
| ExpressionTimeSeries-class | 0.001 | 0.000 | 0.002 | |
| GPLearn | 1.468 | 0.043 | 1.594 | |
| GPModel-class | 0.001 | 0.000 | 0.000 | |
| GPPlot | 0.000 | 0.001 | 0.000 | |
| GPRankTargets | 0 | 0 | 0 | |
| SCGoptim | 0.000 | 0.000 | 0.001 | |
| expTransform | 0 | 0 | 0 | |
| export | 0 | 0 | 0 | |
| generateModels | 0 | 0 | 0 | |
| gpsimCreate | 0 | 0 | 0 | |
| kernCompute | 0.000 | 0.000 | 0.001 | |
| kernCreate | 0.007 | 0.001 | 0.009 | |
| kernDiagGradX | 0.001 | 0.000 | 0.001 | |
| kernGradient | 0.002 | 0.000 | 0.001 | |
| lnDiffErfs | 0.001 | 0.000 | 0.001 | |
| modelDisplay | 0.109 | 0.000 | 0.109 | |
| modelExpandParam | 0.001 | 0.000 | 0.000 | |
| modelExtractParam | 0.122 | 0.000 | 0.122 | |
| modelGradient | 0.147 | 0.000 | 0.148 | |
| modelTieParam | 0.007 | 0.000 | 0.007 | |
| optimiDefaultConstraint | 0 | 0 | 0 | |
| plotTimeseries | 0.145 | 0.004 | 0.153 | |
| processData | 7.275 | 0.240 | 7.526 | |
| scoreList-class | 0.001 | 0.000 | 0.000 | |
| tigre-package | 0.001 | 0.000 | 0.000 | |