| Back to Multiple platform build/check report for BioC 3.18: simplified long |
|
This page was generated on 2023-11-02 11:41:21 -0400 (Thu, 02 Nov 2023).
| Hostname | OS | Arch (*) | R version | Installed pkgs |
|---|---|---|---|---|
| nebbiolo2 | Linux (Ubuntu 22.04.2 LTS) | x86_64 | 4.3.1 (2023-06-16) -- "Beagle Scouts" | 4729 |
| palomino4 | Windows Server 2022 Datacenter | x64 | 4.3.1 (2023-06-16 ucrt) -- "Beagle Scouts" | 4463 |
| lconway | macOS 12.6.5 Monterey | x86_64 | 4.3.1 Patched (2023-06-17 r84564) -- "Beagle Scouts" | 4478 |
| kunpeng2 | Linux (openEuler 22.03 LTS-SP1) | aarch64 | 4.3.1 (2023-06-16) -- "Beagle Scouts" | 4464 |
| Click on any hostname to see more info about the system (e.g. compilers) (*) as reported by 'uname -p', except on Windows and Mac OS X | ||||
| Package 2102/2266 | Hostname | OS / Arch | INSTALL | BUILD | CHECK | BUILD BIN | ||||||||
| tadar 1.0.0 (landing page) Lachlan Baer
| nebbiolo2 | Linux (Ubuntu 22.04.2 LTS) / x86_64 | OK | OK | OK | |||||||||
| palomino4 | Windows Server 2022 Datacenter / x64 | OK | OK | OK | OK | |||||||||
| lconway | macOS 12.6.5 Monterey / x86_64 | OK | OK | OK | OK | |||||||||
| kjohnson1 | macOS 13.6.1 Ventura / arm64 | see weekly results here | ||||||||||||
| kunpeng2 | Linux (openEuler 22.03 LTS-SP1) / aarch64 | OK | OK | OK | ||||||||||
|
To the developers/maintainers of the tadar package: - Allow up to 24 hours (and sometimes 48 hours) for your latest push to git@git.bioconductor.org:packages/tadar.git to reflect on this report. See Troubleshooting Build Report for more information. - Use the following Renviron settings to reproduce errors and warnings. - If 'R CMD check' started to fail recently on the Linux builder(s) over a missing dependency, add the missing dependency to 'Suggests:' in your DESCRIPTION file. See Renviron.bioc for more information. - See Martin Grigorov's blog post for how to debug Linux ARM64 related issues on a x86_64 host. |
| Package: tadar |
| Version: 1.0.0 |
| Command: /home/biocbuild/R/R-4.3.1/bin/R CMD check --install=check:tadar.install-out.txt --library=/home/biocbuild/R/R-4.3.1/site-library --no-vignettes --timings tadar_1.0.0.tar.gz |
| StartedAt: 2023-11-02 14:48:24 -0000 (Thu, 02 Nov 2023) |
| EndedAt: 2023-11-02 14:59:07 -0000 (Thu, 02 Nov 2023) |
| EllapsedTime: 643.1 seconds |
| RetCode: 0 |
| Status: OK |
| CheckDir: tadar.Rcheck |
| Warnings: 0 |
##############################################################################
##############################################################################
###
### Running command:
###
### /home/biocbuild/R/R-4.3.1/bin/R CMD check --install=check:tadar.install-out.txt --library=/home/biocbuild/R/R-4.3.1/site-library --no-vignettes --timings tadar_1.0.0.tar.gz
###
##############################################################################
##############################################################################
* using log directory ‘/home/biocbuild/bbs-3.18-bioc/meat/tadar.Rcheck’
* using R version 4.3.1 (2023-06-16)
* using platform: aarch64-unknown-linux-gnu (64-bit)
* R was compiled by
gcc (GCC) 10.3.1
GNU Fortran (GCC) 10.3.1
* running under: openEuler 22.03 (LTS-SP1)
* using session charset: UTF-8
* using option ‘--no-vignettes’
* checking for file ‘tadar/DESCRIPTION’ ... OK
* this is package ‘tadar’ version ‘1.0.0’
* package encoding: UTF-8
* checking package namespace information ... OK
* checking package dependencies ... OK
* checking if this is a source package ... OK
* checking if there is a namespace ... OK
* checking for hidden files and directories ... OK
* checking for portable file names ... OK
* checking for sufficient/correct file permissions ... OK
* checking whether package ‘tadar’ can be installed ... OK
* checking installed package size ... OK
* checking package directory ... OK
* checking ‘build’ directory ... OK
* checking DESCRIPTION meta-information ... OK
* checking top-level files ... OK
* checking for left-over files ... OK
* checking index information ... OK
* checking package subdirectories ... OK
* checking R files for non-ASCII characters ... OK
* checking R files for syntax errors ... OK
* checking whether the package can be loaded ... OK
* checking whether the package can be loaded with stated dependencies ... OK
* checking whether the package can be unloaded cleanly ... OK
* checking whether the namespace can be loaded with stated dependencies ... OK
* checking whether the namespace can be unloaded cleanly ... OK
* checking loading without being on the library search path ... OK
* checking dependencies in R code ... OK
* checking S3 generic/method consistency ... OK
* checking replacement functions ... OK
* checking foreign function calls ... OK
* checking R code for possible problems ... OK
* checking Rd files ... OK
* checking Rd metadata ... OK
* checking Rd cross-references ... OK
* checking for missing documentation entries ... OK
* checking for code/documentation mismatches ... OK
* checking Rd \usage sections ... OK
* checking Rd contents ... OK
* checking for unstated dependencies in examples ... OK
* checking contents of ‘data’ directory ... OK
* checking data for non-ASCII characters ... OK
* checking data for ASCII and uncompressed saves ... OK
* checking files in ‘vignettes’ ... OK
* checking examples ... OK
Examples with CPU (user + system) or elapsed time > 5s
user system elapsed
flipRanges-methods 27.116 0.727 27.881
plotChrDar-methods 18.324 0.587 18.937
assignFeatureDar-methods 11.634 0.364 12.018
dar-methods 6.753 0.120 6.880
* checking for unstated dependencies in ‘tests’ ... OK
* checking tests ...
Running ‘testthat.R’
OK
* checking for unstated dependencies in vignettes ... OK
* checking package vignettes in ‘inst/doc’ ... OK
* checking running R code from vignettes ... SKIPPED
* checking re-building of vignette outputs ... SKIPPED
* checking PDF version of manual ... OK
* DONE
Status: OK
tadar.Rcheck/00install.out
############################################################################## ############################################################################## ### ### Running command: ### ### /home/biocbuild/R/R-4.3.1/bin/R CMD INSTALL tadar ### ############################################################################## ############################################################################## * installing to library ‘/home/biocbuild/R/R-4.3.1/site-library’ * installing *source* package ‘tadar’ ... ** using staged installation ** R ** data ** inst ** byte-compile and prepare package for lazy loading ** help *** installing help indices ** building package indices ** installing vignettes ** testing if installed package can be loaded from temporary location ** testing if installed package can be loaded from final location ** testing if installed package keeps a record of temporary installation path * DONE (tadar)
tadar.Rcheck/tests/testthat.Rout
R version 4.3.1 (2023-06-16) -- "Beagle Scouts"
Copyright (C) 2023 The R Foundation for Statistical Computing
Platform: aarch64-unknown-linux-gnu (64-bit)
R is free software and comes with ABSOLUTELY NO WARRANTY.
You are welcome to redistribute it under certain conditions.
Type 'license()' or 'licence()' for distribution details.
R is a collaborative project with many contributors.
Type 'contributors()' for more information and
'citation()' on how to cite R or R packages in publications.
Type 'demo()' for some demos, 'help()' for on-line help, or
'help.start()' for an HTML browser interface to help.
Type 'q()' to quit R.
> # This file is part of the standard setup for testthat.
> # It is recommended that you do not modify it.
> #
> # Where should you do additional test configuration?
> # Learn more about the roles of various files in:
> # * https://r-pkgs.org/tests.html
> # * https://testthat.r-lib.org/reference/test_package.html#special-files
>
> library(testthat)
> library(tadar)
Loading required package: GenomicRanges
Loading required package: stats4
Loading required package: BiocGenerics
Attaching package: 'BiocGenerics'
The following objects are masked from 'package:stats':
IQR, mad, sd, var, xtabs
The following objects are masked from 'package:base':
Filter, Find, Map, Position, Reduce, anyDuplicated, aperm, append,
as.data.frame, basename, cbind, colnames, dirname, do.call,
duplicated, eval, evalq, get, grep, grepl, intersect, is.unsorted,
lapply, mapply, match, mget, order, paste, pmax, pmax.int, pmin,
pmin.int, rank, rbind, rownames, sapply, setdiff, sort, table,
tapply, union, unique, unsplit, which.max, which.min
Loading required package: S4Vectors
Attaching package: 'S4Vectors'
The following object is masked from 'package:utils':
findMatches
The following objects are masked from 'package:base':
I, expand.grid, unname
Loading required package: IRanges
Loading required package: GenomeInfoDb
Loading required package: ggplot2
>
> test_check("tadar")
List of 9
$ data :'data.frame': 2500 obs. of 3 variables:
..$ Chromosome : Factor w/ 25 levels "1","2","3","4",..: 1 1 1 1 1 1 1 1 1 1 ...
..$ dar : num [1:2500] 0.7969 0.205 0.4685 0.7778 0.0317 ...
..$ line_colour: Factor w/ 25 levels "1","2","3","4",..: 1 1 1 1 1 1 1 1 1 1 ...
$ layers :List of 1
..$ :Classes 'LayerInstance', 'Layer', 'ggproto', 'gg' <ggproto object: Class LayerInstance, Layer, gg>
aes_params: list
compute_aesthetics: function
compute_geom_1: function
compute_geom_2: function
compute_position: function
compute_statistic: function
computed_geom_params: NULL
computed_mapping: NULL
computed_stat_params: NULL
constructor: call
data: waiver
draw_geom: function
finish_statistics: function
geom: <ggproto object: Class GeomStep, GeomPath, Geom, gg>
aesthetics: function
default_aes: uneval
draw_group: function
draw_key: function
draw_layer: function
draw_panel: function
extra_params: na.rm
handle_na: function
non_missing_aes:
optional_aes:
parameters: function
rename_size: TRUE
required_aes: x y
setup_data: function
setup_params: function
use_defaults: function
super: <ggproto object: Class GeomPath, Geom, gg>
geom_params: list
inherit.aes: TRUE
layer_data: function
map_statistic: function
mapping: NULL
position: <ggproto object: Class PositionIdentity, Position, gg>
compute_layer: function
compute_panel: function
required_aes:
setup_data: function
setup_params: function
super: <ggproto object: Class Position, gg>
print: function
setup_layer: function
show.legend: NA
stat: <ggproto object: Class StatEcdf, Stat, gg>
aesthetics: function
compute_group: function
compute_layer: function
compute_panel: function
default_aes: uneval
dropped_aes:
extra_params: na.rm
finish_layer: function
non_missing_aes:
optional_aes:
parameters: function
required_aes: x|y
retransform: TRUE
setup_data: function
setup_params: function
super: <ggproto object: Class Stat, gg>
stat_params: list
super: <ggproto object: Class Layer, gg>
$ scales :Classes 'ScalesList', 'ggproto', 'gg' <ggproto object: Class ScalesList, gg>
add: function
clone: function
find: function
get_scales: function
has_scale: function
input: function
n: function
non_position_scales: function
scales: list
super: <ggproto object: Class ScalesList, gg>
$ mapping :List of 3
..$ x : language ~dar
.. ..- attr(*, ".Environment")=<environment: 0x4ac97d20>
..$ group : language ~Chromosome
.. ..- attr(*, ".Environment")=<environment: 0x4ac97d20>
..$ colour: language ~line_colour
.. ..- attr(*, ".Environment")=<environment: 0x4ac97d20>
..- attr(*, "class")= chr "uneval"
$ theme : list()
$ coordinates:Classes 'CoordCartesian', 'Coord', 'ggproto', 'gg' <ggproto object: Class CoordCartesian, Coord, gg>
aspect: function
backtransform_range: function
clip: on
default: TRUE
distance: function
expand: TRUE
is_free: function
is_linear: function
labels: function
limits: list
modify_scales: function
range: function
render_axis_h: function
render_axis_v: function
render_bg: function
render_fg: function
setup_data: function
setup_layout: function
setup_panel_guides: function
setup_panel_params: function
setup_params: function
train_panel_guides: function
transform: function
super: <ggproto object: Class CoordCartesian, Coord, gg>
$ facet :Classes 'FacetNull', 'Facet', 'ggproto', 'gg' <ggproto object: Class FacetNull, Facet, gg>
compute_layout: function
draw_back: function
draw_front: function
draw_labels: function
draw_panels: function
finish_data: function
init_scales: function
map_data: function
params: list
setup_data: function
setup_params: function
shrink: TRUE
train_scales: function
vars: function
super: <ggproto object: Class FacetNull, Facet, gg>
$ plot_env :<environment: 0x4ac97d20>
$ labels :List of 4
..$ x : chr "DAR"
..$ y : chr "F(DAR)"
..$ colour: chr "Chromosome"
..$ group : chr "Chromosome"
- attr(*, "class")= chr [1:2] "gg" "ggplot"
[ FAIL 0 | WARN 0 | SKIP 0 | PASS 127 ]
>
> proc.time()
user system elapsed
140.852 2.261 143.370
tadar.Rcheck/tadar-Ex.timings
| name | user | system | elapsed | |
| assignFeatureDar-methods | 11.634 | 0.364 | 12.018 | |
| countAlleles-methods | 4.670 | 0.065 | 4.742 | |
| countsToProps-methods | 4.680 | 0.016 | 4.703 | |
| dar-methods | 6.753 | 0.120 | 6.880 | |
| filterLoci-methods | 4.481 | 0.020 | 4.505 | |
| flipRanges-methods | 27.116 | 0.727 | 27.881 | |
| plotChrDar-methods | 18.324 | 0.587 | 18.937 | |
| plotDarECDF-methods | 1.434 | 0.032 | 1.468 | |
| readGenotypes-methods | 3.535 | 0.008 | 3.548 | |
| unphaseGT-methods | 3.756 | 0.240 | 4.001 | |