| Back to Multiple platform build/check report for BioC 3.18: simplified long |
|
This page was generated on 2023-11-02 11:41:20 -0400 (Thu, 02 Nov 2023).
| Hostname | OS | Arch (*) | R version | Installed pkgs |
|---|---|---|---|---|
| nebbiolo2 | Linux (Ubuntu 22.04.2 LTS) | x86_64 | 4.3.1 (2023-06-16) -- "Beagle Scouts" | 4729 |
| palomino4 | Windows Server 2022 Datacenter | x64 | 4.3.1 (2023-06-16 ucrt) -- "Beagle Scouts" | 4463 |
| lconway | macOS 12.6.5 Monterey | x86_64 | 4.3.1 Patched (2023-06-17 r84564) -- "Beagle Scouts" | 4478 |
| kunpeng2 | Linux (openEuler 22.03 LTS-SP1) | aarch64 | 4.3.1 (2023-06-16) -- "Beagle Scouts" | 4464 |
| Click on any hostname to see more info about the system (e.g. compilers) (*) as reported by 'uname -p', except on Windows and Mac OS X | ||||
| Package 2070/2266 | Hostname | OS / Arch | INSTALL | BUILD | CHECK | BUILD BIN | ||||||||
| structToolbox 1.14.0 (landing page) Gavin Rhys Lloyd
| nebbiolo2 | Linux (Ubuntu 22.04.2 LTS) / x86_64 | OK | OK | OK | |||||||||
| palomino4 | Windows Server 2022 Datacenter / x64 | OK | OK | OK | OK | |||||||||
| lconway | macOS 12.6.5 Monterey / x86_64 | OK | OK | OK | OK | |||||||||
| kjohnson1 | macOS 13.6.1 Ventura / arm64 | see weekly results here | ||||||||||||
| kunpeng2 | Linux (openEuler 22.03 LTS-SP1) / aarch64 | OK | OK | OK | ||||||||||
|
To the developers/maintainers of the structToolbox package: - Allow up to 24 hours (and sometimes 48 hours) for your latest push to git@git.bioconductor.org:packages/structToolbox.git to reflect on this report. See Troubleshooting Build Report for more information. - Use the following Renviron settings to reproduce errors and warnings. - If 'R CMD check' started to fail recently on the Linux builder(s) over a missing dependency, add the missing dependency to 'Suggests:' in your DESCRIPTION file. See Renviron.bioc for more information. - See Martin Grigorov's blog post for how to debug Linux ARM64 related issues on a x86_64 host. |
| Package: structToolbox |
| Version: 1.14.0 |
| Command: /home/biocbuild/R/R-4.3.1/bin/R CMD check --install=check:structToolbox.install-out.txt --library=/home/biocbuild/R/R-4.3.1/site-library --no-vignettes --timings structToolbox_1.14.0.tar.gz |
| StartedAt: 2023-11-02 14:42:30 -0000 (Thu, 02 Nov 2023) |
| EndedAt: 2023-11-02 14:53:18 -0000 (Thu, 02 Nov 2023) |
| EllapsedTime: 648.2 seconds |
| RetCode: 0 |
| Status: OK |
| CheckDir: structToolbox.Rcheck |
| Warnings: 0 |
##############################################################################
##############################################################################
###
### Running command:
###
### /home/biocbuild/R/R-4.3.1/bin/R CMD check --install=check:structToolbox.install-out.txt --library=/home/biocbuild/R/R-4.3.1/site-library --no-vignettes --timings structToolbox_1.14.0.tar.gz
###
##############################################################################
##############################################################################
* using log directory ‘/home/biocbuild/bbs-3.18-bioc/meat/structToolbox.Rcheck’
* using R version 4.3.1 (2023-06-16)
* using platform: aarch64-unknown-linux-gnu (64-bit)
* R was compiled by
gcc (GCC) 10.3.1
GNU Fortran (GCC) 10.3.1
* running under: openEuler 22.03 (LTS-SP1)
* using session charset: UTF-8
* using option ‘--no-vignettes’
* checking for file ‘structToolbox/DESCRIPTION’ ... OK
* checking extension type ... Package
* this is package ‘structToolbox’ version ‘1.14.0’
* package encoding: UTF-8
* checking package namespace information ... OK
* checking package dependencies ... OK
* checking if this is a source package ... OK
* checking if there is a namespace ... OK
* checking for hidden files and directories ... OK
* checking for portable file names ... OK
* checking for sufficient/correct file permissions ... OK
* checking whether package ‘structToolbox’ can be installed ... OK
* checking installed package size ... OK
* checking package directory ... OK
* checking ‘build’ directory ... OK
* checking DESCRIPTION meta-information ... OK
* checking top-level files ... OK
* checking for left-over files ... OK
* checking index information ... OK
* checking package subdirectories ... OK
* checking R files for non-ASCII characters ... OK
* checking R files for syntax errors ... OK
* checking whether the package can be loaded ... OK
* checking whether the package can be loaded with stated dependencies ... OK
* checking whether the package can be unloaded cleanly ... OK
* checking whether the namespace can be loaded with stated dependencies ... OK
* checking whether the namespace can be unloaded cleanly ... OK
* checking loading without being on the library search path ... OK
* checking dependencies in R code ... OK
* checking S3 generic/method consistency ... OK
* checking replacement functions ... OK
* checking foreign function calls ... OK
* checking R code for possible problems ... OK
* checking Rd files ... OK
* checking Rd metadata ... OK
* checking Rd cross-references ... OK
* checking for missing documentation entries ... OK
* checking for code/documentation mismatches ... OK
* checking Rd \usage sections ... OK
* checking Rd contents ... OK
* checking for unstated dependencies in examples ... OK
* checking R/sysdata.rda ... OK
* checking files in ‘vignettes’ ... OK
* checking examples ... OK
Examples with CPU (user + system) or elapsed time > 5s
user system elapsed
fold_change_int 26.970 0.135 27.158
fold_change 16.916 0.080 17.025
fisher_exact 14.517 0.136 14.680
fs_line 9.517 0.044 9.578
forward_selection_by_rank 9.073 0.072 9.161
kfoldxcv_grid 6.281 0.052 6.345
grid_search_1d 5.997 0.068 6.075
compare_dist 5.481 0.208 5.699
* checking for unstated dependencies in ‘tests’ ... OK
* checking tests ...
Running ‘testthat.R’
OK
* checking for unstated dependencies in vignettes ... OK
* checking package vignettes in ‘inst/doc’ ... OK
* checking running R code from vignettes ... SKIPPED
* checking re-building of vignette outputs ... SKIPPED
* checking PDF version of manual ... OK
* DONE
Status: OK
structToolbox.Rcheck/00install.out
############################################################################## ############################################################################## ### ### Running command: ### ### /home/biocbuild/R/R-4.3.1/bin/R CMD INSTALL structToolbox ### ############################################################################## ############################################################################## * installing to library ‘/home/biocbuild/R/R-4.3.1/site-library’ * installing *source* package ‘structToolbox’ ... ** using staged installation ** R ** inst ** byte-compile and prepare package for lazy loading ** help *** installing help indices ** building package indices ** installing vignettes ** testing if installed package can be loaded from temporary location ** testing if installed package can be loaded from final location ** testing if installed package keeps a record of temporary installation path * DONE (structToolbox)
structToolbox.Rcheck/tests/testthat.Rout
R version 4.3.1 (2023-06-16) -- "Beagle Scouts"
Copyright (C) 2023 The R Foundation for Statistical Computing
Platform: aarch64-unknown-linux-gnu (64-bit)
R is free software and comes with ABSOLUTELY NO WARRANTY.
You are welcome to redistribute it under certain conditions.
Type 'license()' or 'licence()' for distribution details.
R is a collaborative project with many contributors.
Type 'contributors()' for more information and
'citation()' on how to cite R or R packages in publications.
Type 'demo()' for some demos, 'help()' for on-line help, or
'help.start()' for an HTML browser interface to help.
Type 'q()' to quit R.
> library(testthat)
> library(ggplot2)
> library(structToolbox)
Loading required package: struct
>
> test_check("structToolbox")
[ FAIL 0 | WARN 5 | SKIP 0 | PASS 156 ]
[ FAIL 0 | WARN 5 | SKIP 0 | PASS 156 ]
>
> proc.time()
user system elapsed
257.683 1.538 259.682
structToolbox.Rcheck/structToolbox-Ex.timings
| name | user | system | elapsed | |
| ANOVA | 0.268 | 0.004 | 0.272 | |
| AUC | 2.729 | 0.088 | 2.822 | |
| DFA | 0.273 | 0.008 | 0.283 | |
| DatasetExperiment_boxplot | 1.660 | 0.527 | 2.191 | |
| DatasetExperiment_dist | 2.457 | 0.251 | 2.713 | |
| DatasetExperiment_factor_boxplot | 0.291 | 0.004 | 0.295 | |
| DatasetExperiment_heatmap | 0.375 | 0.028 | 0.403 | |
| HCA | 0.077 | 0.008 | 0.085 | |
| HSD | 0.389 | 0.028 | 0.423 | |
| HSDEM | 0.399 | 0.028 | 0.427 | |
| MTBLS79_DatasetExperiment | 0.002 | 0.000 | 0.001 | |
| OPLSDA | 0.008 | 0.000 | 0.009 | |
| OPLSR | 0.015 | 0.000 | 0.016 | |
| PCA | 0.006 | 0.000 | 0.007 | |
| PLSDA | 0.029 | 0.000 | 0.029 | |
| PLSR | 0.007 | 0.000 | 0.007 | |
| SVM | 0.016 | 0.000 | 0.017 | |
| as_data_frame | 0.173 | 0.012 | 0.185 | |
| autoscale | 0.101 | 0.004 | 0.105 | |
| balanced_accuracy | 2.572 | 0.080 | 2.656 | |
| blank_filter | 0.487 | 0.019 | 0.509 | |
| blank_filter_hist | 0.001 | 0.000 | 0.000 | |
| bootstrap | 0.007 | 0.000 | 0.008 | |
| calculate | 0.007 | 0.000 | 0.008 | |
| chart_plot | 0.034 | 0.004 | 0.038 | |
| classical_lsq | 0.406 | 0.004 | 0.411 | |
| compare_dist | 5.481 | 0.208 | 5.699 | |
| confounders_clsq | 4.036 | 0.119 | 4.163 | |
| confounders_lsq_barchart | 4.274 | 0.056 | 4.338 | |
| confounders_lsq_boxplot | 4.397 | 0.043 | 4.450 | |
| constant_sum_norm | 0.006 | 0.000 | 0.006 | |
| corr_coef | 0.397 | 0.008 | 0.405 | |
| dfa_scores_plot | 0.966 | 0.008 | 0.975 | |
| dratio_filter | 0.485 | 0.020 | 0.506 | |
| equal_split | 0.169 | 0.004 | 0.174 | |
| feature_boxplot | 0.024 | 0.000 | 0.024 | |
| feature_profile | 0.601 | 0.004 | 0.606 | |
| feature_profile_array | 0.738 | 0.008 | 0.747 | |
| filter_by_name | 0.041 | 0.004 | 0.045 | |
| filter_na_count | 2.380 | 0.108 | 2.493 | |
| filter_smeta | 0.076 | 0.008 | 0.085 | |
| fisher_exact | 14.517 | 0.136 | 14.680 | |
| fold_change | 16.916 | 0.080 | 17.025 | |
| fold_change_int | 26.970 | 0.135 | 27.158 | |
| fold_change_plot | 0.006 | 0.000 | 0.006 | |
| forward_selection_by_rank | 9.073 | 0.072 | 9.161 | |
| fs_line | 9.517 | 0.044 | 9.578 | |
| glog_opt_plot | 0.735 | 0.000 | 0.736 | |
| glog_transform | 0.408 | 0.003 | 0.413 | |
| grid_search_1d | 5.997 | 0.068 | 6.075 | |
| gs_line | 0.000 | 0.000 | 0.001 | |
| hca_dendrogram | 0.001 | 0.000 | 0.001 | |
| kfold_xval | 4.94 | 0.02 | 4.97 | |
| kfoldxcv_grid | 6.281 | 0.052 | 6.345 | |
| kfoldxcv_metric | 0.001 | 0.000 | 0.001 | |
| knn_impute | 0.008 | 0.000 | 0.009 | |
| kw_p_hist | 0.000 | 0.000 | 0.001 | |
| kw_rank_sum | 0.096 | 0.000 | 0.097 | |
| linear_model | 0.032 | 0.000 | 0.032 | |
| log_transform | 0.006 | 0.000 | 0.005 | |
| mean_centre | 0.002 | 0.000 | 0.002 | |
| mean_of_medians | 0.182 | 0.000 | 0.182 | |
| mixed_effect | 0.194 | 0.000 | 0.194 | |
| model_apply | 0.027 | 0.007 | 0.034 | |
| model_predict | 0.079 | 0.000 | 0.079 | |
| model_reverse | 0.060 | 0.000 | 0.061 | |
| model_train | 0.073 | 0.000 | 0.073 | |
| mv_boxplot | 0.380 | 0.008 | 0.389 | |
| mv_feature_filter | 0.147 | 0.000 | 0.147 | |
| mv_feature_filter_hist | 0.001 | 0.000 | 0.000 | |
| mv_histogram | 0.360 | 0.004 | 0.365 | |
| mv_sample_filter | 0.006 | 0.000 | 0.007 | |
| mv_sample_filter_hist | 0.001 | 0.000 | 0.000 | |
| nroot_transform | 0.007 | 0.000 | 0.007 | |
| ontology_cache | 0.001 | 0.000 | 0.000 | |
| pairs_filter | 0.008 | 0.000 | 0.008 | |
| pareto_scale | 0.076 | 0.000 | 0.077 | |
| pca_biplot | 0.011 | 0.000 | 0.011 | |
| pca_correlation_plot | 0.005 | 0.000 | 0.005 | |
| pca_dstat_plot | 0.007 | 0.000 | 0.007 | |
| pca_loadings_plot | 0.007 | 0.000 | 0.007 | |
| pca_scores_plot | 0.774 | 0.000 | 0.776 | |
| pca_scree_plot | 0.005 | 0.000 | 0.006 | |
| permutation_test | 0.008 | 0.000 | 0.008 | |
| permutation_test_plot | 0.004 | 0.000 | 0.003 | |
| permute_sample_order | 0.006 | 0.000 | 0.005 | |
| pls_regcoeff_plot | 0.483 | 0.000 | 0.484 | |
| pls_scores_plot | 0.967 | 0.012 | 0.981 | |
| pls_vip_plot | 0.504 | 0.008 | 0.513 | |
| plsda_feature_importance_plot | 0.819 | 0.008 | 0.829 | |
| plsda_predicted_plot | 0.656 | 0.004 | 0.662 | |
| plsda_roc_plot | 1.647 | 0.004 | 1.654 | |
| plsr_cook_dist | 0.005 | 0.000 | 0.005 | |
| plsr_prediction_plot | 0.005 | 0.000 | 0.005 | |
| plsr_qq_plot | 0.002 | 0.004 | 0.005 | |
| plsr_residual_hist | 0.006 | 0.000 | 0.005 | |
| pqn_norm | 0.488 | 0.000 | 0.488 | |
| pqn_norm_hist | 0.001 | 0.000 | 0.001 | |
| prop_na | 0.008 | 0.000 | 0.008 | |
| r_squared | 0.001 | 0.000 | 0.001 | |
| resample | 0.012 | 0.000 | 0.011 | |
| resample_chart | 0.003 | 0.000 | 0.003 | |
| rsd_filter | 0.010 | 0.000 | 0.011 | |
| rsd_filter_hist | 0.001 | 0.000 | 0.001 | |
| run | 0.041 | 0.000 | 0.041 | |
| sb_corr | 0.019 | 0.000 | 0.020 | |
| scatter_chart | 0.491 | 0.000 | 0.492 | |
| split_data | 0.005 | 0.000 | 0.005 | |
| stratified_split | 0.144 | 0.000 | 0.145 | |
| svm_plot_2d | 0.877 | 0.004 | 0.883 | |
| tSNE | 0.017 | 0.000 | 0.017 | |
| tSNE_scatter | 0.005 | 0.000 | 0.005 | |
| tic_chart | 0.35 | 0.00 | 0.35 | |
| ttest | 0.010 | 0.004 | 0.014 | |
| vec_norm | 0.001 | 0.000 | 0.001 | |
| wilcox_p_hist | 0.001 | 0.000 | 0.001 | |
| wilcox_test | 0.014 | 0.000 | 0.014 | |