| Back to Multiple platform build/check report for BioC 3.18: simplified long | 
 | 
This page was generated on 2023-11-02 11:41:20 -0400 (Thu, 02 Nov 2023).
| Hostname | OS | Arch (*) | R version | Installed pkgs | 
|---|---|---|---|---|
| nebbiolo2 | Linux (Ubuntu 22.04.2 LTS) | x86_64 | 4.3.1 (2023-06-16) -- "Beagle Scouts" | 4729 | 
| palomino4 | Windows Server 2022 Datacenter | x64 | 4.3.1 (2023-06-16 ucrt) -- "Beagle Scouts" | 4463 | 
| lconway | macOS 12.6.5 Monterey | x86_64 | 4.3.1 Patched (2023-06-17 r84564) -- "Beagle Scouts" | 4478 | 
| kunpeng2 | Linux (openEuler 22.03 LTS-SP1) | aarch64 | 4.3.1 (2023-06-16) -- "Beagle Scouts" | 4464 | 
| Click on any hostname to see more info about the system (e.g. compilers) (*) as reported by 'uname -p', except on Windows and Mac OS X | ||||
| Package 2068/2266 | Hostname | OS / Arch | INSTALL | BUILD | CHECK | BUILD BIN | ||||||||
| struct 1.14.0  (landing page) Gavin Rhys Lloyd 
 | nebbiolo2 | Linux (Ubuntu 22.04.2 LTS) / x86_64 | OK | OK | OK |  | ||||||||
| palomino4 | Windows Server 2022 Datacenter / x64 | OK | OK | OK | OK |  | ||||||||
| lconway | macOS 12.6.5 Monterey / x86_64 | OK | OK | OK | OK |  | ||||||||
| kjohnson1 | macOS 13.6.1 Ventura / arm64 | see weekly results here | ||||||||||||
| kunpeng2 | Linux (openEuler 22.03 LTS-SP1) / aarch64 | OK | OK | OK | ||||||||||
| To the developers/maintainers of the struct package: - Allow up to 24 hours (and sometimes 48 hours) for your latest push to git@git.bioconductor.org:packages/struct.git to reflect on this report. See Troubleshooting Build Report for more information. - Use the following Renviron settings to reproduce errors and warnings. - If 'R CMD check' started to fail recently on the Linux builder(s) over a missing dependency, add the missing dependency to 'Suggests:' in your DESCRIPTION file. See Renviron.bioc for more information. - See Martin Grigorov's blog post for how to debug Linux ARM64 related issues on a x86_64 host. | 
| Package: struct | 
| Version: 1.14.0 | 
| Command: /home/biocbuild/R/R-4.3.1/bin/R CMD check --install=check:struct.install-out.txt --library=/home/biocbuild/R/R-4.3.1/site-library --no-vignettes --timings struct_1.14.0.tar.gz | 
| StartedAt: 2023-11-02 14:42:26 -0000 (Thu, 02 Nov 2023) | 
| EndedAt: 2023-11-02 14:46:10 -0000 (Thu, 02 Nov 2023) | 
| EllapsedTime: 223.4 seconds | 
| RetCode: 0 | 
| Status: OK | 
| CheckDir: struct.Rcheck | 
| Warnings: 0 | 
##############################################################################
##############################################################################
###
### Running command:
###
###   /home/biocbuild/R/R-4.3.1/bin/R CMD check --install=check:struct.install-out.txt --library=/home/biocbuild/R/R-4.3.1/site-library --no-vignettes --timings struct_1.14.0.tar.gz
###
##############################################################################
##############################################################################
* using log directory ‘/home/biocbuild/bbs-3.18-bioc/meat/struct.Rcheck’
* using R version 4.3.1 (2023-06-16)
* using platform: aarch64-unknown-linux-gnu (64-bit)
* R was compiled by
    gcc (GCC) 10.3.1
    GNU Fortran (GCC) 10.3.1
* running under: openEuler 22.03 (LTS-SP1)
* using session charset: UTF-8
* using option ‘--no-vignettes’
* checking for file ‘struct/DESCRIPTION’ ... OK
* checking extension type ... Package
* this is package ‘struct’ version ‘1.14.0’
* package encoding: UTF-8
* checking package namespace information ... OK
* checking package dependencies ... OK
* checking if this is a source package ... OK
* checking if there is a namespace ... OK
* checking for hidden files and directories ... OK
* checking for portable file names ... OK
* checking for sufficient/correct file permissions ... OK
* checking whether package ‘struct’ can be installed ... OK
* checking installed package size ... OK
* checking package directory ... OK
* checking ‘build’ directory ... OK
* checking DESCRIPTION meta-information ... OK
* checking top-level files ... OK
* checking for left-over files ... OK
* checking index information ... OK
* checking package subdirectories ... OK
* checking R files for non-ASCII characters ... OK
* checking R files for syntax errors ... OK
* checking whether the package can be loaded ... OK
* checking whether the package can be loaded with stated dependencies ... OK
* checking whether the package can be unloaded cleanly ... OK
* checking whether the namespace can be loaded with stated dependencies ... OK
* checking whether the namespace can be unloaded cleanly ... OK
* checking loading without being on the library search path ... OK
* checking dependencies in R code ... OK
* checking S3 generic/method consistency ... OK
* checking replacement functions ... OK
* checking foreign function calls ... OK
* checking R code for possible problems ... OK
* checking Rd files ... OK
* checking Rd metadata ... OK
* checking Rd cross-references ... OK
* checking for missing documentation entries ... OK
* checking for code/documentation mismatches ... OK
* checking Rd \usage sections ... OK
* checking Rd contents ... OK
* checking for unstated dependencies in examples ... OK
* checking files in ‘vignettes’ ... OK
* checking examples ... OK
* checking for unstated dependencies in ‘tests’ ... OK
* checking tests ...
  Running ‘testthat.R’
 OK
* checking for unstated dependencies in vignettes ... OK
* checking package vignettes in ‘inst/doc’ ... OK
* checking running R code from vignettes ... SKIPPED
* checking re-building of vignette outputs ... SKIPPED
* checking PDF version of manual ... OK
* DONE
Status: OK
struct.Rcheck/00install.out
############################################################################## ############################################################################## ### ### Running command: ### ### /home/biocbuild/R/R-4.3.1/bin/R CMD INSTALL struct ### ############################################################################## ############################################################################## * installing to library ‘/home/biocbuild/R/R-4.3.1/site-library’ * installing *source* package ‘struct’ ... ** using staged installation ** R ** inst ** byte-compile and prepare package for lazy loading ** help *** installing help indices ** building package indices ** installing vignettes ** testing if installed package can be loaded from temporary location ** testing if installed package can be loaded from final location ** testing if installed package keeps a record of temporary installation path * DONE (struct)
struct.Rcheck/tests/testthat.Rout
R version 4.3.1 (2023-06-16) -- "Beagle Scouts"
Copyright (C) 2023 The R Foundation for Statistical Computing
Platform: aarch64-unknown-linux-gnu (64-bit)
R is free software and comes with ABSOLUTELY NO WARRANTY.
You are welcome to redistribute it under certain conditions.
Type 'license()' or 'licence()' for distribution details.
R is a collaborative project with many contributors.
Type 'contributors()' for more information and
'citation()' on how to cite R or R packages in publications.
Type 'demo()' for some demos, 'help()' for on-line help, or
'help.start()' for an HTML browser interface to help.
Type 'q()' to quit R.
> library(testthat)
> library(struct)
> library(SummarizedExperiment)
Loading required package: MatrixGenerics
Loading required package: matrixStats
Attaching package: 'MatrixGenerics'
The following objects are masked from 'package:matrixStats':
    colAlls, colAnyNAs, colAnys, colAvgsPerRowSet, colCollapse,
    colCounts, colCummaxs, colCummins, colCumprods, colCumsums,
    colDiffs, colIQRDiffs, colIQRs, colLogSumExps, colMadDiffs,
    colMads, colMaxs, colMeans2, colMedians, colMins, colOrderStats,
    colProds, colQuantiles, colRanges, colRanks, colSdDiffs, colSds,
    colSums2, colTabulates, colVarDiffs, colVars, colWeightedMads,
    colWeightedMeans, colWeightedMedians, colWeightedSds,
    colWeightedVars, rowAlls, rowAnyNAs, rowAnys, rowAvgsPerColSet,
    rowCollapse, rowCounts, rowCummaxs, rowCummins, rowCumprods,
    rowCumsums, rowDiffs, rowIQRDiffs, rowIQRs, rowLogSumExps,
    rowMadDiffs, rowMads, rowMaxs, rowMeans2, rowMedians, rowMins,
    rowOrderStats, rowProds, rowQuantiles, rowRanges, rowRanks,
    rowSdDiffs, rowSds, rowSums2, rowTabulates, rowVarDiffs, rowVars,
    rowWeightedMads, rowWeightedMeans, rowWeightedMedians,
    rowWeightedSds, rowWeightedVars
Loading required package: GenomicRanges
Loading required package: stats4
Loading required package: BiocGenerics
Attaching package: 'BiocGenerics'
The following objects are masked from 'package:stats':
    IQR, mad, sd, var, xtabs
The following objects are masked from 'package:base':
    Filter, Find, Map, Position, Reduce, anyDuplicated, aperm, append,
    as.data.frame, basename, cbind, colnames, dirname, do.call,
    duplicated, eval, evalq, get, grep, grepl, intersect, is.unsorted,
    lapply, mapply, match, mget, order, paste, pmax, pmax.int, pmin,
    pmin.int, rank, rbind, rownames, sapply, setdiff, sort, table,
    tapply, union, unique, unsplit, which.max, which.min
Loading required package: S4Vectors
Attaching package: 'S4Vectors'
The following object is masked from 'package:utils':
    findMatches
The following objects are masked from 'package:base':
    I, expand.grid, unname
Loading required package: IRanges
Loading required package: GenomeInfoDb
Loading required package: Biobase
Welcome to Bioconductor
    Vignettes contain introductory material; view with
    'browseVignettes()'. To cite Bioconductor, see
    'citation("Biobase")', and for packages 'citation("pkgname")'.
Attaching package: 'Biobase'
The following object is masked from 'package:MatrixGenerics':
    rowMedians
The following objects are masked from 'package:matrixStats':
    anyMissing, rowMedians
> 
> test_check("struct")
[ FAIL 0 | WARN 1 | SKIP 0 | PASS 150 ]
[ FAIL 0 | WARN 1 | SKIP 0 | PASS 150 ]
> 
> 
> 
> proc.time()
   user  system elapsed 
 14.684   0.719  27.114 
struct.Rcheck/struct-Ex.timings
| name | user | system | elapsed | |
| as.code | 0.071 | 0.000 | 0.071 | |
| cash-ontology_list-method | 0.000 | 0.000 | 0.001 | |
| cash-ontology_term-method | 0.000 | 0.000 | 0.001 | |
| cash-set-struct_class-method | 0.008 | 0.004 | 0.012 | |
| cash-struct_class-method | 0.007 | 0.004 | 0.010 | |
| chart | 0.001 | 0.000 | 0.001 | |
| chart_example | 0.009 | 0.000 | 0.009 | |
| chart_names | 0.028 | 0.000 | 0.028 | |
| chart_plot | 0.072 | 0.008 | 0.082 | |
| citations | 0.113 | 0.028 | 0.141 | |
| entity | 0.003 | 0.002 | 0.004 | |
| entity_stato | 0.002 | 0.002 | 0.003 | |
| enum | 0.005 | 0.000 | 0.006 | |
| enum_stato | 0.007 | 0.000 | 0.008 | |
| example_iterator | 0.030 | 0.004 | 0.035 | |
| example_model | 0.191 | 0.012 | 0.204 | |
| export_data | 0 | 0 | 0 | |
| iris_DatasetExperiment | 0.029 | 0.000 | 0.029 | |
| is_output | 0.007 | 0.000 | 0.007 | |
| is_param | 0.007 | 0.000 | 0.007 | |
| iterator | 0.134 | 0.018 | 0.153 | |
| libraries | 0.008 | 0.000 | 0.008 | |
| metric | 0.009 | 0.000 | 0.009 | |
| model | 0.252 | 0.019 | 0.273 | |
| model_apply | 0.105 | 0.012 | 0.117 | |
| model_reverse | 0.030 | 0.008 | 0.039 | |
| model_seq | 0.779 | 0.011 | 0.792 | |
| models | 0.021 | 0.000 | 0.022 | |
| new_struct | 0 | 0 | 0 | |
| ontology | 0.011 | 0.004 | 0.015 | |
| optimiser | 0.001 | 0.000 | 0.000 | |
| output_ids | 0.006 | 0.000 | 0.006 | |
| output_list | 0.062 | 0.000 | 0.062 | |
| output_name | 0.008 | 0.000 | 0.007 | |
| output_obj | 0.010 | 0.000 | 0.009 | |
| output_value | 0.128 | 0.000 | 0.128 | |
| param_ids | 0.007 | 0.000 | 0.006 | |
| param_list | 0.017 | 0.000 | 0.016 | |
| param_name | 0.008 | 0.000 | 0.008 | |
| param_obj | 0.012 | 0.008 | 0.019 | |
| param_value | 0.015 | 0.000 | 0.014 | |
| predict | 0.067 | 0.000 | 0.067 | |
| predicted | 0.188 | 0.000 | 0.189 | |
| predicted_name | 0.007 | 0.000 | 0.007 | |
| preprocessing | 0.025 | 0.000 | 0.026 | |
| resampler | 0.001 | 0.000 | 0.001 | |
| result | 0.045 | 0.000 | 0.044 | |
| result_name | 0.001 | 0.000 | 0.001 | |
| seq_in | 0.008 | 0.000 | 0.007 | |
| set_obj_method | 0.019 | 0.000 | 0.018 | |
| set_obj_show | 0.021 | 0.000 | 0.021 | |
| stato | 0.534 | 0.008 | 0.545 | |
| struct_class-class | 0.001 | 0.000 | 0.002 | |
| struct_template | 0 | 0 | 0 | |
| test_metric | 0.001 | 0.000 | 0.001 | |
| train | 0.069 | 0.000 | 0.070 | |