| Back to Multiple platform build/check report for BioC 3.18: simplified long |
|
This page was generated on 2024-04-17 11:37:20 -0400 (Wed, 17 Apr 2024).
| Hostname | OS | Arch (*) | R version | Installed pkgs |
|---|---|---|---|---|
| nebbiolo2 | Linux (Ubuntu 22.04.3 LTS) | x86_64 | 4.3.3 (2024-02-29) -- "Angel Food Cake" | 4676 |
| palomino4 | Windows Server 2022 Datacenter | x64 | 4.3.3 (2024-02-29 ucrt) -- "Angel Food Cake" | 4414 |
| merida1 | macOS 12.7.1 Monterey | x86_64 | 4.3.3 (2024-02-29) -- "Angel Food Cake" | 4437 |
| Click on any hostname to see more info about the system (e.g. compilers) (*) as reported by 'uname -p', except on Windows and Mac OS X | ||||
| Package 2009/2266 | Hostname | OS / Arch | INSTALL | BUILD | CHECK | BUILD BIN | ||||||||
| spatialDE 1.8.1 (landing page) Gabriele Sales
| nebbiolo2 | Linux (Ubuntu 22.04.3 LTS) / x86_64 | OK | OK | OK | |||||||||
| palomino4 | Windows Server 2022 Datacenter / x64 | OK | OK | OK | OK | |||||||||
| merida1 | macOS 12.7.1 Monterey / x86_64 | OK | OK | OK | OK | |||||||||
| kjohnson1 | macOS 13.6.1 Ventura / arm64 | see weekly results here | ||||||||||||
|
To the developers/maintainers of the spatialDE package: - Allow up to 24 hours (and sometimes 48 hours) for your latest push to git@git.bioconductor.org:packages/spatialDE.git to reflect on this report. See Troubleshooting Build Report for more information. - Use the following Renviron settings to reproduce errors and warnings. - If 'R CMD check' started to fail recently on the Linux builder(s) over a missing dependency, add the missing dependency to 'Suggests:' in your DESCRIPTION file. See Renviron.bioc for more information. |
| Package: spatialDE |
| Version: 1.8.1 |
| Command: F:\biocbuild\bbs-3.18-bioc\R\bin\R.exe CMD check --no-multiarch --install=check:spatialDE.install-out.txt --library=F:\biocbuild\bbs-3.18-bioc\R\library --no-vignettes --timings spatialDE_1.8.1.tar.gz |
| StartedAt: 2024-04-16 05:21:48 -0400 (Tue, 16 Apr 2024) |
| EndedAt: 2024-04-16 05:26:51 -0400 (Tue, 16 Apr 2024) |
| EllapsedTime: 303.4 seconds |
| RetCode: 0 |
| Status: OK |
| CheckDir: spatialDE.Rcheck |
| Warnings: 0 |
##############################################################################
##############################################################################
###
### Running command:
###
### F:\biocbuild\bbs-3.18-bioc\R\bin\R.exe CMD check --no-multiarch --install=check:spatialDE.install-out.txt --library=F:\biocbuild\bbs-3.18-bioc\R\library --no-vignettes --timings spatialDE_1.8.1.tar.gz
###
##############################################################################
##############################################################################
* using log directory 'F:/biocbuild/bbs-3.18-bioc/meat/spatialDE.Rcheck'
* using R version 4.3.3 (2024-02-29 ucrt)
* using platform: x86_64-w64-mingw32 (64-bit)
* R was compiled by
gcc.exe (GCC) 12.3.0
GNU Fortran (GCC) 12.3.0
* running under: Windows Server 2022 x64 (build 20348)
* using session charset: UTF-8
* using option '--no-vignettes'
* checking for file 'spatialDE/DESCRIPTION' ... OK
* this is package 'spatialDE' version '1.8.1'
* package encoding: UTF-8
* checking package namespace information ... OK
* checking package dependencies ... OK
* checking if this is a source package ... OK
* checking if there is a namespace ... OK
* checking for hidden files and directories ... OK
* checking for portable file names ... OK
* checking whether package 'spatialDE' can be installed ... NOTE
Found the following notes/warnings:
Non-staged installation was used
See 'F:/biocbuild/bbs-3.18-bioc/meat/spatialDE.Rcheck/00install.out' for details.
* checking installed package size ... OK
* checking package directory ... OK
* checking 'build' directory ... OK
* checking DESCRIPTION meta-information ... OK
* checking top-level files ... OK
* checking for left-over files ... OK
* checking index information ... OK
* checking package subdirectories ... OK
* checking R files for non-ASCII characters ... OK
* checking R files for syntax errors ... OK
* checking whether the package can be loaded ... OK
* checking whether the package can be loaded with stated dependencies ... OK
* checking whether the package can be unloaded cleanly ... OK
* checking whether the namespace can be loaded with stated dependencies ... OK
* checking whether the namespace can be unloaded cleanly ... OK
* checking dependencies in R code ... OK
* checking S3 generic/method consistency ... OK
* checking replacement functions ... OK
* checking foreign function calls ... OK
* checking R code for possible problems ... OK
* checking Rd files ... OK
* checking Rd metadata ... OK
* checking Rd cross-references ... OK
* checking for missing documentation entries ... OK
* checking for code/documentation mismatches ... OK
* checking Rd \usage sections ... OK
* checking Rd contents ... OK
* checking for unstated dependencies in examples ... OK
* checking contents of 'data' directory ... OK
* checking data for non-ASCII characters ... OK
* checking data for ASCII and uncompressed saves ... OK
* checking line endings in shell scripts ... OK
* checking files in 'vignettes' ... OK
* checking examples ... OK
Examples with CPU (user + system) or elapsed time > 5s
user system elapsed
spatial_patterns 13.86 1.19 7.54
FSV_sig 4.86 2.20 29.06
* checking for unstated dependencies in 'tests' ... OK
* checking tests ...
Running 'testthat.R'
OK
* checking for unstated dependencies in vignettes ... OK
* checking package vignettes in 'inst/doc' ... OK
* checking running R code from vignettes ... SKIPPED
* checking re-building of vignette outputs ... SKIPPED
* checking PDF version of manual ... OK
* DONE
Status: 1 NOTE
See
'F:/biocbuild/bbs-3.18-bioc/meat/spatialDE.Rcheck/00check.log'
for details.
spatialDE.Rcheck/00install.out
############################################################################## ############################################################################## ### ### Running command: ### ### F:\biocbuild\bbs-3.18-bioc\R\bin\R.exe CMD INSTALL spatialDE ### ############################################################################## ############################################################################## * installing to library 'F:/biocbuild/bbs-3.18-bioc/R/library' * installing *source* package 'spatialDE' ... ** using non-staged installation via StagedInstall field ** R ** data ** inst ** byte-compile and prepare package for lazy loading ** help *** installing help indices ** building package indices ** installing vignettes ** testing if installed package can be loaded * DONE (spatialDE)
spatialDE.Rcheck/tests/testthat.Rout
R version 4.3.3 (2024-02-29 ucrt) -- "Angel Food Cake"
Copyright (C) 2024 The R Foundation for Statistical Computing
Platform: x86_64-w64-mingw32/x64 (64-bit)
R is free software and comes with ABSOLUTELY NO WARRANTY.
You are welcome to redistribute it under certain conditions.
Type 'license()' or 'licence()' for distribution details.
R is a collaborative project with many contributors.
Type 'contributors()' for more information and
'citation()' on how to cite R or R packages in publications.
Type 'demo()' for some demos, 'help()' for on-line help, or
'help.start()' for an HTML browser interface to help.
Type 'q()' to quit R.
> library(testthat)
> library(spatialDE)
>
> test_check("spatialDE")
Loading required package: SingleCellExperiment
Loading required package: SummarizedExperiment
Loading required package: MatrixGenerics
Loading required package: matrixStats
Attaching package: 'MatrixGenerics'
The following objects are masked from 'package:matrixStats':
colAlls, colAnyNAs, colAnys, colAvgsPerRowSet, colCollapse,
colCounts, colCummaxs, colCummins, colCumprods, colCumsums,
colDiffs, colIQRDiffs, colIQRs, colLogSumExps, colMadDiffs,
colMads, colMaxs, colMeans2, colMedians, colMins, colOrderStats,
colProds, colQuantiles, colRanges, colRanks, colSdDiffs, colSds,
colSums2, colTabulates, colVarDiffs, colVars, colWeightedMads,
colWeightedMeans, colWeightedMedians, colWeightedSds,
colWeightedVars, rowAlls, rowAnyNAs, rowAnys, rowAvgsPerColSet,
rowCollapse, rowCounts, rowCummaxs, rowCummins, rowCumprods,
rowCumsums, rowDiffs, rowIQRDiffs, rowIQRs, rowLogSumExps,
rowMadDiffs, rowMads, rowMaxs, rowMeans2, rowMedians, rowMins,
rowOrderStats, rowProds, rowQuantiles, rowRanges, rowRanks,
rowSdDiffs, rowSds, rowSums2, rowTabulates, rowVarDiffs, rowVars,
rowWeightedMads, rowWeightedMeans, rowWeightedMedians,
rowWeightedSds, rowWeightedVars
Loading required package: GenomicRanges
Loading required package: stats4
Loading required package: BiocGenerics
Attaching package: 'BiocGenerics'
The following objects are masked from 'package:stats':
IQR, mad, sd, var, xtabs
The following objects are masked from 'package:base':
Filter, Find, Map, Position, Reduce, anyDuplicated, aperm, append,
as.data.frame, basename, cbind, colnames, dirname, do.call,
duplicated, eval, evalq, get, grep, grepl, intersect, is.unsorted,
lapply, mapply, match, mget, order, paste, pmax, pmax.int, pmin,
pmin.int, rank, rbind, rownames, sapply, setdiff, sort, table,
tapply, union, unique, unsplit, which.max, which.min
Loading required package: S4Vectors
Attaching package: 'S4Vectors'
The following object is masked from 'package:utils':
findMatches
The following objects are masked from 'package:base':
I, expand.grid, unname
Loading required package: IRanges
Attaching package: 'IRanges'
The following object is masked from 'package:grDevices':
windows
Loading required package: GenomeInfoDb
Loading required package: Biobase
Welcome to Bioconductor
Vignettes contain introductory material; view with
'browseVignettes()'. To cite Bioconductor, see
'citation("Biobase")', and for packages 'citation("pkgname")'.
Attaching package: 'Biobase'
The following object is masked from 'package:MatrixGenerics':
rowMedians
The following objects are masked from 'package:matrixStats':
anyMissing, rowMedians
Models: 0%| | 0/10 [00:00<?, ?it/s]
0%| | 0/100 [00:00<?, ?it/s][A
28%|██▊ | 28/100 [00:00<00:00, 255.99it/s][A
61%|██████ | 61/100 [00:00<00:00, 282.90it/s][A
97%|█████████▋| 97/100 [00:00<00:00, 304.01it/s][A
[A
Models: 10%|█ | 1/10 [00:00<00:03, 2.91it/s]
0%| | 0/100 [00:00<?, ?it/s][A
23%|██▎ | 23/100 [00:00<00:00, 209.34it/s][A
44%|████▍ | 44/100 [00:00<00:00, 199.15it/s][A
64%|██████▍ | 64/100 [00:00<00:00, 191.72it/s][A
86%|████████▌ | 86/100 [00:00<00:00, 195.44it/s][A
[A
Models: 20%|██ | 2/10 [00:00<00:03, 2.29it/s]
0%| | 0/100 [00:00<?, ?it/s][A
20%|██ | 20/100 [00:00<00:00, 182.86it/s][A
39%|███▉ | 39/100 [00:00<00:00, 177.47it/s][A
61%|██████ | 61/100 [00:00<00:00, 188.28it/s][A
82%|████████▏ | 82/100 [00:00<00:00, 189.75it/s][A
[A
Models: 30%|███ | 3/10 [00:01<00:03, 2.12it/s]
0%| | 0/100 [00:00<?, ?it/s][A
21%|██ | 21/100 [00:00<00:00, 191.16it/s][A
42%|████▏ | 42/100 [00:00<00:00, 191.65it/s][A
64%|██████▍ | 64/100 [00:00<00:00, 195.98it/s][A
84%|████████▍ | 84/100 [00:00<00:00, 180.62it/s][A
[A
Models: 40%|████ | 4/10 [00:01<00:03, 1.99it/s]
0%| | 0/100 [00:00<?, ?it/s][A
31%|███ | 31/100 [00:00<00:00, 283.41it/s][A
64%|██████▍ | 64/100 [00:00<00:00, 294.19it/s][A
99%|█████████▉| 99/100 [00:00<00:00, 305.96it/s][A
[A
Models: 50%|█████ | 5/10 [00:02<00:02, 2.28it/s]
0%| | 0/100 [00:00<?, ?it/s][A
36%|███▌ | 36/100 [00:00<00:00, 329.16it/s][A
71%|███████ | 71/100 [00:00<00:00, 322.97it/s][A
[A
Models: 60%|██████ | 6/10 [00:02<00:01, 2.52it/s]
0%| | 0/100 [00:00<?, ?it/s][A
38%|███▊ | 38/100 [00:00<00:00, 347.39it/s][A
74%|███████▍ | 74/100 [00:00<00:00, 336.66it/s][A
[A
Models: 70%|███████ | 7/10 [00:02<00:01, 2.71it/s]
0%| | 0/100 [00:00<?, ?it/s][A
37%|███▋ | 37/100 [00:00<00:00, 338.29it/s][A
71%|███████ | 71/100 [00:00<00:00, 275.79it/s][A
[A
Models: 80%|████████ | 8/10 [00:03<00:00, 2.81it/s]
0%| | 0/100 [00:00<?, ?it/s][A
34%|███▍ | 34/100 [00:00<00:00, 310.86it/s][A
70%|███████ | 70/100 [00:00<00:00, 321.62it/s][A
[A
Models: 90%|█████████ | 9/10 [00:03<00:00, 2.96it/s]
0%| | 0/100 [00:00<?, ?it/s][A
33%|███▎ | 33/100 [00:00<00:00, 301.67it/s][A
73%|███████▎ | 73/100 [00:00<00:00, 339.24it/s][A
[A
Models: 100%|██████████| 10/10 [00:03<00:00, 3.08it/s]
Models: 100%|██████████| 10/10 [00:03<00:00, 2.64it/s]
Models: 0%| | 0/10 [00:00<?, ?it/s]
0%| | 0/100 [00:00<?, ?it/s][A
32%|███▏ | 32/100 [00:00<00:00, 292.54it/s][A
65%|██████▌ | 65/100 [00:00<00:00, 297.93it/s][A
[A
Models: 10%|█ | 1/10 [00:00<00:02, 3.37it/s]
0%| | 0/100 [00:00<?, ?it/s][A
31%|███ | 31/100 [00:00<00:00, 282.24it/s][A
68%|██████▊ | 68/100 [00:00<00:00, 315.14it/s][A
100%|██████████| 100/100 [00:00<00:00, 254.99it/s][A
[A
Models: 20%|██ | 2/10 [00:00<00:02, 2.84it/s]
0%| | 0/100 [00:00<?, ?it/s][A
24%|██▍ | 24/100 [00:00<00:00, 219.40it/s][A
53%|█████▎ | 53/100 [00:00<00:00, 246.30it/s][A
86%|████████▌ | 86/100 [00:00<00:00, 271.61it/s][A
[A
Models: 30%|███ | 3/10 [00:01<00:02, 2.70it/s]
0%| | 0/100 [00:00<?, ?it/s][A
23%|██▎ | 23/100 [00:00<00:00, 210.29it/s][A
45%|████▌ | 45/100 [00:00<00:00, 189.02it/s][A
65%|██████▌ | 65/100 [00:00<00:00, 175.08it/s][A
83%|████████▎ | 83/100 [00:00<00:00, 171.20it/s][A
[A
Models: 40%|████ | 4/10 [00:01<00:02, 2.27it/s]
0%| | 0/100 [00:00<?, ?it/s][A
36%|███▌ | 36/100 [00:00<00:00, 329.14it/s][A
69%|██████▉ | 69/100 [00:00<00:00, 234.26it/s][A
94%|█████████▍| 94/100 [00:00<00:00, 219.92it/s][A
[A
Models: 50%|█████ | 5/10 [00:02<00:02, 2.28it/s]
0%| | 0/100 [00:00<?, ?it/s][A
26%|██▌ | 26/100 [00:00<00:00, 237.73it/s][A
50%|█████ | 50/100 [00:00<00:00, 209.37it/s][A
84%|████████▍ | 84/100 [00:00<00:00, 253.20it/s][A
[A
Models: 60%|██████ | 6/10 [00:02<00:01, 2.37it/s]
0%| | 0/100 [00:00<?, ?it/s][A
37%|███▋ | 37/100 [00:00<00:00, 338.28it/s][A
71%|███████ | 71/100 [00:00<00:00, 275.78it/s][A
100%|██████████| 100/100 [00:00<00:00, 230.07it/s][A
[A
Models: 70%|███████ | 7/10 [00:02<00:01, 2.37it/s]
0%| | 0/100 [00:00<?, ?it/s][A
22%|██▏ | 22/100 [00:00<00:00, 201.14it/s][A
43%|████▎ | 43/100 [00:00<00:00, 180.59it/s][A
67%|██████▋ | 67/100 [00:00<00:00, 197.55it/s][A
[A
Models: 80%|████████ | 8/10 [00:03<00:00, 2.34it/s]
0%| | 0/100 [00:00<?, ?it/s][A
35%|███▌ | 35/100 [00:00<00:00, 318.53it/s][A
67%|██████▋ | 67/100 [00:00<00:00, 279.83it/s][A
96%|█████████▌| 96/100 [00:00<00:00, 257.37it/s][A
[A
Models: 90%|█████████ | 9/10 [00:03<00:00, 2.40it/s]
0%| | 0/100 [00:00<?, ?it/s][A
25%|██▌ | 25/100 [00:00<00:00, 228.57it/s][A
49%|████▉ | 49/100 [00:00<00:00, 223.19it/s][A
72%|███████▏ | 72/100 [00:00<00:00, 217.30it/s][A
98%|█████████▊| 98/100 [00:00<00:00, 225.36it/s][A
[A
Models: 100%|██████████| 10/10 [00:04<00:00, 2.37it/s]
Models: 100%|██████████| 10/10 [00:04<00:00, 2.41it/s]
C:\Users\BIOCBU~1\AppData\Local\R\cache\R\basilisk\114~1.3\SPATIA~1\18E761~1.1\env\lib\site-packages\pandas\core\internals\blocks.py:351: RuntimeWarning: invalid value encountered in log
result = func(self.values, **kwargs)
Models: 0%| | 0/10 [00:00<?, ?it/s]
0%| | 0/100 [00:00<?, ?it/s][A
43%|████▎ | 43/100 [00:00<00:00, 393.15it/s][A
98%|█████████▊| 98/100 [00:00<00:00, 456.53it/s][A
[A
Models: 10%|█ | 1/10 [00:00<00:01, 4.56it/s]
0%| | 0/100 [00:00<?, ?it/s][A
38%|███▊ | 38/100 [00:00<00:00, 345.95it/s][A
77%|███████▋ | 77/100 [00:00<00:00, 351.31it/s][A
[A
Models: 20%|██ | 2/10 [00:00<00:02, 3.90it/s]
0%| | 0/100 [00:00<?, ?it/s][A
27%|██▋ | 27/100 [00:00<00:00, 245.76it/s][A
52%|█████▏ | 52/100 [00:00<00:00, 216.92it/s][A
74%|███████▍ | 74/100 [00:00<00:00, 197.38it/s][A
[A
Models: 30%|███ | 3/10 [00:00<00:02, 2.94it/s]
0%| | 0/100 [00:00<?, ?it/s][A
35%|███▌ | 35/100 [00:00<00:00, 318.55it/s][A
68%|██████▊ | 68/100 [00:00<00:00, 307.87it/s][A
[A
Models: 40%|████ | 4/10 [00:01<00:01, 3.03it/s]
0%| | 0/100 [00:00<?, ?it/s][A
32%|███▏ | 32/100 [00:00<00:00, 292.74it/s][A
66%|██████▌ | 66/100 [00:00<00:00, 302.62it/s][A
[A
Models: 50%|█████ | 5/10 [00:01<00:01, 3.09it/s]
0%| | 0/100 [00:00<?, ?it/s][A
35%|███▌ | 35/100 [00:00<00:00, 320.01it/s][A
68%|██████▊ | 68/100 [00:00<00:00, 309.24it/s][A
[A
Models: 60%|██████ | 6/10 [00:01<00:01, 3.07it/s]
0%| | 0/100 [00:00<?, ?it/s][A
24%|██▍ | 24/100 [00:00<00:00, 219.43it/s][A
46%|████▌ | 46/100 [00:00<00:00, 208.67it/s][A
77%|███████▋ | 77/100 [00:00<00:00, 242.80it/s][A
[A
Models: 70%|███████ | 7/10 [00:02<00:01, 2.76it/s]
0%| | 0/100 [00:00<?, ?it/s][A
24%|██▍ | 24/100 [00:00<00:00, 219.42it/s][A
46%|████▌ | 46/100 [00:00<00:00, 208.67it/s][A
67%|██████▋ | 67/100 [00:00<00:00, 188.40it/s][A
86%|████████▌ | 86/100 [00:00<00:00, 173.43it/s][A
[A
Models: 80%|████████ | 8/10 [00:02<00:00, 2.43it/s]
0%| | 0/100 [00:00<?, ?it/s][A
39%|███▉ | 39/100 [00:00<00:00, 356.55it/s][A
76%|███████▌ | 76/100 [00:00<00:00, 345.80it/s][A
[A
Models: 90%|█████████ | 9/10 [00:03<00:00, 2.70it/s]
0%| | 0/100 [00:00<?, ?it/s][A
33%|███▎ | 33/100 [00:00<00:00, 321.08it/s][A
66%|██████▌ | 66/100 [00:00<00:00, 297.09it/s][A
96%|█████████▌| 96/100 [00:00<00:00, 286.21it/s][A
[A
Models: 100%|██████████| 10/10 [00:03<00:00, 2.76it/s]
Models: 100%|██████████| 10/10 [00:03<00:00, 2.88it/s]
Models: 0%| | 0/10 [00:00<?, ?it/s]
0%| | 0/100 [00:00<?, ?it/s][A
39%|███▉ | 39/100 [00:00<00:00, 361.74it/s][A
76%|███████▌ | 76/100 [00:00<00:00, 319.37it/s][A
[A
Models: 10%|█ | 1/10 [00:00<00:02, 3.21it/s]
0%| | 0/100 [00:00<?, ?it/s][A
23%|██▎ | 23/100 [00:00<00:00, 209.16it/s][A
54%|█████▍ | 54/100 [00:00<00:00, 252.10it/s][A
80%|████████ | 80/100 [00:00<00:00, 230.59it/s][A
[A
Models: 20%|██ | 2/10 [00:00<00:03, 2.65it/s]
0%| | 0/100 [00:00<?, ?it/s][A
22%|██▏ | 22/100 [00:00<00:00, 200.26it/s][A
43%|████▎ | 43/100 [00:00<00:00, 194.92it/s][A
70%|███████ | 70/100 [00:00<00:00, 218.58it/s][A
94%|█████████▍| 94/100 [00:00<00:00, 218.92it/s][A
[A
Models: 30%|███ | 3/10 [00:01<00:02, 2.38it/s]
0%| | 0/100 [00:00<?, ?it/s][A
24%|██▍ | 24/100 [00:00<00:00, 219.44it/s][A
46%|████▌ | 46/100 [00:00<00:00, 208.67it/s][A
67%|██████▋ | 67/100 [00:00<00:00, 201.06it/s][A
93%|█████████▎| 93/100 [00:00<00:00, 215.53it/s][A
[A
Models: 40%|████ | 4/10 [00:01<00:02, 2.28it/s]
0%| | 0/100 [00:00<?, ?it/s][A
22%|██▏ | 22/100 [00:00<00:00, 201.13it/s][A
43%|████▎ | 43/100 [00:00<00:00, 180.17it/s][A
65%|██████▌ | 65/100 [00:00<00:00, 189.31it/s][A
86%|████████▌ | 86/100 [00:00<00:00, 190.34it/s][A
[A
Models: 50%|█████ | 5/10 [00:02<00:02, 2.12it/s]
0%| | 0/100 [00:00<?, ?it/s][A
23%|██▎ | 23/100 [00:00<00:00, 210.28it/s][A
45%|████▌ | 45/100 [00:00<00:00, 204.91it/s][A
68%|██████▊ | 68/100 [00:00<00:00, 207.36it/s][A
[A
Models: 60%|██████ | 6/10 [00:02<00:01, 2.20it/s]
0%| | 0/100 [00:00<?, ?it/s][A
34%|███▍ | 34/100 [00:00<00:00, 310.85it/s][A
68%|██████▊ | 68/100 [00:00<00:00, 310.86it/s][A
100%|██████████| 100/100 [00:00<00:00, 267.14it/s][A
[A
Models: 70%|███████ | 7/10 [00:02<00:01, 2.36it/s]
0%| | 0/100 [00:00<?, ?it/s][A
35%|███▌ | 35/100 [00:00<00:00, 320.00it/s][A
70%|███████ | 70/100 [00:00<00:00, 320.00it/s][A
[A
Models: 80%|████████ | 8/10 [00:03<00:00, 2.61it/s]
0%| | 0/100 [00:00<?, ?it/s][A
35%|███▌ | 35/100 [00:00<00:00, 319.99it/s][A
67%|██████▋ | 67/100 [00:00<00:00, 227.42it/s][A
97%|█████████▋| 97/100 [00:00<00:00, 245.51it/s][A
[A
Models: 90%|█████████ | 9/10 [00:03<00:00, 2.59it/s]
0%| | 0/100 [00:00<?, ?it/s][A
36%|███▌ | 36/100 [00:00<00:00, 329.13it/s][A
69%|██████▉ | 69/100 [00:00<00:00, 267.37it/s][A
[A
Models: 100%|██████████| 10/10 [00:04<00:00, 2.68it/s]
Models: 100%|██████████| 10/10 [00:04<00:00, 2.49it/s]
Models: 0%| | 0/10 [00:00<?, ?it/s]
0%| | 0/100 [00:00<?, ?it/s][A
47%|████▋ | 47/100 [00:00<00:00, 429.72it/s][A
97%|█████████▋| 97/100 [00:00<00:00, 445.84it/s][A
[A
Models: 10%|█ | 1/10 [00:00<00:01, 4.57it/s]
0%| | 0/100 [00:00<?, ?it/s][A
30%|███ | 30/100 [00:00<00:00, 274.30it/s][A
58%|█████▊ | 58/100 [00:00<00:00, 243.10it/s][A
88%|████████▊ | 88/100 [00:00<00:00, 256.71it/s][A
[A
Models: 20%|██ | 2/10 [00:00<00:02, 3.22it/s]
0%| | 0/100 [00:00<?, ?it/s][A
31%|███ | 31/100 [00:00<00:00, 283.45it/s][A
64%|██████▍ | 64/100 [00:00<00:00, 293.44it/s][A
99%|█████████▉| 99/100 [00:00<00:00, 305.55it/s][A
[A
Models: 30%|███ | 3/10 [00:00<00:02, 3.14it/s]
0%| | 0/100 [00:00<?, ?it/s][A
22%|██▏ | 22/100 [00:00<00:00, 201.15it/s][A
43%|████▎ | 43/100 [00:00<00:00, 195.77it/s][A
67%|██████▋ | 67/100 [00:00<00:00, 206.57it/s][A
88%|████████▊ | 88/100 [00:00<00:00, 200.81it/s][A
[A
Models: 40%|████ | 4/10 [00:01<00:02, 2.52it/s]
0%| | 0/100 [00:00<?, ?it/s][A
23%|██▎ | 23/100 [00:00<00:00, 210.29it/s][A
47%|████▋ | 47/100 [00:00<00:00, 215.66it/s][A
71%|███████ | 71/100 [00:00<00:00, 216.95it/s][A
[A
Models: 50%|█████ | 5/10 [00:01<00:02, 2.46it/s]
0%| | 0/100 [00:00<?, ?it/s][A
25%|██▌ | 25/100 [00:00<00:00, 228.56it/s][A
49%|████▉ | 49/100 [00:00<00:00, 223.18it/s][A
72%|███████▏ | 72/100 [00:00<00:00, 203.99it/s][A
93%|█████████▎| 93/100 [00:00<00:00, 189.17it/s][A
[A
Models: 60%|██████ | 6/10 [00:02<00:01, 2.28it/s]
0%| | 0/100 [00:00<?, ?it/s][A
22%|██▏ | 22/100 [00:00<00:00, 201.12it/s][A
56%|█████▌ | 56/100 [00:00<00:00, 265.67it/s][A
89%|████████▉ | 89/100 [00:00<00:00, 282.12it/s][A
[A
Models: 70%|███████ | 7/10 [00:02<00:01, 2.43it/s]
0%| | 0/100 [00:00<?, ?it/s][A
32%|███▏ | 32/100 [00:00<00:00, 292.48it/s][A
62%|██████▏ | 62/100 [00:00<00:00, 281.76it/s][A
96%|█████████▌| 96/100 [00:00<00:00, 295.04it/s][A
[A
Models: 80%|████████ | 8/10 [00:03<00:00, 2.59it/s]
0%| | 0/100 [00:00<?, ?it/s][A
35%|███▌ | 35/100 [00:00<00:00, 320.01it/s][A
72%|███████▏ | 72/100 [00:00<00:00, 330.75it/s][A
[A
Models: 90%|█████████ | 9/10 [00:03<00:00, 2.76it/s]
0%| | 0/100 [00:00<?, ?it/s][A
25%|██▌ | 25/100 [00:00<00:00, 228.54it/s][A
48%|████▊ | 48/100 [00:00<00:00, 217.81it/s][A
70%|███████ | 70/100 [00:00<00:00, 210.20it/s][A
92%|█████████▏| 92/100 [00:00<00:00, 206.25it/s][A
[A
Models: 100%|██████████| 10/10 [00:03<00:00, 2.53it/s]
Models: 100%|██████████| 10/10 [00:03<00:00, 2.61it/s]
[ FAIL 0 | WARN 0 | SKIP 0 | PASS 29 ]
>
> proc.time()
user system elapsed
56.51 2.32 66.39
spatialDE.Rcheck/spatialDE-Ex.timings
| name | user | system | elapsed | |
| FSV_sig | 4.86 | 2.20 | 29.06 | |
| mockSVG | 0.35 | 0.02 | 0.30 | |
| modelSearch | 2.14 | 0.29 | 1.35 | |
| model_search | 1.86 | 0.33 | 1.09 | |
| multiGenePlots | 2.75 | 0.25 | 2.06 | |
| regress_out | 0.12 | 0.03 | 0.13 | |
| run | 1.05 | 0.08 | 0.56 | |
| spatialDE | 1.67 | 0.19 | 1.01 | |
| spatialPatterns | 1.58 | 0.12 | 1.00 | |
| spatial_patterns | 13.86 | 1.19 | 7.54 | |
| stabilize | 0.20 | 0.02 | 0.11 | |