| Back to Multiple platform build/check report for BioC 3.18: simplified long |
|
This page was generated on 2024-04-17 11:38:16 -0400 (Wed, 17 Apr 2024).
| Hostname | OS | Arch (*) | R version | Installed pkgs |
|---|---|---|---|---|
| nebbiolo2 | Linux (Ubuntu 22.04.3 LTS) | x86_64 | 4.3.3 (2024-02-29) -- "Angel Food Cake" | 4676 |
| palomino4 | Windows Server 2022 Datacenter | x64 | 4.3.3 (2024-02-29 ucrt) -- "Angel Food Cake" | 4414 |
| merida1 | macOS 12.7.1 Monterey | x86_64 | 4.3.3 (2024-02-29) -- "Angel Food Cake" | 4437 |
| Click on any hostname to see more info about the system (e.g. compilers) (*) as reported by 'uname -p', except on Windows and Mac OS X | ||||
| Package 2009/2266 | Hostname | OS / Arch | INSTALL | BUILD | CHECK | BUILD BIN | ||||||||
| spatialDE 1.8.1 (landing page) Gabriele Sales
| nebbiolo2 | Linux (Ubuntu 22.04.3 LTS) / x86_64 | OK | OK | OK | |||||||||
| palomino4 | Windows Server 2022 Datacenter / x64 | OK | OK | OK | OK | |||||||||
| merida1 | macOS 12.7.1 Monterey / x86_64 | OK | OK | OK | OK | |||||||||
| kjohnson1 | macOS 13.6.1 Ventura / arm64 | see weekly results here | ||||||||||||
|
To the developers/maintainers of the spatialDE package: - Allow up to 24 hours (and sometimes 48 hours) for your latest push to git@git.bioconductor.org:packages/spatialDE.git to reflect on this report. See Troubleshooting Build Report for more information. - Use the following Renviron settings to reproduce errors and warnings. - If 'R CMD check' started to fail recently on the Linux builder(s) over a missing dependency, add the missing dependency to 'Suggests:' in your DESCRIPTION file. See Renviron.bioc for more information. |
| Package: spatialDE |
| Version: 1.8.1 |
| Command: /Library/Frameworks/R.framework/Resources/bin/R CMD check --install=check:spatialDE.install-out.txt --library=/Library/Frameworks/R.framework/Resources/library --no-vignettes --timings spatialDE_1.8.1.tar.gz |
| StartedAt: 2024-04-16 09:14:20 -0400 (Tue, 16 Apr 2024) |
| EndedAt: 2024-04-16 09:25:03 -0400 (Tue, 16 Apr 2024) |
| EllapsedTime: 643.3 seconds |
| RetCode: 0 |
| Status: OK |
| CheckDir: spatialDE.Rcheck |
| Warnings: 0 |
##############################################################################
##############################################################################
###
### Running command:
###
### /Library/Frameworks/R.framework/Resources/bin/R CMD check --install=check:spatialDE.install-out.txt --library=/Library/Frameworks/R.framework/Resources/library --no-vignettes --timings spatialDE_1.8.1.tar.gz
###
##############################################################################
##############################################################################
* using log directory ‘/Users/biocbuild/bbs-3.18-bioc/meat/spatialDE.Rcheck’
* using R version 4.3.3 (2024-02-29)
* using platform: x86_64-apple-darwin20 (64-bit)
* R was compiled by
Apple clang version 14.0.0 (clang-1400.0.29.202)
GNU Fortran (GCC) 12.2.0
* running under: macOS Monterey 12.7.1
* using session charset: UTF-8
* using option ‘--no-vignettes’
* checking for file ‘spatialDE/DESCRIPTION’ ... OK
* this is package ‘spatialDE’ version ‘1.8.1’
* package encoding: UTF-8
* checking package namespace information ... OK
* checking package dependencies ... OK
* checking if this is a source package ... OK
* checking if there is a namespace ... OK
* checking for hidden files and directories ... OK
* checking for portable file names ... OK
* checking for sufficient/correct file permissions ... OK
* checking whether package ‘spatialDE’ can be installed ... NOTE
Found the following notes/warnings:
Non-staged installation was used
See ‘/Users/biocbuild/bbs-3.18-bioc/meat/spatialDE.Rcheck/00install.out’ for details.
* checking installed package size ... OK
* checking package directory ... OK
* checking ‘build’ directory ... OK
* checking DESCRIPTION meta-information ... OK
* checking top-level files ... OK
* checking for left-over files ... OK
* checking index information ... OK
* checking package subdirectories ... OK
* checking R files for non-ASCII characters ... OK
* checking R files for syntax errors ... OK
* checking whether the package can be loaded ... OK
* checking whether the package can be loaded with stated dependencies ... OK
* checking whether the package can be unloaded cleanly ... OK
* checking whether the namespace can be loaded with stated dependencies ... OK
* checking whether the namespace can be unloaded cleanly ... OK
* checking dependencies in R code ... OK
* checking S3 generic/method consistency ... OK
* checking replacement functions ... OK
* checking foreign function calls ... OK
* checking R code for possible problems ... OK
* checking Rd files ... OK
* checking Rd metadata ... OK
* checking Rd cross-references ... OK
* checking for missing documentation entries ... OK
* checking for code/documentation mismatches ... OK
* checking Rd \usage sections ... OK
* checking Rd contents ... OK
* checking for unstated dependencies in examples ... OK
* checking contents of ‘data’ directory ... OK
* checking data for non-ASCII characters ... OK
* checking data for ASCII and uncompressed saves ... OK
* checking line endings in shell scripts ... OK
* checking files in ‘vignettes’ ... OK
* checking examples ... OK
Examples with CPU (user + system) or elapsed time > 5s
user system elapsed
spatial_patterns 30.845 4.865 65.201
FSV_sig 12.497 3.181 22.276
modelSearch 3.794 0.432 6.408
multiGenePlots 3.702 0.345 5.513
model_search 2.989 0.429 5.733
* checking for unstated dependencies in ‘tests’ ... OK
* checking tests ...
Running ‘testthat.R’
OK
* checking for unstated dependencies in vignettes ... OK
* checking package vignettes in ‘inst/doc’ ... OK
* checking running R code from vignettes ... SKIPPED
* checking re-building of vignette outputs ... SKIPPED
* checking PDF version of manual ... OK
* DONE
Status: 1 NOTE
See
‘/Users/biocbuild/bbs-3.18-bioc/meat/spatialDE.Rcheck/00check.log’
for details.
spatialDE.Rcheck/00install.out
############################################################################## ############################################################################## ### ### Running command: ### ### /Library/Frameworks/R.framework/Resources/bin/R CMD INSTALL spatialDE ### ############################################################################## ############################################################################## * installing to library ‘/Library/Frameworks/R.framework/Versions/4.3-x86_64/Resources/library’ * installing *source* package ‘spatialDE’ ... ** using non-staged installation via StagedInstall field ** R ** data ** inst ** byte-compile and prepare package for lazy loading ** help *** installing help indices ** building package indices ** installing vignettes ** testing if installed package can be loaded * DONE (spatialDE)
spatialDE.Rcheck/tests/testthat.Rout
R version 4.3.3 (2024-02-29) -- "Angel Food Cake"
Copyright (C) 2024 The R Foundation for Statistical Computing
Platform: x86_64-apple-darwin20 (64-bit)
R is free software and comes with ABSOLUTELY NO WARRANTY.
You are welcome to redistribute it under certain conditions.
Type 'license()' or 'licence()' for distribution details.
R is a collaborative project with many contributors.
Type 'contributors()' for more information and
'citation()' on how to cite R or R packages in publications.
Type 'demo()' for some demos, 'help()' for on-line help, or
'help.start()' for an HTML browser interface to help.
Type 'q()' to quit R.
> library(testthat)
> library(spatialDE)
>
> test_check("spatialDE")
Loading required package: SingleCellExperiment
Loading required package: SummarizedExperiment
Loading required package: MatrixGenerics
Loading required package: matrixStats
Attaching package: 'MatrixGenerics'
The following objects are masked from 'package:matrixStats':
colAlls, colAnyNAs, colAnys, colAvgsPerRowSet, colCollapse,
colCounts, colCummaxs, colCummins, colCumprods, colCumsums,
colDiffs, colIQRDiffs, colIQRs, colLogSumExps, colMadDiffs,
colMads, colMaxs, colMeans2, colMedians, colMins, colOrderStats,
colProds, colQuantiles, colRanges, colRanks, colSdDiffs, colSds,
colSums2, colTabulates, colVarDiffs, colVars, colWeightedMads,
colWeightedMeans, colWeightedMedians, colWeightedSds,
colWeightedVars, rowAlls, rowAnyNAs, rowAnys, rowAvgsPerColSet,
rowCollapse, rowCounts, rowCummaxs, rowCummins, rowCumprods,
rowCumsums, rowDiffs, rowIQRDiffs, rowIQRs, rowLogSumExps,
rowMadDiffs, rowMads, rowMaxs, rowMeans2, rowMedians, rowMins,
rowOrderStats, rowProds, rowQuantiles, rowRanges, rowRanks,
rowSdDiffs, rowSds, rowSums2, rowTabulates, rowVarDiffs, rowVars,
rowWeightedMads, rowWeightedMeans, rowWeightedMedians,
rowWeightedSds, rowWeightedVars
Loading required package: GenomicRanges
Loading required package: stats4
Loading required package: BiocGenerics
Attaching package: 'BiocGenerics'
The following objects are masked from 'package:stats':
IQR, mad, sd, var, xtabs
The following objects are masked from 'package:base':
Filter, Find, Map, Position, Reduce, anyDuplicated, aperm, append,
as.data.frame, basename, cbind, colnames, dirname, do.call,
duplicated, eval, evalq, get, grep, grepl, intersect, is.unsorted,
lapply, mapply, match, mget, order, paste, pmax, pmax.int, pmin,
pmin.int, rank, rbind, rownames, sapply, setdiff, sort, table,
tapply, union, unique, unsplit, which.max, which.min
Loading required package: S4Vectors
Attaching package: 'S4Vectors'
The following object is masked from 'package:utils':
findMatches
The following objects are masked from 'package:base':
I, expand.grid, unname
Loading required package: IRanges
Loading required package: GenomeInfoDb
Loading required package: Biobase
Welcome to Bioconductor
Vignettes contain introductory material; view with
'browseVignettes()'. To cite Bioconductor, see
'citation("Biobase")', and for packages 'citation("pkgname")'.
Attaching package: 'Biobase'
The following object is masked from 'package:MatrixGenerics':
rowMedians
The following objects are masked from 'package:matrixStats':
anyMissing, rowMedians
Models: 0%| | 0/10 [00:00<?, ?it/s]
0%| | 0/100 [00:00<?, ?it/s][A
10%|█ | 10/100 [00:00<00:00, 95.21it/s][A
21%|██ | 21/100 [00:00<00:00, 96.23it/s][A
32%|███▏ | 32/100 [00:00<00:00, 98.05it/s][A
43%|████▎ | 43/100 [00:00<00:00, 101.41it/s][A
54%|█████▍ | 54/100 [00:00<00:00, 104.21it/s][A
65%|██████▌ | 65/100 [00:00<00:00, 104.84it/s][A
78%|███████▊ | 78/100 [00:00<00:00, 111.90it/s][A
90%|█████████ | 90/100 [00:00<00:00, 108.54it/s][A
[A
Models: 10%|█ | 1/10 [00:00<00:08, 1.04it/s]
0%| | 0/100 [00:00<?, ?it/s][A
9%|▉ | 9/100 [00:00<00:01, 83.54it/s][A
18%|█▊ | 18/100 [00:00<00:00, 84.85it/s][A
27%|██▋ | 27/100 [00:00<00:00, 78.68it/s][A
35%|███▌ | 35/100 [00:00<00:00, 77.35it/s][A
43%|████▎ | 43/100 [00:00<00:00, 75.78it/s][A
51%|█████ | 51/100 [00:00<00:00, 76.92it/s][A
61%|██████ | 61/100 [00:00<00:00, 80.89it/s][A
70%|███████ | 70/100 [00:00<00:00, 81.30it/s][A
80%|████████ | 80/100 [00:00<00:00, 85.04it/s][A
89%|████████▉ | 89/100 [00:01<00:00, 81.91it/s][A
98%|█████████▊| 98/100 [00:01<00:00, 82.60it/s][A
[A
Models: 20%|██ | 2/10 [00:02<00:08, 1.12s/it]
0%| | 0/100 [00:00<?, ?it/s][A
9%|▉ | 9/100 [00:00<00:01, 86.02it/s][A
18%|█▊ | 18/100 [00:00<00:00, 87.84it/s][A
27%|██▋ | 27/100 [00:00<00:00, 79.37it/s][A
37%|███▋ | 37/100 [00:00<00:00, 85.77it/s][A
46%|████▌ | 46/100 [00:00<00:00, 75.37it/s][A
55%|█████▌ | 55/100 [00:00<00:00, 76.61it/s][A
63%|██████▎ | 63/100 [00:00<00:00, 77.23it/s][A
71%|███████ | 71/100 [00:00<00:00, 75.29it/s][A
79%|███████▉ | 79/100 [00:01<00:00, 75.57it/s][A
87%|████████▋ | 87/100 [00:01<00:00, 74.83it/s][A
96%|█████████▌| 96/100 [00:01<00:00, 76.77it/s][A
[A
Models: 30%|███ | 3/10 [00:03<00:08, 1.19s/it]
0%| | 0/100 [00:00<?, ?it/s][A
9%|▉ | 9/100 [00:00<00:01, 82.28it/s][A
19%|█▉ | 19/100 [00:00<00:00, 86.10it/s][A
28%|██▊ | 28/100 [00:00<00:00, 82.08it/s][A
37%|███▋ | 37/100 [00:00<00:00, 84.92it/s][A
46%|████▌ | 46/100 [00:00<00:00, 73.77it/s][A
54%|█████▍ | 54/100 [00:00<00:00, 74.50it/s][A
62%|██████▏ | 62/100 [00:00<00:00, 74.75it/s][A
70%|███████ | 70/100 [00:00<00:00, 75.08it/s][A
78%|███████▊ | 78/100 [00:01<00:00, 75.48it/s][A
86%|████████▌ | 86/100 [00:01<00:00, 73.19it/s][A
94%|█████████▍| 94/100 [00:01<00:00, 72.98it/s][A
[A
Models: 40%|████ | 4/10 [00:04<00:07, 1.24s/it]
0%| | 0/100 [00:00<?, ?it/s][A
8%|▊ | 8/100 [00:00<00:01, 72.33it/s][A
17%|█▋ | 17/100 [00:00<00:01, 78.30it/s][A
25%|██▌ | 25/100 [00:00<00:01, 73.28it/s][A
33%|███▎ | 33/100 [00:00<00:00, 70.42it/s][A
41%|████ | 41/100 [00:00<00:00, 70.54it/s][A
49%|████▉ | 49/100 [00:00<00:00, 69.73it/s][A
57%|█████▋ | 57/100 [00:00<00:00, 71.53it/s][A
65%|██████▌ | 65/100 [00:00<00:00, 72.76it/s][A
73%|███████▎ | 73/100 [00:01<00:00, 69.72it/s][A
81%|████████ | 81/100 [00:01<00:00, 69.82it/s][A
89%|████████▉ | 89/100 [00:01<00:00, 70.43it/s][A
97%|█████████▋| 97/100 [00:01<00:00, 71.31it/s][A
[A
Models: 50%|█████ | 5/10 [00:06<00:06, 1.30s/it]
0%| | 0/100 [00:00<?, ?it/s][A
9%|▉ | 9/100 [00:00<00:01, 83.16it/s][A
18%|█▊ | 18/100 [00:00<00:00, 83.64it/s][A
27%|██▋ | 27/100 [00:00<00:00, 78.40it/s][A
35%|███▌ | 35/100 [00:00<00:00, 78.83it/s][A
43%|████▎ | 43/100 [00:00<00:00, 75.56it/s][A
51%|█████ | 51/100 [00:00<00:00, 74.37it/s][A
59%|█████▉ | 59/100 [00:00<00:00, 74.05it/s][A
67%|██████▋ | 67/100 [00:00<00:00, 74.66it/s][A
75%|███████▌ | 75/100 [00:00<00:00, 74.89it/s][A
83%|████████▎ | 83/100 [00:01<00:00, 74.58it/s][A
91%|█████████ | 91/100 [00:01<00:00, 76.04it/s][A
99%|█████████▉| 99/100 [00:01<00:00, 76.54it/s][A
[A
Models: 60%|██████ | 6/10 [00:07<00:05, 1.30s/it]
0%| | 0/100 [00:00<?, ?it/s][A
10%|█ | 10/100 [00:00<00:00, 99.43it/s][A
20%|██ | 20/100 [00:00<00:00, 83.57it/s][A
29%|██▉ | 29/100 [00:00<00:00, 79.33it/s][A
38%|███▊ | 38/100 [00:00<00:00, 77.44it/s][A
46%|████▌ | 46/100 [00:00<00:00, 74.88it/s][A
54%|█████▍ | 54/100 [00:00<00:00, 75.53it/s][A
62%|██████▏ | 62/100 [00:00<00:00, 75.53it/s][A
70%|███████ | 70/100 [00:00<00:00, 75.38it/s][A
78%|███████▊ | 78/100 [00:01<00:00, 73.85it/s][A
86%|████████▌ | 86/100 [00:01<00:00, 74.27it/s][A
95%|█████████▌| 95/100 [00:01<00:00, 75.91it/s][A
[A
Models: 70%|███████ | 7/10 [00:08<00:03, 1.30s/it]
0%| | 0/100 [00:00<?, ?it/s][A
8%|▊ | 8/100 [00:00<00:01, 79.86it/s][A
17%|█▋ | 17/100 [00:00<00:01, 79.55it/s][A
25%|██▌ | 25/100 [00:00<00:00, 79.41it/s][A
33%|███▎ | 33/100 [00:00<00:00, 79.46it/s][A
41%|████ | 41/100 [00:00<00:00, 75.82it/s][A
49%|████▉ | 49/100 [00:00<00:00, 74.62it/s][A
57%|█████▋ | 57/100 [00:00<00:00, 75.82it/s][A
65%|██████▌ | 65/100 [00:00<00:00, 73.30it/s][A
73%|███████▎ | 73/100 [00:00<00:00, 71.22it/s][A
81%|████████ | 81/100 [00:01<00:00, 72.10it/s][A
89%|████████▉ | 89/100 [00:01<00:00, 62.46it/s][A
97%|█████████▋| 97/100 [00:01<00:00, 65.17it/s][A
[A
Models: 80%|████████ | 8/10 [00:10<00:02, 1.34s/it]
0%| | 0/100 [00:00<?, ?it/s][A
8%|▊ | 8/100 [00:00<00:01, 79.26it/s][A
16%|█▌ | 16/100 [00:00<00:01, 78.56it/s][A
24%|██▍ | 24/100 [00:00<00:00, 78.01it/s][A
32%|███▏ | 32/100 [00:00<00:00, 75.00it/s][A
40%|████ | 40/100 [00:00<00:00, 76.03it/s][A
48%|████▊ | 48/100 [00:00<00:00, 73.79it/s][A
57%|█████▋ | 57/100 [00:00<00:00, 76.56it/s][A
66%|██████▌ | 66/100 [00:00<00:00, 78.21it/s][A
74%|███████▍ | 74/100 [00:00<00:00, 78.56it/s][A
82%|████████▏ | 82/100 [00:01<00:00, 77.34it/s][A
91%|█████████ | 91/100 [00:01<00:00, 78.48it/s][A
99%|█████████▉| 99/100 [00:01<00:00, 76.66it/s][A
[A
Models: 90%|█████████ | 9/10 [00:11<00:01, 1.33s/it]
0%| | 0/100 [00:00<?, ?it/s][A
9%|▉ | 9/100 [00:00<00:01, 89.70it/s][A
18%|█▊ | 18/100 [00:00<00:00, 87.38it/s][A
27%|██▋ | 27/100 [00:00<00:00, 86.02it/s][A
36%|███▌ | 36/100 [00:00<00:00, 81.90it/s][A
45%|████▌ | 45/100 [00:00<00:00, 81.38it/s][A
54%|█████▍ | 54/100 [00:00<00:00, 82.06it/s][A
63%|██████▎ | 63/100 [00:00<00:00, 84.09it/s][A
73%|███████▎ | 73/100 [00:00<00:00, 87.05it/s][A
82%|████████▏ | 82/100 [00:00<00:00, 84.24it/s][A
91%|█████████ | 91/100 [00:01<00:00, 83.64it/s][A
[A
Models: 100%|██████████| 10/10 [00:12<00:00, 1.28s/it]
Models: 100%|██████████| 10/10 [00:12<00:00, 1.27s/it]
Models: 0%| | 0/10 [00:00<?, ?it/s]
0%| | 0/100 [00:00<?, ?it/s][A
13%|█▎ | 13/100 [00:00<00:00, 125.74it/s][A
26%|██▌ | 26/100 [00:00<00:00, 127.96it/s][A
39%|███▉ | 39/100 [00:00<00:00, 115.16it/s][A
51%|█████ | 51/100 [00:00<00:00, 109.09it/s][A
63%|██████▎ | 63/100 [00:00<00:00, 107.84it/s][A
75%|███████▌ | 75/100 [00:00<00:00, 108.13it/s][A
87%|████████▋ | 87/100 [00:00<00:00, 109.38it/s][A
100%|██████████| 100/100 [00:00<00:00, 112.33it/s][A
[A
Models: 10%|█ | 1/10 [00:00<00:08, 1.12it/s]
0%| | 0/100 [00:00<?, ?it/s][A
11%|█ | 11/100 [00:00<00:00, 106.40it/s][A
22%|██▏ | 22/100 [00:00<00:00, 97.77it/s] [A
32%|███▏ | 32/100 [00:00<00:00, 84.74it/s][A
41%|████ | 41/100 [00:00<00:00, 81.46it/s][A
50%|█████ | 50/100 [00:00<00:00, 79.83it/s][A
59%|█████▉ | 59/100 [00:00<00:00, 80.24it/s][A
68%|██████▊ | 68/100 [00:00<00:00, 81.41it/s][A
77%|███████▋ | 77/100 [00:00<00:00, 79.40it/s][A
86%|████████▌ | 86/100 [00:01<00:00, 81.50it/s][A
95%|█████████▌| 95/100 [00:01<00:00, 80.34it/s][A
[A
Models: 20%|██ | 2/10 [00:02<00:08, 1.09s/it]
0%| | 0/100 [00:00<?, ?it/s][A
11%|█ | 11/100 [00:00<00:00, 107.64it/s][A
22%|██▏ | 22/100 [00:00<00:00, 97.18it/s] [A
32%|███▏ | 32/100 [00:00<00:00, 83.94it/s][A
41%|████ | 41/100 [00:00<00:00, 75.80it/s][A
49%|████▉ | 49/100 [00:00<00:00, 74.90it/s][A
57%|█████▋ | 57/100 [00:00<00:00, 75.92it/s][A
65%|██████▌ | 65/100 [00:00<00:00, 75.52it/s][A
74%|███████▍ | 74/100 [00:00<00:00, 76.51it/s][A
82%|████████▏ | 82/100 [00:01<00:00, 75.93it/s][A
90%|█████████ | 90/100 [00:01<00:00, 72.97it/s][A
98%|█████████▊| 98/100 [00:01<00:00, 73.83it/s][A
[A
Models: 30%|███ | 3/10 [00:03<00:08, 1.19s/it]
0%| | 0/100 [00:00<?, ?it/s][A
11%|█ | 11/100 [00:00<00:00, 109.14it/s][A
22%|██▏ | 22/100 [00:00<00:00, 90.31it/s] [A
32%|███▏ | 32/100 [00:00<00:00, 84.67it/s][A
41%|████ | 41/100 [00:00<00:00, 78.75it/s][A
49%|████▉ | 49/100 [00:00<00:00, 78.07it/s][A
57%|█████▋ | 57/100 [00:00<00:00, 76.32it/s][A
65%|██████▌ | 65/100 [00:00<00:00, 75.46it/s][A
73%|███████▎ | 73/100 [00:00<00:00, 76.62it/s][A
81%|████████ | 81/100 [00:01<00:00, 76.14it/s][A
89%|████████▉ | 89/100 [00:01<00:00, 74.24it/s][A
97%|█████████▋| 97/100 [00:01<00:00, 74.00it/s][A
[A
Models: 40%|████ | 4/10 [00:04<00:07, 1.23s/it]
0%| | 0/100 [00:00<?, ?it/s][A
11%|█ | 11/100 [00:00<00:00, 98.00it/s][A
21%|██ | 21/100 [00:00<00:00, 83.24it/s][A
30%|███ | 30/100 [00:00<00:00, 75.14it/s][A
38%|███▊ | 38/100 [00:00<00:00, 72.98it/s][A
46%|████▌ | 46/100 [00:00<00:00, 73.53it/s][A
54%|█████▍ | 54/100 [00:00<00:00, 72.52it/s][A
62%|██████▏ | 62/100 [00:00<00:00, 71.02it/s][A
70%|███████ | 70/100 [00:00<00:00, 68.61it/s][A
78%|███████▊ | 78/100 [00:01<00:00, 70.13it/s][A
86%|████████▌ | 86/100 [00:01<00:00, 69.61it/s][A
93%|█████████▎| 93/100 [00:01<00:00, 69.67it/s][A
[A
Models: 50%|█████ | 5/10 [00:06<00:06, 1.29s/it]
0%| | 0/100 [00:00<?, ?it/s][A
11%|█ | 11/100 [00:00<00:00, 106.84it/s][A
22%|██▏ | 22/100 [00:00<00:00, 86.18it/s] [A
31%|███ | 31/100 [00:00<00:00, 79.66it/s][A
40%|████ | 40/100 [00:00<00:00, 74.53it/s][A
48%|████▊ | 48/100 [00:00<00:00, 73.57it/s][A
56%|█████▌ | 56/100 [00:00<00:00, 72.12it/s][A
64%|██████▍ | 64/100 [00:00<00:00, 71.64it/s][A
72%|███████▏ | 72/100 [00:00<00:00, 70.65it/s][A
80%|████████ | 80/100 [00:01<00:00, 70.77it/s][A
88%|████████▊ | 88/100 [00:01<00:00, 68.10it/s][A
96%|█████████▌| 96/100 [00:01<00:00, 70.42it/s][A
[A
Models: 60%|██████ | 6/10 [00:07<00:05, 1.32s/it]
0%| | 0/100 [00:00<?, ?it/s][A
11%|█ | 11/100 [00:00<00:00, 102.25it/s][A
22%|██▏ | 22/100 [00:00<00:00, 86.46it/s] [A
31%|███ | 31/100 [00:00<00:00, 78.80it/s][A
39%|███▉ | 39/100 [00:00<00:00, 73.31it/s][A
47%|████▋ | 47/100 [00:00<00:00, 74.24it/s][A
55%|█████▌ | 55/100 [00:00<00:00, 72.72it/s][A
63%|██████▎ | 63/100 [00:00<00:00, 72.57it/s][A
71%|███████ | 71/100 [00:00<00:00, 72.36it/s][A
79%|███████▉ | 79/100 [00:01<00:00, 73.47it/s][A
87%|████████▋ | 87/100 [00:01<00:00, 73.20it/s][A
96%|█████████▌| 96/100 [00:01<00:00, 74.98it/s][A
[A
Models: 70%|███████ | 7/10 [00:08<00:03, 1.32s/it]
0%| | 0/100 [00:00<?, ?it/s][A
11%|█ | 11/100 [00:00<00:00, 108.08it/s][A
22%|██▏ | 22/100 [00:00<00:00, 87.29it/s] [A
31%|███ | 31/100 [00:00<00:00, 80.48it/s][A
40%|████ | 40/100 [00:00<00:00, 74.82it/s][A
48%|████▊ | 48/100 [00:00<00:00, 76.03it/s][A
56%|█████▌ | 56/100 [00:00<00:00, 75.12it/s][A
64%|██████▍ | 64/100 [00:00<00:00, 73.56it/s][A
72%|███████▏ | 72/100 [00:01<00:00, 60.02it/s][A
80%|████████ | 80/100 [00:01<00:00, 63.34it/s][A
87%|████████▋ | 87/100 [00:01<00:00, 55.05it/s][A
95%|█████████▌| 95/100 [00:01<00:00, 60.39it/s][A
[A
Models: 80%|████████ | 8/10 [00:10<00:02, 1.37s/it]
0%| | 0/100 [00:00<?, ?it/s][A
11%|█ | 11/100 [00:00<00:00, 99.07it/s][A
21%|██ | 21/100 [00:00<00:00, 84.20it/s][A
30%|███ | 30/100 [00:00<00:00, 75.76it/s][A
38%|███▊ | 38/100 [00:00<00:00, 74.06it/s][A
46%|████▌ | 46/100 [00:00<00:00, 75.22it/s][A
55%|█████▌ | 55/100 [00:00<00:00, 76.59it/s][A
63%|██████▎ | 63/100 [00:00<00:00, 77.59it/s][A
71%|███████ | 71/100 [00:00<00:00, 76.08it/s][A
81%|████████ | 81/100 [00:01<00:00, 80.61it/s][A
90%|█████████ | 90/100 [00:01<00:00, 80.43it/s][A
99%|█████████▉| 99/100 [00:01<00:00, 78.33it/s][A
[A
Models: 90%|█████████ | 9/10 [00:11<00:01, 1.34s/it]
0%| | 0/100 [00:00<?, ?it/s][A
12%|█▏ | 12/100 [00:00<00:00, 108.32it/s][A
23%|██▎ | 23/100 [00:00<00:00, 95.34it/s] [A
33%|███▎ | 33/100 [00:00<00:00, 87.10it/s][A
42%|████▏ | 42/100 [00:00<00:00, 84.01it/s][A
51%|█████ | 51/100 [00:00<00:00, 83.71it/s][A
60%|██████ | 60/100 [00:00<00:00, 83.60it/s][A
69%|██████▉ | 69/100 [00:00<00:00, 83.61it/s][A
78%|███████▊ | 78/100 [00:00<00:00, 82.56it/s][A
87%|████████▋ | 87/100 [00:01<00:00, 83.56it/s][A
97%|█████████▋| 97/100 [00:01<00:00, 85.80it/s][A
[A
Models: 100%|██████████| 10/10 [00:12<00:00, 1.29s/it]
Models: 100%|██████████| 10/10 [00:12<00:00, 1.27s/it]
/private/var/cache/basilisk/1.14.3/spatialDE/1.8.1/env/lib/python3.9/site-packages/pandas/core/internals/blocks.py:351: RuntimeWarning: invalid value encountered in log
result = func(self.values, **kwargs)
Models: 0%| | 0/10 [00:00<?, ?it/s]
0%| | 0/100 [00:00<?, ?it/s][A
13%|█▎ | 13/100 [00:00<00:00, 125.59it/s][A
26%|██▌ | 26/100 [00:00<00:00, 113.99it/s][A
38%|███▊ | 38/100 [00:00<00:00, 106.41it/s][A
50%|█████ | 50/100 [00:00<00:00, 109.74it/s][A
63%|██████▎ | 63/100 [00:00<00:00, 114.28it/s][A
75%|███████▌ | 75/100 [00:00<00:00, 112.12it/s][A
87%|████████▋ | 87/100 [00:00<00:00, 112.86it/s][A
99%|█████████▉| 99/100 [00:00<00:00, 109.07it/s][A
[A
Models: 10%|█ | 1/10 [00:00<00:08, 1.10it/s]
0%| | 0/100 [00:00<?, ?it/s][A
12%|█▏ | 12/100 [00:00<00:00, 110.15it/s][A
24%|██▍ | 24/100 [00:00<00:00, 88.57it/s] [A
34%|███▍ | 34/100 [00:00<00:00, 85.24it/s][A
43%|████▎ | 43/100 [00:00<00:00, 83.93it/s][A
52%|█████▏ | 52/100 [00:00<00:00, 80.73it/s][A
61%|██████ | 61/100 [00:00<00:00, 78.48it/s][A
71%|███████ | 71/100 [00:00<00:00, 81.76it/s][A
80%|████████ | 80/100 [00:00<00:00, 82.52it/s][A
89%|████████▉ | 89/100 [00:01<00:00, 82.69it/s][A
98%|█████████▊| 98/100 [00:01<00:00, 82.88it/s][A
[A
Models: 20%|██ | 2/10 [00:02<00:08, 1.08s/it]
0%| | 0/100 [00:00<?, ?it/s][A
11%|█ | 11/100 [00:00<00:00, 98.00it/s][A
21%|██ | 21/100 [00:00<00:00, 83.92it/s][A
30%|███ | 30/100 [00:00<00:00, 80.40it/s][A
39%|███▉ | 39/100 [00:00<00:00, 77.33it/s][A
47%|████▋ | 47/100 [00:00<00:00, 76.93it/s][A
55%|█████▌ | 55/100 [00:00<00:00, 75.85it/s][A
63%|██████▎ | 63/100 [00:00<00:00, 76.16it/s][A
71%|███████ | 71/100 [00:00<00:00, 74.97it/s][A
79%|███████▉ | 79/100 [00:01<00:00, 72.62it/s][A
87%|████████▋ | 87/100 [00:01<00:00, 73.39it/s][A
96%|█████████▌| 96/100 [00:01<00:00, 76.61it/s][A
[A
Models: 30%|███ | 3/10 [00:03<00:08, 1.18s/it]
0%| | 0/100 [00:00<?, ?it/s][A
11%|█ | 11/100 [00:00<00:00, 101.03it/s][A
22%|██▏ | 22/100 [00:00<00:00, 81.68it/s] [A
31%|███ | 31/100 [00:00<00:00, 76.70it/s][A
39%|███▉ | 39/100 [00:00<00:00, 73.75it/s][A
47%|████▋ | 47/100 [00:00<00:00, 74.04it/s][A
55%|█████▌ | 55/100 [00:00<00:00, 72.21it/s][A
63%|██████▎ | 63/100 [00:00<00:00, 73.52it/s][A
71%|███████ | 71/100 [00:00<00:00, 73.53it/s][A
79%|███████▉ | 79/100 [00:01<00:00, 73.20it/s][A
87%|████████▋ | 87/100 [00:01<00:00, 72.98it/s][A
95%|█████████▌| 95/100 [00:01<00:00, 74.26it/s][A
[A
Models: 40%|████ | 4/10 [00:04<00:07, 1.24s/it]
0%| | 0/100 [00:00<?, ?it/s][A
10%|█ | 10/100 [00:00<00:00, 99.55it/s][A
20%|██ | 20/100 [00:00<00:00, 82.65it/s][A
29%|██▉ | 29/100 [00:00<00:00, 76.72it/s][A
37%|███▋ | 37/100 [00:00<00:00, 75.46it/s][A
45%|████▌ | 45/100 [00:00<00:00, 75.00it/s][A
53%|█████▎ | 53/100 [00:00<00:00, 74.01it/s][A
61%|██████ | 61/100 [00:00<00:00, 71.74it/s][A
69%|██████▉ | 69/100 [00:00<00:00, 73.98it/s][A
77%|███████▋ | 77/100 [00:01<00:00, 72.44it/s][A
85%|████████▌ | 85/100 [00:01<00:00, 73.35it/s][A
93%|█████████▎| 93/100 [00:01<00:00, 73.97it/s][A
[A
Models: 50%|█████ | 5/10 [00:06<00:06, 1.27s/it]
0%| | 0/100 [00:00<?, ?it/s][A
10%|█ | 10/100 [00:00<00:00, 93.21it/s][A
20%|██ | 20/100 [00:00<00:01, 77.43it/s][A
28%|██▊ | 28/100 [00:00<00:00, 74.40it/s][A
36%|███▌ | 36/100 [00:00<00:00, 74.05it/s][A
44%|████▍ | 44/100 [00:00<00:00, 73.99it/s][A
52%|█████▏ | 52/100 [00:00<00:00, 73.81it/s][A
60%|██████ | 60/100 [00:00<00:00, 72.17it/s][A
68%|██████▊ | 68/100 [00:00<00:00, 72.85it/s][A
76%|███████▌ | 76/100 [00:01<00:00, 72.79it/s][A
84%|████████▍ | 84/100 [00:01<00:00, 71.39it/s][A
92%|█████████▏| 92/100 [00:01<00:00, 72.41it/s][A
100%|██████████| 100/100 [00:01<00:00, 73.60it/s][A
[A
Models: 60%|██████ | 6/10 [00:07<00:05, 1.30s/it]
0%| | 0/100 [00:00<?, ?it/s][A
10%|█ | 10/100 [00:00<00:00, 97.38it/s][A
20%|██ | 20/100 [00:00<00:00, 84.84it/s][A
29%|██▉ | 29/100 [00:00<00:00, 77.76it/s][A
37%|███▋ | 37/100 [00:00<00:00, 77.43it/s][A
45%|████▌ | 45/100 [00:00<00:00, 77.49it/s][A
53%|█████▎ | 53/100 [00:00<00:00, 74.72it/s][A
61%|██████ | 61/100 [00:00<00:00, 73.43it/s][A
70%|███████ | 70/100 [00:00<00:00, 75.45it/s][A
78%|███████▊ | 78/100 [00:01<00:00, 74.41it/s][A
86%|████████▌ | 86/100 [00:01<00:00, 75.59it/s][A
95%|█████████▌| 95/100 [00:01<00:00, 77.13it/s][A
[A
Models: 70%|███████ | 7/10 [00:08<00:03, 1.31s/it]
0%| | 0/100 [00:00<?, ?it/s][A
10%|█ | 10/100 [00:00<00:00, 98.35it/s][A
20%|██ | 20/100 [00:00<00:00, 84.85it/s][A
29%|██▉ | 29/100 [00:00<00:00, 79.65it/s][A
38%|███▊ | 38/100 [00:00<00:00, 77.75it/s][A
46%|████▌ | 46/100 [00:00<00:00, 77.44it/s][A
54%|█████▍ | 54/100 [00:00<00:00, 75.84it/s][A
62%|██████▏ | 62/100 [00:00<00:00, 75.49it/s][A
70%|███████ | 70/100 [00:00<00:00, 75.30it/s][A
78%|███████▊ | 78/100 [00:01<00:00, 74.37it/s][A
86%|████████▌ | 86/100 [00:01<00:00, 75.13it/s][A
95%|█████████▌| 95/100 [00:01<00:00, 76.96it/s][A
[A
Models: 80%|████████ | 8/10 [00:10<00:02, 1.30s/it]
0%| | 0/100 [00:00<?, ?it/s][A
11%|█ | 11/100 [00:00<00:00, 103.63it/s][A
22%|██▏ | 22/100 [00:00<00:00, 87.66it/s] [A
31%|███ | 31/100 [00:00<00:00, 82.86it/s][A
40%|████ | 40/100 [00:00<00:00, 82.08it/s][A
49%|████▉ | 49/100 [00:00<00:00, 81.57it/s][A
58%|█████▊ | 58/100 [00:00<00:00, 79.51it/s][A
67%|██████▋ | 67/100 [00:00<00:00, 80.49it/s][A
76%|███████▌ | 76/100 [00:00<00:00, 78.91it/s][A
84%|████████▍ | 84/100 [00:01<00:00, 78.10it/s][A
92%|█████████▏| 92/100 [00:01<00:00, 78.55it/s][A
[A
Models: 90%|█████████ | 9/10 [00:11<00:01, 1.28s/it]
0%| | 0/100 [00:00<?, ?it/s][A
10%|█ | 10/100 [00:00<00:01, 88.93it/s][A
20%|██ | 20/100 [00:00<00:00, 89.27it/s][A
30%|███ | 30/100 [00:00<00:00, 90.29it/s][A
40%|████ | 40/100 [00:00<00:00, 87.37it/s][A
49%|████▉ | 49/100 [00:00<00:00, 85.72it/s][A
58%|█████▊ | 58/100 [00:00<00:00, 83.28it/s][A
68%|██████▊ | 68/100 [00:00<00:00, 86.60it/s][A
77%|███████▋ | 77/100 [00:00<00:00, 83.66it/s][A
86%|████████▌ | 86/100 [00:01<00:00, 83.64it/s][A
95%|█████████▌| 95/100 [00:01<00:00, 84.11it/s][A
[A
Models: 100%|██████████| 10/10 [00:12<00:00, 1.25s/it]
Models: 100%|██████████| 10/10 [00:12<00:00, 1.25s/it]
Models: 0%| | 0/10 [00:00<?, ?it/s]
0%| | 0/100 [00:00<?, ?it/s][A
14%|█▍ | 14/100 [00:00<00:00, 132.50it/s][A
28%|██▊ | 28/100 [00:00<00:00, 114.14it/s][A
40%|████ | 40/100 [00:00<00:00, 108.66it/s][A
52%|█████▏ | 52/100 [00:00<00:00, 111.71it/s][A
65%|██████▌ | 65/100 [00:00<00:00, 115.92it/s][A
77%|███████▋ | 77/100 [00:00<00:00, 115.86it/s][A
90%|█████████ | 90/100 [00:00<00:00, 118.15it/s][A
[A
Models: 10%|█ | 1/10 [00:00<00:07, 1.16it/s]
0%| | 0/100 [00:00<?, ?it/s][A
12%|█▏ | 12/100 [00:00<00:00, 116.84it/s][A
24%|██▍ | 24/100 [00:00<00:00, 103.02it/s][A
35%|███▌ | 35/100 [00:00<00:00, 94.50it/s] [A
45%|████▌ | 45/100 [00:00<00:00, 89.95it/s][A
55%|█████▌ | 55/100 [00:00<00:00, 87.94it/s][A
64%|██████▍ | 64/100 [00:00<00:00, 84.95it/s][A
73%|███████▎ | 73/100 [00:00<00:00, 85.97it/s][A
82%|████████▏ | 82/100 [00:00<00:00, 81.91it/s][A
91%|█████████ | 91/100 [00:01<00:00, 83.95it/s][A
100%|██████████| 100/100 [00:01<00:00, 76.12it/s][A
[A
Models: 20%|██ | 2/10 [00:02<00:08, 1.05s/it]
0%| | 0/100 [00:00<?, ?it/s][A
11%|█ | 11/100 [00:00<00:00, 105.45it/s][A
22%|██▏ | 22/100 [00:00<00:00, 86.27it/s] [A
31%|███ | 31/100 [00:00<00:00, 80.62it/s][A
40%|████ | 40/100 [00:00<00:00, 79.44it/s][A
49%|████▉ | 49/100 [00:00<00:00, 81.60it/s][A
58%|█████▊ | 58/100 [00:00<00:00, 77.97it/s][A
67%|██████▋ | 67/100 [00:00<00:00, 80.43it/s][A
76%|███████▌ | 76/100 [00:00<00:00, 79.79it/s][A
85%|████████▌ | 85/100 [00:01<00:00, 78.35it/s][A
93%|█████████▎| 93/100 [00:01<00:00, 76.57it/s][A
[A
Models: 30%|███ | 3/10 [00:03<00:08, 1.14s/it]
0%| | 0/100 [00:00<?, ?it/s][A
11%|█ | 11/100 [00:00<00:00, 106.58it/s][A
22%|██▏ | 22/100 [00:00<00:00, 83.72it/s] [A
31%|███ | 31/100 [00:00<00:00, 77.89it/s][A
39%|███▉ | 39/100 [00:00<00:00, 76.84it/s][A
48%|████▊ | 48/100 [00:00<00:00, 78.12it/s][A
56%|█████▌ | 56/100 [00:00<00:00, 75.97it/s][A
65%|██████▌ | 65/100 [00:00<00:00, 79.62it/s][A
74%|███████▍ | 74/100 [00:00<00:00, 79.36it/s][A
82%|████████▏ | 82/100 [00:01<00:00, 78.21it/s][A
90%|█████████ | 90/100 [00:01<00:00, 78.54it/s][A
98%|█████████▊| 98/100 [00:01<00:00, 78.52it/s][A
[A
Models: 40%|████ | 4/10 [00:04<00:07, 1.19s/it]
0%| | 0/100 [00:00<?, ?it/s][A
11%|█ | 11/100 [00:00<00:00, 99.16it/s][A
21%|██ | 21/100 [00:00<00:00, 83.47it/s][A
30%|███ | 30/100 [00:00<00:00, 78.23it/s][A
38%|███▊ | 38/100 [00:00<00:00, 74.74it/s][A
46%|████▌ | 46/100 [00:00<00:00, 74.17it/s][A
54%|█████▍ | 54/100 [00:00<00:00, 74.17it/s][A
62%|██████▏ | 62/100 [00:00<00:00, 72.69it/s][A
70%|███████ | 70/100 [00:00<00:00, 74.17it/s][A
78%|███████▊ | 78/100 [00:01<00:00, 72.74it/s][A
87%|████████▋ | 87/100 [00:01<00:00, 76.01it/s][A
96%|█████████▌| 96/100 [00:01<00:00, 77.24it/s][A
[A
Models: 50%|█████ | 5/10 [00:05<00:06, 1.24s/it]
0%| | 0/100 [00:00<?, ?it/s][A
10%|█ | 10/100 [00:00<00:00, 90.75it/s][A
20%|██ | 20/100 [00:00<00:00, 81.63it/s][A
29%|██▉ | 29/100 [00:00<00:00, 76.15it/s][A
37%|███▋ | 37/100 [00:00<00:00, 75.78it/s][A
45%|████▌ | 45/100 [00:00<00:00, 71.59it/s][A
53%|█████▎ | 53/100 [00:00<00:00, 73.13it/s][A
61%|██████ | 61/100 [00:00<00:00, 72.48it/s][A
69%|██████▉ | 69/100 [00:00<00:00, 72.53it/s][A
77%|███████▋ | 77/100 [00:01<00:00, 70.64it/s][A
85%|████████▌ | 85/100 [00:01<00:00, 71.04it/s][A
93%|█████████▎| 93/100 [00:01<00:00, 73.28it/s][A
[A
Models: 60%|██████ | 6/10 [00:07<00:05, 1.28s/it]
0%| | 0/100 [00:00<?, ?it/s][A
11%|█ | 11/100 [00:00<00:00, 95.25it/s][A
21%|██ | 21/100 [00:00<00:00, 82.95it/s][A
30%|███ | 30/100 [00:00<00:00, 76.04it/s][A
38%|███▊ | 38/100 [00:00<00:00, 74.50it/s][A
46%|████▌ | 46/100 [00:00<00:00, 75.32it/s][A
54%|█████▍ | 54/100 [00:00<00:00, 73.64it/s][A
62%|██████▏ | 62/100 [00:00<00:00, 74.29it/s][A
70%|███████ | 70/100 [00:00<00:00, 74.82it/s][A
78%|███████▊ | 78/100 [00:01<00:00, 73.83it/s][A
86%|████████▌ | 86/100 [00:01<00:00, 75.20it/s][A
94%|█████████▍| 94/100 [00:01<00:00, 76.10it/s][A
[A
Models: 70%|███████ | 7/10 [00:08<00:03, 1.29s/it]
0%| | 0/100 [00:00<?, ?it/s][A
10%|█ | 10/100 [00:00<00:00, 96.11it/s][A
20%|██ | 20/100 [00:00<00:00, 86.35it/s][A
29%|██▉ | 29/100 [00:00<00:00, 80.11it/s][A
38%|███▊ | 38/100 [00:00<00:00, 79.77it/s][A
47%|████▋ | 47/100 [00:00<00:00, 77.73it/s][A
55%|█████▌ | 55/100 [00:00<00:00, 74.41it/s][A
63%|██████▎ | 63/100 [00:00<00:00, 74.84it/s][A
71%|███████ | 71/100 [00:00<00:00, 74.68it/s][A
79%|███████▉ | 79/100 [00:01<00:00, 73.62it/s][A
88%|████████▊ | 88/100 [00:01<00:00, 76.03it/s][A
96%|█████████▌| 96/100 [00:01<00:00, 76.87it/s][A
[A
Models: 80%|████████ | 8/10 [00:09<00:02, 1.29s/it]
0%| | 0/100 [00:00<?, ?it/s][A
11%|█ | 11/100 [00:00<00:00, 107.74it/s][A
22%|██▏ | 22/100 [00:00<00:00, 90.12it/s] [A
32%|███▏ | 32/100 [00:00<00:00, 84.84it/s][A
41%|████ | 41/100 [00:00<00:00, 82.24it/s][A
50%|█████ | 50/100 [00:00<00:00, 80.68it/s][A
59%|█████▉ | 59/100 [00:00<00:00, 77.12it/s][A
68%|██████▊ | 68/100 [00:00<00:00, 78.58it/s][A
76%|███████▌ | 76/100 [00:00<00:00, 77.27it/s][A
84%|████████▍ | 84/100 [00:01<00:00, 75.60it/s][A
92%|█████████▏| 92/100 [00:01<00:00, 76.72it/s][A
100%|██████████| 100/100 [00:01<00:00, 77.56it/s][A
[A
Models: 90%|█████████ | 9/10 [00:11<00:01, 1.28s/it]
0%| | 0/100 [00:00<?, ?it/s][A
9%|▉ | 9/100 [00:00<00:01, 88.52it/s][A
18%|█▊ | 18/100 [00:00<00:00, 84.01it/s][A
27%|██▋ | 27/100 [00:00<00:00, 85.10it/s][A
36%|███▌ | 36/100 [00:00<00:00, 82.38it/s][A
46%|████▌ | 46/100 [00:00<00:00, 85.96it/s][A
55%|█████▌ | 55/100 [00:00<00:00, 83.70it/s][A
64%|██████▍ | 64/100 [00:00<00:00, 83.40it/s][A
73%|███████▎ | 73/100 [00:00<00:00, 84.90it/s][A
82%|████████▏ | 82/100 [00:00<00:00, 82.20it/s][A
91%|█████████ | 91/100 [00:01<00:00, 82.63it/s][A
100%|██████████| 100/100 [00:01<00:00, 82.77it/s][A
[A
Models: 100%|██████████| 10/10 [00:12<00:00, 1.26s/it]
Models: 100%|██████████| 10/10 [00:12<00:00, 1.23s/it]
Models: 0%| | 0/10 [00:00<?, ?it/s]
0%| | 0/100 [00:00<?, ?it/s][A
13%|█▎ | 13/100 [00:00<00:00, 126.77it/s][A
26%|██▌ | 26/100 [00:00<00:00, 111.82it/s][A
38%|███▊ | 38/100 [00:00<00:00, 105.78it/s][A
49%|████▉ | 49/100 [00:00<00:00, 105.30it/s][A
62%|██████▏ | 62/100 [00:00<00:00, 111.29it/s][A
74%|███████▍ | 74/100 [00:00<00:00, 111.31it/s][A
86%|████████▌ | 86/100 [00:00<00:00, 113.72it/s][A
99%|█████████▉| 99/100 [00:00<00:00, 116.91it/s][A
[A
Models: 10%|█ | 1/10 [00:00<00:08, 1.12it/s]
0%| | 0/100 [00:00<?, ?it/s][A
10%|█ | 10/100 [00:00<00:00, 99.25it/s][A
20%|██ | 20/100 [00:00<00:00, 95.75it/s][A
30%|███ | 30/100 [00:00<00:00, 93.71it/s][A
40%|████ | 40/100 [00:00<00:00, 75.75it/s][A
49%|████▉ | 49/100 [00:00<00:00, 79.47it/s][A
58%|█████▊ | 58/100 [00:00<00:00, 76.98it/s][A
67%|██████▋ | 67/100 [00:00<00:00, 79.29it/s][A
76%|███████▌ | 76/100 [00:00<00:00, 80.26it/s][A
85%|████████▌ | 85/100 [00:01<00:00, 79.11it/s][A
94%|█████████▍| 94/100 [00:01<00:00, 81.54it/s][A
[A
Models: 20%|██ | 2/10 [00:02<00:08, 1.09s/it]
0%| | 0/100 [00:00<?, ?it/s][A
11%|█ | 11/100 [00:00<00:00, 106.41it/s][A
22%|██▏ | 22/100 [00:00<00:00, 84.33it/s] [A
31%|███ | 31/100 [00:00<00:00, 78.35it/s][A
39%|███▉ | 39/100 [00:00<00:00, 74.77it/s][A
47%|████▋ | 47/100 [00:00<00:00, 72.37it/s][A
55%|█████▌ | 55/100 [00:00<00:00, 70.65it/s][A
63%|██████▎ | 63/100 [00:00<00:00, 72.98it/s][A
71%|███████ | 71/100 [00:00<00:00, 74.18it/s][A
79%|███████▉ | 79/100 [00:01<00:00, 72.13it/s][A
87%|████████▋ | 87/100 [00:01<00:00, 73.61it/s][A
96%|█████████▌| 96/100 [00:01<00:00, 77.11it/s][A
[A
Models: 30%|███ | 3/10 [00:03<00:08, 1.19s/it]
0%| | 0/100 [00:00<?, ?it/s][A
10%|█ | 10/100 [00:00<00:00, 93.66it/s][A
20%|██ | 20/100 [00:00<00:00, 81.40it/s][A
29%|██▉ | 29/100 [00:00<00:00, 76.72it/s][A
37%|███▋ | 37/100 [00:00<00:00, 75.61it/s][A
45%|████▌ | 45/100 [00:00<00:00, 73.97it/s][A
53%|█████▎ | 53/100 [00:00<00:00, 72.34it/s][A
61%|██████ | 61/100 [00:00<00:00, 72.85it/s][A
69%|██████▉ | 69/100 [00:00<00:00, 74.79it/s][A
77%|███████▋ | 77/100 [00:01<00:00, 75.26it/s][A
85%|████████▌ | 85/100 [00:01<00:00, 73.40it/s][A
93%|█████████▎| 93/100 [00:01<00:00, 72.81it/s][A
[A
Models: 40%|████ | 4/10 [00:04<00:07, 1.25s/it]
0%| | 0/100 [00:00<?, ?it/s][A
10%|█ | 10/100 [00:00<00:00, 93.16it/s][A
20%|██ | 20/100 [00:00<00:01, 78.32it/s][A
28%|██▊ | 28/100 [00:00<00:00, 74.23it/s][A
36%|███▌ | 36/100 [00:00<00:00, 74.30it/s][A
44%|████▍ | 44/100 [00:00<00:00, 72.69it/s][A
52%|█████▏ | 52/100 [00:00<00:00, 72.38it/s][A
60%|██████ | 60/100 [00:00<00:00, 70.99it/s][A
68%|██████▊ | 68/100 [00:00<00:00, 72.45it/s][A
76%|███████▌ | 76/100 [00:01<00:00, 72.75it/s][A
84%|████████▍ | 84/100 [00:01<00:00, 73.28it/s][A
93%|█████████▎| 93/100 [00:01<00:00, 75.26it/s][A
[A
Models: 50%|█████ | 5/10 [00:06<00:06, 1.28s/it]
0%| | 0/100 [00:00<?, ?it/s][A
10%|█ | 10/100 [00:00<00:00, 93.85it/s][A
20%|██ | 20/100 [00:00<00:01, 78.32it/s][A
28%|██▊ | 28/100 [00:00<00:00, 75.79it/s][A
36%|███▌ | 36/100 [00:00<00:00, 73.54it/s][A
44%|████▍ | 44/100 [00:00<00:00, 72.74it/s][A
52%|█████▏ | 52/100 [00:00<00:00, 72.05it/s][A
60%|██████ | 60/100 [00:00<00:00, 70.32it/s][A
68%|██████▊ | 68/100 [00:00<00:00, 72.44it/s][A
76%|███████▌ | 76/100 [00:01<00:00, 72.50it/s][A
84%|████████▍ | 84/100 [00:01<00:00, 72.88it/s][A
93%|█████████▎| 93/100 [00:01<00:00, 75.19it/s][A
[A
Models: 60%|██████ | 6/10 [00:07<00:05, 1.31s/it]
0%| | 0/100 [00:00<?, ?it/s][A
11%|█ | 11/100 [00:00<00:00, 99.05it/s][A
21%|██ | 21/100 [00:00<00:00, 87.23it/s][A
30%|███ | 30/100 [00:00<00:00, 79.95it/s][A
39%|███▉ | 39/100 [00:00<00:00, 80.30it/s][A
48%|████▊ | 48/100 [00:00<00:00, 77.32it/s][A
56%|█████▌ | 56/100 [00:00<00:00, 77.30it/s][A
64%|██████▍ | 64/100 [00:00<00:00, 77.56it/s][A
72%|███████▏ | 72/100 [00:00<00:00, 76.43it/s][A
80%|████████ | 80/100 [00:01<00:00, 75.78it/s][A
88%|████████▊ | 88/100 [00:01<00:00, 74.67it/s][A
96%|█████████▌| 96/100 [00:01<00:00, 75.12it/s][A
[A
Models: 70%|███████ | 7/10 [00:08<00:03, 1.30s/it]
0%| | 0/100 [00:00<?, ?it/s][A
10%|█ | 10/100 [00:00<00:00, 99.97it/s][A
20%|██ | 20/100 [00:00<00:00, 87.38it/s][A
29%|██▉ | 29/100 [00:00<00:00, 80.92it/s][A
38%|███▊ | 38/100 [00:00<00:00, 77.64it/s][A
46%|████▌ | 46/100 [00:00<00:00, 77.94it/s][A
54%|█████▍ | 54/100 [00:00<00:00, 76.81it/s][A
62%|██████▏ | 62/100 [00:00<00:00, 76.37it/s][A
70%|███████ | 70/100 [00:00<00:00, 75.72it/s][A
78%|███████▊ | 78/100 [00:01<00:00, 74.57it/s][A
86%|████████▌ | 86/100 [00:01<00:00, 73.85it/s][A
94%|█████████▍| 94/100 [00:01<00:00, 75.37it/s][A
[A
Models: 80%|████████ | 8/10 [00:10<00:02, 1.30s/it]
0%| | 0/100 [00:00<?, ?it/s][A
11%|█ | 11/100 [00:00<00:00, 97.02it/s][A
21%|██ | 21/100 [00:00<00:00, 81.82it/s][A
30%|███ | 30/100 [00:00<00:00, 79.42it/s][A
38%|███▊ | 38/100 [00:00<00:00, 79.45it/s][A
47%|████▋ | 47/100 [00:00<00:00, 80.17it/s][A
56%|█████▌ | 56/100 [00:00<00:00, 77.05it/s][A
65%|██████▌ | 65/100 [00:00<00:00, 77.94it/s][A
74%|███████▍ | 74/100 [00:00<00:00, 78.61it/s][A
82%|████████▏ | 82/100 [00:01<00:00, 77.92it/s][A
91%|█████████ | 91/100 [00:01<00:00, 79.86it/s][A
99%|█████████▉| 99/100 [00:01<00:00, 79.87it/s][A
[A
Models: 90%|█████████ | 9/10 [00:11<00:01, 1.29s/it]
0%| | 0/100 [00:00<?, ?it/s][A
10%|█ | 10/100 [00:00<00:00, 90.56it/s][A
20%|██ | 20/100 [00:00<00:00, 87.43it/s][A
29%|██▉ | 29/100 [00:00<00:00, 87.28it/s][A
38%|███▊ | 38/100 [00:00<00:00, 86.87it/s][A
47%|████▋ | 47/100 [00:00<00:00, 86.48it/s][A
56%|█████▌ | 56/100 [00:00<00:00, 84.15it/s][A
65%|██████▌ | 65/100 [00:00<00:00, 84.90it/s][A
74%|███████▍ | 74/100 [00:00<00:00, 86.32it/s][A
83%|████████▎ | 83/100 [00:00<00:00, 85.36it/s][A
92%|█████████▏| 92/100 [00:01<00:00, 84.99it/s][A
[A
Models: 100%|██████████| 10/10 [00:12<00:00, 1.25s/it]
Models: 100%|██████████| 10/10 [00:12<00:00, 1.25s/it]
[ FAIL 0 | WARN 0 | SKIP 0 | PASS 29 ]
>
> proc.time()
user system elapsed
154.327 5.096 170.458
/private/var/cache/basilisk/1.14.3/spatialDE/1.8.1/env/lib/python3.9/multiprocessing/resource_tracker.py:216: UserWarning: resource_tracker: There appear to be 1 leaked semaphore objects to clean up at shutdown
warnings.warn('resource_tracker: There appear to be %d '
spatialDE.Rcheck/spatialDE-Ex.timings
| name | user | system | elapsed | |
| FSV_sig | 12.497 | 3.181 | 22.276 | |
| mockSVG | 0.694 | 0.079 | 0.828 | |
| modelSearch | 3.794 | 0.432 | 6.408 | |
| model_search | 2.989 | 0.429 | 5.733 | |
| multiGenePlots | 3.702 | 0.345 | 5.513 | |
| regress_out | 0.337 | 0.010 | 0.370 | |
| run | 1.624 | 0.196 | 2.490 | |
| spatialDE | 1.955 | 0.194 | 2.153 | |
| spatialPatterns | 3.240 | 0.132 | 2.112 | |
| spatial_patterns | 30.845 | 4.865 | 65.201 | |
| stabilize | 0.240 | 0.013 | 0.256 | |