| Back to Multiple platform build/check report for BioC 3.18: simplified long |
|
This page was generated on 2023-10-24 11:41:33 -0400 (Tue, 24 Oct 2023).
| Hostname | OS | Arch (*) | R version | Installed pkgs |
|---|---|---|---|---|
| nebbiolo2 | Linux (Ubuntu 22.04.2 LTS) | x86_64 | 4.3.1 (2023-06-16) -- "Beagle Scouts" | 4724 |
| palomino4 | Windows Server 2022 Datacenter | x64 | 4.3.1 (2023-06-16 ucrt) -- "Beagle Scouts" | 4459 |
| lconway | macOS 12.6.5 Monterey | x86_64 | 4.3.1 Patched (2023-06-17 r84564) -- "Beagle Scouts" | 4473 |
| kunpeng2 | Linux (openEuler 22.03 LTS-SP1) | aarch64 | 4.3.1 (2023-06-16) -- "Beagle Scouts" | 4461 |
| Click on any hostname to see more info about the system (e.g. compilers) (*) as reported by 'uname -p', except on Windows and Mac OS X | ||||
| Package 1999/2264 | Hostname | OS / Arch | INSTALL | BUILD | CHECK | BUILD BIN | ||||||||
| sparrow 1.7.0 (landing page) Steve Lianoglou
| nebbiolo2 | Linux (Ubuntu 22.04.2 LTS) / x86_64 | OK | OK | OK | |||||||||
| palomino4 | Windows Server 2022 Datacenter / x64 | OK | OK | OK | OK | |||||||||
| lconway | macOS 12.6.5 Monterey / x86_64 | OK | OK | OK | OK | |||||||||
| kjohnson1 | macOS 13.3.1 Ventura / arm64 | see weekly results here | ||||||||||||
| kunpeng2 | Linux (openEuler 22.03 LTS-SP1) / aarch64 | OK | OK | OK | ||||||||||
|
To the developers/maintainers of the sparrow package: - Allow up to 24 hours (and sometimes 48 hours) for your latest push to git@git.bioconductor.org:packages/sparrow.git to reflect on this report. See Troubleshooting Build Report for more information. - Use the following Renviron settings to reproduce errors and warnings. - If 'R CMD check' started to fail recently on the Linux builder(s) over a missing dependency, add the missing dependency to 'Suggests:' in your DESCRIPTION file. See Renviron.bioc for more information. - See Martin Grigorov's blog post for how to debug Linux ARM64 related issues on a x86_64 host. |
| Package: sparrow |
| Version: 1.7.0 |
| Command: /home/biocbuild/R/R-4.3.1/bin/R CMD check --install=check:sparrow.install-out.txt --library=/home/biocbuild/R/R-4.3.1/site-library --timings sparrow_1.7.0.tar.gz |
| StartedAt: 2023-10-24 13:21:34 -0000 (Tue, 24 Oct 2023) |
| EndedAt: 2023-10-24 13:38:13 -0000 (Tue, 24 Oct 2023) |
| EllapsedTime: 999.5 seconds |
| RetCode: 0 |
| Status: OK |
| CheckDir: sparrow.Rcheck |
| Warnings: 0 |
##############################################################################
##############################################################################
###
### Running command:
###
### /home/biocbuild/R/R-4.3.1/bin/R CMD check --install=check:sparrow.install-out.txt --library=/home/biocbuild/R/R-4.3.1/site-library --timings sparrow_1.7.0.tar.gz
###
##############################################################################
##############################################################################
* using log directory ‘/home/biocbuild/bbs-3.18-bioc/meat/sparrow.Rcheck’
* using R version 4.3.1 (2023-06-16)
* using platform: aarch64-unknown-linux-gnu (64-bit)
* R was compiled by
gcc (GCC) 10.3.1
GNU Fortran (GCC) 10.3.1
* running under: openEuler 22.03 (LTS-SP1)
* using session charset: UTF-8
* checking for file ‘sparrow/DESCRIPTION’ ... OK
* checking extension type ... Package
* this is package ‘sparrow’ version ‘1.7.0’
* package encoding: UTF-8
* checking package namespace information ... OK
* checking package dependencies ... OK
* checking if this is a source package ... OK
* checking if there is a namespace ... OK
* checking for hidden files and directories ... OK
* checking for portable file names ... OK
* checking for sufficient/correct file permissions ... OK
* checking whether package ‘sparrow’ can be installed ... OK
* checking installed package size ... OK
* checking package directory ... OK
* checking ‘build’ directory ... OK
* checking DESCRIPTION meta-information ... OK
* checking top-level files ... OK
* checking for left-over files ... OK
* checking index information ... OK
* checking package subdirectories ... OK
* checking R files for non-ASCII characters ... OK
* checking R files for syntax errors ... OK
* checking whether the package can be loaded ... OK
* checking whether the package can be loaded with stated dependencies ... OK
* checking whether the package can be unloaded cleanly ... OK
* checking whether the namespace can be loaded with stated dependencies ... OK
* checking whether the namespace can be unloaded cleanly ... OK
* checking loading without being on the library search path ... OK
* checking startup messages can be suppressed ... OK
* checking dependencies in R code ... OK
* checking S3 generic/method consistency ... OK
* checking replacement functions ... OK
* checking foreign function calls ... OK
* checking R code for possible problems ... NOTE
geneSetsStats: no visible binding for global variable ‘direction’
Undefined global functions or variables:
direction
* checking Rd files ... OK
* checking Rd metadata ... OK
* checking Rd cross-references ... OK
* checking for missing documentation entries ... OK
* checking for code/documentation mismatches ... OK
* checking Rd \usage sections ... OK
* checking Rd contents ... OK
* checking for unstated dependencies in examples ... OK
* checking line endings in Makefiles ... OK
* checking for GNU extensions in Makefiles ... OK
* checking include directives in Makefiles ... OK
* checking files in ‘vignettes’ ... OK
* checking examples ... OK
Examples with CPU (user + system) or elapsed time > 5s
user system elapsed
goseq 10.153 0.236 10.121
seas 7.935 0.040 7.699
scoreSingleSamples 6.439 0.251 6.675
geneSetsStats 6.397 0.108 5.966
SparrowResult-utilities 6.341 0.147 6.223
annotateGeneSetMembership 6.064 0.176 5.993
geneSetSummaryByGenes 5.949 0.168 5.811
* checking for unstated dependencies in ‘tests’ ... OK
* checking tests ...
Running ‘testthat.R’
OK
* checking for unstated dependencies in vignettes ... OK
* checking package vignettes in ‘inst/doc’ ... OK
* checking running R code from vignettes ...
‘sparrow.Rmd’ using ‘UTF-8’... OK
NONE
* checking re-building of vignette outputs ... OK
* checking PDF version of manual ... OK
* DONE
Status: 1 NOTE
See
‘/home/biocbuild/bbs-3.18-bioc/meat/sparrow.Rcheck/00check.log’
for details.
sparrow.Rcheck/00install.out
############################################################################## ############################################################################## ### ### Running command: ### ### /home/biocbuild/R/R-4.3.1/bin/R CMD INSTALL sparrow ### ############################################################################## ############################################################################## * installing to library ‘/home/biocbuild/R/R-4.3.1/site-library’ * installing *source* package ‘sparrow’ ... ** using staged installation ** R ** inst ** byte-compile and prepare package for lazy loading ** help *** installing help indices *** copying figures ** building package indices ** installing vignettes ** testing if installed package can be loaded from temporary location ** testing if installed package can be loaded from final location ** testing if installed package keeps a record of temporary installation path * DONE (sparrow)
sparrow.Rcheck/tests/testthat.Rout
R version 4.3.1 (2023-06-16) -- "Beagle Scouts"
Copyright (C) 2023 The R Foundation for Statistical Computing
Platform: aarch64-unknown-linux-gnu (64-bit)
R is free software and comes with ABSOLUTELY NO WARRANTY.
You are welcome to redistribute it under certain conditions.
Type 'license()' or 'licence()' for distribution details.
R is a collaborative project with many contributors.
Type 'contributors()' for more information and
'citation()' on how to cite R or R packages in publications.
Type 'demo()' for some demos, 'help()' for on-line help, or
'help.start()' for an HTML browser interface to help.
Type 'q()' to quit R.
> library("sparrow")
> library("testthat")
> library("data.table")
> library("dplyr")
Attaching package: 'dplyr'
The following objects are masked from 'package:data.table':
between, first, last
The following object is masked from 'package:testthat':
matches
The following object is masked from 'package:sparrow':
combine
The following objects are masked from 'package:stats':
filter, lag
The following objects are masked from 'package:base':
intersect, setdiff, setequal, union
>
> test_check("sparrow")
Attaching package: 'magrittr'
The following objects are masked from 'package:testthat':
equals, is_less_than, not
[1] "Calculating ranks..."
[1] "Calculating absolute values from ranks..."
[1] "Normalizing..."
[1] "Calculating ranks..."
[1] "Calculating absolute values from ranks..."
[1] "Normalizing..."
[1] "Calculating ranks..."
[1] "Calculating absolute values from ranks..."
[1] "Normalizing..."
[1] "Calculating ranks..."
[1] "Calculating absolute values from ranks..."
[1] "Normalizing..."
[1] "Calculating ranks..."
[1] "Calculating absolute values from ranks..."
[1] "Normalizing..."
[1] "Calculating ranks..."
[1] "Calculating absolute values from ranks..."
[1] "Normalizing..."
[1] "Calculating ranks..."
[1] "Calculating absolute values from ranks..."
[1] "Normalizing..."
[ FAIL 0 | WARN 11 | SKIP 1 | PASS 1491 ]
══ Skipped tests (1) ═══════════════════════════════════════════════════════════
• empty test (1): 'test-MultiGSEAResult.R:3:1'
[ FAIL 0 | WARN 11 | SKIP 1 | PASS 1491 ]
>
> ## Remove temporary files that were generated
> test.dir <- system.file('tests', package = "sparrow")
> pdfs <- dir(test.dir, "\\.pdf$", full.names=TRUE)
> if (length(pdfs)) {
+ unlink(pdfs)
+ }
>
>
> proc.time()
user system elapsed
457.691 11.878 445.203
sparrow.Rcheck/sparrow-Ex.timings
| name | user | system | elapsed | |
| GeneSetDb-class | 0.090 | 0.004 | 0.094 | |
| SparrowResult-utilities | 6.341 | 0.147 | 6.223 | |
| addGeneSetMetadata | 0.107 | 0.004 | 0.102 | |
| annotateGeneSetMembership | 6.064 | 0.176 | 5.993 | |
| calculateIndividualLogFC | 2.890 | 0.088 | 2.983 | |
| collectionMetadata | 0.101 | 0.004 | 0.095 | |
| combine-GeneSetDb-GeneSetDb-method | 0.134 | 0.004 | 0.118 | |
| combine-SparrowResult-SparrowResult-method | 0.147 | 0.000 | 0.149 | |
| conform | 0.652 | 0.000 | 0.644 | |
| conversion | 0.947 | 0.008 | 0.919 | |
| convertIdentifiers | 0.950 | 0.056 | 0.973 | |
| corplot | 0.119 | 0.000 | 0.119 | |
| eigenWeightedMean | 3.381 | 0.039 | 3.411 | |
| examples | 0.451 | 0.032 | 0.485 | |
| failWith | 0.001 | 0.000 | 0.001 | |
| featureIdMap | 0.612 | 0.024 | 0.627 | |
| featureIds | 0.832 | 0.017 | 0.833 | |
| geneSet | 0.118 | 0.002 | 0.111 | |
| geneSetCollectionURLfunction | 0.077 | 0.008 | 0.075 | |
| geneSetSummaryByGenes | 5.949 | 0.168 | 5.811 | |
| geneSets | 0.073 | 0.008 | 0.071 | |
| geneSetsStats | 6.397 | 0.108 | 5.966 | |
| getKeggCollection | 0 | 0 | 0 | |
| getMSigCollection | 0 | 0 | 0 | |
| getPantherCollection | 0 | 0 | 0 | |
| getReactomeCollection | 0.001 | 0.000 | 0.000 | |
| goseq | 10.153 | 0.236 | 10.121 | |
| gsdScore | 1.303 | 0.008 | 1.300 | |
| gskey | 0.003 | 0.000 | 0.003 | |
| hasGeneSet | 0.078 | 0.000 | 0.070 | |
| hasGeneSetCollection | 0.077 | 0.000 | 0.069 | |
| incidenceMatrix | 1.704 | 0.004 | 1.703 | |
| iplot | 1.508 | 0.076 | 1.576 | |
| is.active | 0.459 | 0.008 | 0.461 | |
| logFC | 4.748 | 0.056 | 4.575 | |
| mgheatmap | 0 | 0 | 0 | |
| mgheatmap2 | 0 | 0 | 0 | |
| msg | 0 | 0 | 0 | |
| ora | 0.359 | 0.000 | 0.359 | |
| p.matrix | 0.104 | 0.004 | 0.109 | |
| randomGeneSetDb | 0.097 | 0.008 | 0.105 | |
| renameCollections | 0.113 | 0.000 | 0.099 | |
| renameRows | 0.566 | 0.008 | 0.575 | |
| results | 0.126 | 0.000 | 0.126 | |
| scale_rows | 0.005 | 0.000 | 0.005 | |
| scoreSingleSamples | 6.439 | 0.251 | 6.675 | |
| seas | 7.935 | 0.040 | 7.699 | |
| sparrow_methods | 0.004 | 0.000 | 0.004 | |
| species_info | 0.007 | 0.000 | 0.008 | |
| subset.GeneSetDb | 0.099 | 0.003 | 0.092 | |
| subsetByFeatures | 0.118 | 0.000 | 0.102 | |
| validateInputs | 0.171 | 0.012 | 0.174 | |
| volcanoPlot | 2.539 | 0.084 | 2.628 | |
| volcanoStatsTable | 0.073 | 0.000 | 0.073 | |
| zScore | 1.172 | 0.020 | 1.181 | |