| Back to Multiple platform build/check report for BioC 3.18: simplified long | 
 | 
This page was generated on 2024-04-17 11:37:19 -0400 (Wed, 17 Apr 2024).
| Hostname | OS | Arch (*) | R version | Installed pkgs | 
|---|---|---|---|---|
| nebbiolo2 | Linux (Ubuntu 22.04.3 LTS) | x86_64 | 4.3.3 (2024-02-29) -- "Angel Food Cake" | 4676 | 
| palomino4 | Windows Server 2022 Datacenter | x64 | 4.3.3 (2024-02-29 ucrt) -- "Angel Food Cake" | 4414 | 
| merida1 | macOS 12.7.1 Monterey | x86_64 | 4.3.3 (2024-02-29) -- "Angel Food Cake" | 4437 | 
| Click on any hostname to see more info about the system (e.g. compilers) (*) as reported by 'uname -p', except on Windows and Mac OS X | ||||
| Package 1951/2266 | Hostname | OS / Arch | INSTALL | BUILD | CHECK | BUILD BIN | ||||||||
| signatureSearch 1.16.0  (landing page) Brendan Gongol 
 | nebbiolo2 | Linux (Ubuntu 22.04.3 LTS) / x86_64 | OK | OK | OK |  | ||||||||
| palomino4 | Windows Server 2022 Datacenter / x64 | OK | OK | OK | OK |  | ||||||||
| merida1 | macOS 12.7.1 Monterey / x86_64 | OK | OK | OK | OK |  | ||||||||
| kjohnson1 | macOS 13.6.1 Ventura / arm64 | see weekly results here | ||||||||||||
| To the developers/maintainers of the signatureSearch package: - Allow up to 24 hours (and sometimes 48 hours) for your latest push to git@git.bioconductor.org:packages/signatureSearch.git to reflect on this report. See Troubleshooting Build Report for more information. - Use the following Renviron settings to reproduce errors and warnings. - If 'R CMD check' started to fail recently on the Linux builder(s) over a missing dependency, add the missing dependency to 'Suggests:' in your DESCRIPTION file. See Renviron.bioc for more information. | 
| Package: signatureSearch | 
| Version: 1.16.0 | 
| Command: F:\biocbuild\bbs-3.18-bioc\R\bin\R.exe CMD check --no-multiarch --install=check:signatureSearch.install-out.txt --library=F:\biocbuild\bbs-3.18-bioc\R\library --no-vignettes --timings signatureSearch_1.16.0.tar.gz | 
| StartedAt: 2024-04-16 05:08:52 -0400 (Tue, 16 Apr 2024) | 
| EndedAt: 2024-04-16 05:17:57 -0400 (Tue, 16 Apr 2024) | 
| EllapsedTime: 545.1 seconds | 
| RetCode: 0 | 
| Status: OK | 
| CheckDir: signatureSearch.Rcheck | 
| Warnings: 0 | 
##############################################################################
##############################################################################
###
### Running command:
###
###   F:\biocbuild\bbs-3.18-bioc\R\bin\R.exe CMD check --no-multiarch --install=check:signatureSearch.install-out.txt --library=F:\biocbuild\bbs-3.18-bioc\R\library --no-vignettes --timings signatureSearch_1.16.0.tar.gz
###
##############################################################################
##############################################################################
* using log directory 'F:/biocbuild/bbs-3.18-bioc/meat/signatureSearch.Rcheck'
* using R version 4.3.3 (2024-02-29 ucrt)
* using platform: x86_64-w64-mingw32 (64-bit)
* R was compiled by
    gcc.exe (GCC) 12.3.0
    GNU Fortran (GCC) 12.3.0
* running under: Windows Server 2022 x64 (build 20348)
* using session charset: UTF-8
* using option '--no-vignettes'
* checking for file 'signatureSearch/DESCRIPTION' ... OK
* this is package 'signatureSearch' version '1.16.0'
* package encoding: UTF-8
* checking package namespace information ... OK
* checking package dependencies ... OK
* checking if this is a source package ... OK
* checking if there is a namespace ... OK
* checking for hidden files and directories ... OK
* checking for portable file names ... OK
* checking whether package 'signatureSearch' can be installed ... OK
* used C compiler: 'gcc.exe (GCC) 12.3.0'
* used C++ compiler: 'G__~1.EXE (GCC) 12.3.0'
* checking C++ specification ... NOTE
  Specified C++11: please drop specification unless essential
* checking installed package size ... NOTE
  installed size is 87.9Mb
  sub-directories of 1Mb or more:
    R        82.8Mb
    data      2.0Mb
    extdata   1.9Mb
    libs      1.0Mb
* checking package directory ... OK
* checking 'build' directory ... OK
* checking DESCRIPTION meta-information ... OK
* checking top-level files ... OK
* checking for left-over files ... OK
* checking index information ... OK
* checking package subdirectories ... OK
* checking R files for non-ASCII characters ... OK
* checking R files for syntax errors ... OK
* checking whether the package can be loaded ... OK
* checking whether the package can be loaded with stated dependencies ... OK
* checking whether the package can be unloaded cleanly ... OK
* checking whether the namespace can be loaded with stated dependencies ... OK
* checking whether the namespace can be unloaded cleanly ... OK
* checking dependencies in R code ... OK
* checking S3 generic/method consistency ... OK
* checking replacement functions ... OK
* checking foreign function calls ... OK
* checking R code for possible problems ... OK
* checking Rd files ... OK
* checking Rd metadata ... OK
* checking Rd cross-references ... OK
* checking for missing documentation entries ... OK
* checking for code/documentation mismatches ... OK
* checking Rd \usage sections ... OK
* checking Rd contents ... OK
* checking for unstated dependencies in examples ... OK
* checking contents of 'data' directory ... OK
* checking data for non-ASCII characters ... NOTE
  Note: found 147 marked UTF-8 strings
* checking data for ASCII and uncompressed saves ... OK
* checking R/sysdata.rda ... OK
* checking line endings in C/C++/Fortran sources/headers ... OK
* checking compiled code ... NOTE
Note: information on .o files for x64 is not available
File 'F:/biocbuild/bbs-3.18-bioc/R/library/signatureSearch/libs/x64/signatureSearch.dll':
  Found 'abort', possibly from 'abort' (C), 'runtime' (Fortran)
  Found 'exit', possibly from 'exit' (C), 'stop' (Fortran)
Compiled code should not call entry points which might terminate R nor
write to stdout/stderr instead of to the console, nor use Fortran I/O
nor system RNGs nor [v]sprintf. The detected symbols are linked into
the code but might come from libraries and not actually be called.
See 'Writing portable packages' in the 'Writing R Extensions' manual.
* checking files in 'vignettes' ... OK
* checking examples ... OK
Examples with CPU (user + system) or elapsed time > 5s
               user system elapsed
set_readable  74.19   3.04   77.33
runWF          7.58   1.06    9.08
rand_query_ES  7.91   0.45    8.38
addGESSannot   5.90   1.81    7.96
* checking for unstated dependencies in 'tests' ... OK
* checking tests ...
  Running 'testthat.R'
 OK
* checking for unstated dependencies in vignettes ... OK
* checking package vignettes in 'inst/doc' ... OK
* checking running R code from vignettes ... SKIPPED
* checking re-building of vignette outputs ... SKIPPED
* checking PDF version of manual ... OK
* DONE
Status: 4 NOTEs
See
  'F:/biocbuild/bbs-3.18-bioc/meat/signatureSearch.Rcheck/00check.log'
for details.
signatureSearch.Rcheck/00install.out
##############################################################################
##############################################################################
###
### Running command:
###
###   F:\biocbuild\bbs-3.18-bioc\R\bin\R.exe CMD INSTALL signatureSearch
###
##############################################################################
##############################################################################
* installing to library 'F:/biocbuild/bbs-3.18-bioc/R/library'
* installing *source* package 'signatureSearch' ...
** using staged installation
** libs
using C compiler: 'gcc.exe (GCC) 12.3.0'
using C++ compiler: 'G__~1.EXE (GCC) 12.3.0'
using C++11
g++  -std=gnu++11 -I"F:/biocbuild/bbs-3.18-bioc/R/include" -DNDEBUG  -I'F:/biocbuild/bbs-3.18-bioc/R/library/Rcpp/include'   -I"C:/rtools43/x86_64-w64-mingw32.static.posix/include"     -O2 -Wall  -mfpmath=sse -msse2 -mstackrealign  -c RcppExports.cpp -o RcppExports.o
g++  -std=gnu++11 -I"F:/biocbuild/bbs-3.18-bioc/R/include" -DNDEBUG  -I'F:/biocbuild/bbs-3.18-bioc/R/library/Rcpp/include'   -I"C:/rtools43/x86_64-w64-mingw32.static.posix/include"     -O2 -Wall  -mfpmath=sse -msse2 -mstackrealign  -c fastGSEA.cpp -o fastGSEA.o
fastGSEA.cpp: In function 'Rcpp::NumericVector calcGseaStatBatchCpp(const Rcpp::NumericVector&, const Rcpp::List&, const Rcpp::IntegerVector&)':
fastGSEA.cpp:444:27: warning: comparison of integer expressions of different signedness: 'int' and 'std::vector<int>::size_type' {aka 'long long unsigned int'} [-Wsign-compare]
  444 |         for (int j = 0; j < S.size(); ++j) {
      |                         ~~^~~~~~~~~~
gcc  -I"F:/biocbuild/bbs-3.18-bioc/R/include" -DNDEBUG  -I'F:/biocbuild/bbs-3.18-bioc/R/library/Rcpp/include'   -I"C:/rtools43/x86_64-w64-mingw32.static.posix/include"     -O2 -Wall  -mfpmath=sse -msse2 -mstackrealign  -c fgsea_init.c -o fgsea_init.o
g++ -shared -s -static-libgcc -o signatureSearch.dll tmp.def RcppExports.o fastGSEA.o fgsea_init.o -LC:/rtools43/x86_64-w64-mingw32.static.posix/lib/x64 -LC:/rtools43/x86_64-w64-mingw32.static.posix/lib -LF:/biocbuild/bbs-3.18-bioc/R/bin/x64 -lR
installing to F:/biocbuild/bbs-3.18-bioc/R/library/00LOCK-signatureSearch/00new/signatureSearch/libs/x64
** R
** data
** inst
** byte-compile and prepare package for lazy loading
** help
*** installing help indices
** building package indices
** installing vignettes
** testing if installed package can be loaded from temporary location
** testing if installed package can be loaded from final location
** testing if installed package keeps a record of temporary installation path
* DONE (signatureSearch)
signatureSearch.Rcheck/tests/testthat.Rout
R version 4.3.3 (2024-02-29 ucrt) -- "Angel Food Cake"
Copyright (C) 2024 The R Foundation for Statistical Computing
Platform: x86_64-w64-mingw32/x64 (64-bit)
R is free software and comes with ABSOLUTELY NO WARRANTY.
You are welcome to redistribute it under certain conditions.
Type 'license()' or 'licence()' for distribution details.
R is a collaborative project with many contributors.
Type 'contributors()' for more information and
'citation()' on how to cite R or R packages in publications.
Type 'demo()' for some demos, 'help()' for on-line help, or
'help.start()' for an HTML browser interface to help.
Type 'q()' to quit R.
> # library(testthat)
> # library(signatureSearch)
> # 
> # test_check("signatureSearch")
> 
> proc.time()
   user  system elapsed 
   0.20    0.01    0.20 
signatureSearch.Rcheck/signatureSearch-Ex.timings
| name | user | system | elapsed | |
| addGESSannot | 5.90 | 1.81 | 7.96 | |
| addMOA | 0.22 | 0.06 | 0.28 | |
| add_pcid | 0.25 | 0.02 | 0.27 | |
| append2H5 | 0.06 | 0.03 | 0.22 | |
| build_custom_db | 0.30 | 0.13 | 0.53 | |
| cellNtestPlot | 0.81 | 0.14 | 0.98 | |
| cell_info | 0.02 | 0.01 | 0.03 | |
| cell_info2 | 0.03 | 0.05 | 0.08 | |
| chembl_moa_list | 0.01 | 0.05 | 0.06 | |
| clue_moa_list | 0.03 | 0.04 | 0.08 | |
| comp_fea_res | 0.24 | 0.00 | 0.24 | |
| create_empty_h5 | 0.01 | 0.00 | 0.03 | |
| dim-methods | 0 | 0 | 0 | |
| drug_cell_ranks | 0.02 | 0.00 | 0.01 | |
| drugs-methods | 0 | 0 | 0 | |
| drugs10 | 0.00 | 0.02 | 0.02 | |
| dtnetplot | 2.20 | 0.39 | 2.95 | |
| enrichGO2 | 0 | 0 | 0 | |
| enrichKEGG2 | 0 | 0 | 0 | |
| enrichMOA | 0.05 | 0.04 | 0.09 | |
| enrichReactome | 0 | 0 | 0 | |
| fea | 0.00 | 0.01 | 0.02 | |
| feaResult | 0 | 0 | 0 | |
| gctx2h5 | 0.44 | 0.11 | 0.73 | |
| gess | 0.00 | 0.02 | 0.02 | |
| gessResult | 0 | 0 | 0 | |
| gess_res_vis | 0.47 | 0.01 | 0.48 | |
| getSig | 1.43 | 0.30 | 1.83 | |
| getTreats | 0.71 | 0.11 | 0.84 | |
| get_targets | 2.68 | 0.31 | 3.08 | |
| gmt2h5 | 0.12 | 0.03 | 0.44 | |
| gseGO2 | 0.00 | 0.02 | 0.01 | |
| gseKEGG2 | 0.02 | 0.00 | 0.02 | |
| gseReactome | 0.02 | 0.00 | 0.01 | |
| head-methods | 0.01 | 0.00 | 0.02 | |
| lincs_expr_inst_info | 0.03 | 0.01 | 0.04 | |
| lincs_pert_info | 0.22 | 0.01 | 0.23 | |
| lincs_pert_info2 | 1.02 | 0.04 | 1.05 | |
| lincs_sig_info | 0.04 | 0.00 | 0.05 | |
| list2df | 0 | 0 | 0 | |
| list_rev | 0 | 0 | 0 | |
| mabsGO | 0 | 0 | 0 | |
| mabsKEGG | 0 | 0 | 0 | |
| mabsReactome | 0.02 | 0.00 | 0.02 | |
| matrix2h5 | 0.08 | 0.00 | 0.14 | |
| meanExpr2h5 | 0.54 | 0.04 | 0.79 | |
| moa_conn | 0.01 | 0.07 | 0.08 | |
| parse_gctx | 0.14 | 0.00 | 0.14 | |
| qSig | 1.14 | 0.34 | 1.56 | |
| rand_query_ES | 7.91 | 0.45 | 8.38 | |
| read_gmt | 0 | 0 | 0 | |
| result-methods | 0.03 | 0.00 | 0.03 | |
| runWF | 7.58 | 1.06 | 9.08 | |
| set_readable | 74.19 | 3.04 | 77.33 | |
| show-methods | 0.03 | 0.00 | 0.03 | |
| sim_score_grp | 0 | 0 | 0 | |
| tail-methods | 0.01 | 0.00 | 0.01 | |
| tarReduce | 0 | 0 | 0 | |
| targetList | 0.00 | 0.01 | 0.02 | |
| vec_char_redu | 0 | 0 | 0 | |