| Back to Multiple platform build/check report for BioC 3.18: simplified long |
|
This page was generated on 2024-04-17 11:36:23 -0400 (Wed, 17 Apr 2024).
| Hostname | OS | Arch (*) | R version | Installed pkgs |
|---|---|---|---|---|
| nebbiolo2 | Linux (Ubuntu 22.04.3 LTS) | x86_64 | 4.3.3 (2024-02-29) -- "Angel Food Cake" | 4676 |
| palomino4 | Windows Server 2022 Datacenter | x64 | 4.3.3 (2024-02-29 ucrt) -- "Angel Food Cake" | 4414 |
| merida1 | macOS 12.7.1 Monterey | x86_64 | 4.3.3 (2024-02-29) -- "Angel Food Cake" | 4437 |
| Click on any hostname to see more info about the system (e.g. compilers) (*) as reported by 'uname -p', except on Windows and Mac OS X | ||||
| Package 1951/2266 | Hostname | OS / Arch | INSTALL | BUILD | CHECK | BUILD BIN | ||||||||
| signatureSearch 1.16.0 (landing page) Brendan Gongol
| nebbiolo2 | Linux (Ubuntu 22.04.3 LTS) / x86_64 | OK | OK | OK | |||||||||
| palomino4 | Windows Server 2022 Datacenter / x64 | OK | OK | OK | OK | |||||||||
| merida1 | macOS 12.7.1 Monterey / x86_64 | OK | OK | OK | OK | |||||||||
| kjohnson1 | macOS 13.6.1 Ventura / arm64 | see weekly results here | ||||||||||||
|
To the developers/maintainers of the signatureSearch package: - Allow up to 24 hours (and sometimes 48 hours) for your latest push to git@git.bioconductor.org:packages/signatureSearch.git to reflect on this report. See Troubleshooting Build Report for more information. - Use the following Renviron settings to reproduce errors and warnings. - If 'R CMD check' started to fail recently on the Linux builder(s) over a missing dependency, add the missing dependency to 'Suggests:' in your DESCRIPTION file. See Renviron.bioc for more information. |
| Package: signatureSearch |
| Version: 1.16.0 |
| Command: /home/biocbuild/bbs-3.18-bioc/R/bin/R CMD check --install=check:signatureSearch.install-out.txt --library=/home/biocbuild/bbs-3.18-bioc/R/site-library --timings signatureSearch_1.16.0.tar.gz |
| StartedAt: 2024-04-16 03:56:51 -0400 (Tue, 16 Apr 2024) |
| EndedAt: 2024-04-16 04:18:04 -0400 (Tue, 16 Apr 2024) |
| EllapsedTime: 1273.1 seconds |
| RetCode: 0 |
| Status: OK |
| CheckDir: signatureSearch.Rcheck |
| Warnings: 0 |
##############################################################################
##############################################################################
###
### Running command:
###
### /home/biocbuild/bbs-3.18-bioc/R/bin/R CMD check --install=check:signatureSearch.install-out.txt --library=/home/biocbuild/bbs-3.18-bioc/R/site-library --timings signatureSearch_1.16.0.tar.gz
###
##############################################################################
##############################################################################
* using log directory ‘/home/biocbuild/bbs-3.18-bioc/meat/signatureSearch.Rcheck’
* using R version 4.3.3 (2024-02-29)
* using platform: x86_64-pc-linux-gnu (64-bit)
* R was compiled by
gcc (Ubuntu 11.4.0-1ubuntu1~22.04) 11.4.0
GNU Fortran (Ubuntu 11.4.0-1ubuntu1~22.04) 11.4.0
* running under: Ubuntu 22.04.4 LTS
* using session charset: UTF-8
* checking for file ‘signatureSearch/DESCRIPTION’ ... OK
* this is package ‘signatureSearch’ version ‘1.16.0’
* package encoding: UTF-8
* checking package namespace information ... OK
* checking package dependencies ... OK
* checking if this is a source package ... OK
* checking if there is a namespace ... OK
* checking for hidden files and directories ... OK
* checking for portable file names ... OK
* checking for sufficient/correct file permissions ... OK
* checking whether package ‘signatureSearch’ can be installed ... OK
* used C compiler: ‘gcc (Ubuntu 11.4.0-1ubuntu1~22.04) 11.4.0’
* used C++ compiler: ‘g++ (Ubuntu 11.4.0-1ubuntu1~22.04) 11.4.0’
* checking C++ specification ... NOTE
Specified C++11: please drop specification unless essential
* checking installed package size ... NOTE
installed size is 88.5Mb
sub-directories of 1Mb or more:
R 82.8Mb
data 2.0Mb
extdata 1.9Mb
libs 1.6Mb
* checking package directory ... OK
* checking ‘build’ directory ... OK
* checking DESCRIPTION meta-information ... OK
* checking top-level files ... OK
* checking for left-over files ... OK
* checking index information ... OK
* checking package subdirectories ... OK
* checking R files for non-ASCII characters ... OK
* checking R files for syntax errors ... OK
* checking whether the package can be loaded ... OK
* checking whether the package can be loaded with stated dependencies ... OK
* checking whether the package can be unloaded cleanly ... OK
* checking whether the namespace can be loaded with stated dependencies ... OK
* checking whether the namespace can be unloaded cleanly ... OK
* checking loading without being on the library search path ... OK
* checking dependencies in R code ... OK
* checking S3 generic/method consistency ... OK
* checking replacement functions ... OK
* checking foreign function calls ... OK
* checking R code for possible problems ... OK
* checking Rd files ... OK
* checking Rd metadata ... OK
* checking Rd cross-references ... OK
* checking for missing documentation entries ... OK
* checking for code/documentation mismatches ... OK
* checking Rd \usage sections ... OK
* checking Rd contents ... OK
* checking for unstated dependencies in examples ... OK
* checking contents of ‘data’ directory ... OK
* checking data for non-ASCII characters ... NOTE
Note: found 147 marked UTF-8 strings
* checking data for ASCII and uncompressed saves ... OK
* checking R/sysdata.rda ... OK
* checking line endings in C/C++/Fortran sources/headers ... OK
* checking compiled code ... NOTE
Note: information on .o files is not available
* checking files in ‘vignettes’ ... OK
* checking examples ... OK
Examples with CPU (user + system) or elapsed time > 5s
user system elapsed
set_readable 66.310 1.816 68.380
runWF 8.009 0.462 9.571
rand_query_ES 6.703 1.665 8.616
* checking for unstated dependencies in ‘tests’ ... OK
* checking tests ...
Running ‘testthat.R’
OK
* checking for unstated dependencies in vignettes ... OK
* checking package vignettes in ‘inst/doc’ ... OK
* checking running R code from vignettes ...
‘signatureSearch.Rmd’ using ‘UTF-8’... OK
OK
* checking re-building of vignette outputs ... OK
* checking PDF version of manual ... OK
* DONE
Status: 4 NOTEs
See
‘/home/biocbuild/bbs-3.18-bioc/meat/signatureSearch.Rcheck/00check.log’
for details.
signatureSearch.Rcheck/00install.out
##############################################################################
##############################################################################
###
### Running command:
###
### /home/biocbuild/bbs-3.18-bioc/R/bin/R CMD INSTALL signatureSearch
###
##############################################################################
##############################################################################
* installing to library ‘/home/biocbuild/bbs-3.18-bioc/R/site-library’
* installing *source* package ‘signatureSearch’ ...
** using staged installation
** libs
using C compiler: ‘gcc (Ubuntu 11.4.0-1ubuntu1~22.04) 11.4.0’
using C++ compiler: ‘g++ (Ubuntu 11.4.0-1ubuntu1~22.04) 11.4.0’
using C++11
g++ -std=gnu++11 -I"/home/biocbuild/bbs-3.18-bioc/R/include" -DNDEBUG -I'/home/biocbuild/bbs-3.18-bioc/R/site-library/Rcpp/include' -I/usr/local/include -fpic -g -O2 -Wall -c RcppExports.cpp -o RcppExports.o
g++ -std=gnu++11 -I"/home/biocbuild/bbs-3.18-bioc/R/include" -DNDEBUG -I'/home/biocbuild/bbs-3.18-bioc/R/site-library/Rcpp/include' -I/usr/local/include -fpic -g -O2 -Wall -c fastGSEA.cpp -o fastGSEA.o
fastGSEA.cpp: In function ‘Rcpp::NumericVector calcGseaStatBatchCpp(const NumericVector&, const List&, const IntegerVector&)’:
fastGSEA.cpp:444:27: warning: comparison of integer expressions of different signedness: ‘int’ and ‘std::vector<int>::size_type’ {aka ‘long unsigned int’} [-Wsign-compare]
444 | for (int j = 0; j < S.size(); ++j) {
| ~~^~~~~~~~~~
gcc -I"/home/biocbuild/bbs-3.18-bioc/R/include" -DNDEBUG -I'/home/biocbuild/bbs-3.18-bioc/R/site-library/Rcpp/include' -I/usr/local/include -fpic -g -O2 -Wall -c fgsea_init.c -o fgsea_init.o
g++ -std=gnu++11 -shared -L/home/biocbuild/bbs-3.18-bioc/R/lib -L/usr/local/lib -o signatureSearch.so RcppExports.o fastGSEA.o fgsea_init.o -L/home/biocbuild/bbs-3.18-bioc/R/lib -lR
installing to /home/biocbuild/bbs-3.18-bioc/R/site-library/00LOCK-signatureSearch/00new/signatureSearch/libs
** R
** data
** inst
** byte-compile and prepare package for lazy loading
** help
*** installing help indices
** building package indices
** installing vignettes
** testing if installed package can be loaded from temporary location
** checking absolute paths in shared objects and dynamic libraries
** testing if installed package can be loaded from final location
** testing if installed package keeps a record of temporary installation path
* DONE (signatureSearch)
signatureSearch.Rcheck/tests/testthat.Rout
R version 4.3.3 (2024-02-29) -- "Angel Food Cake"
Copyright (C) 2024 The R Foundation for Statistical Computing
Platform: x86_64-pc-linux-gnu (64-bit)
R is free software and comes with ABSOLUTELY NO WARRANTY.
You are welcome to redistribute it under certain conditions.
Type 'license()' or 'licence()' for distribution details.
R is a collaborative project with many contributors.
Type 'contributors()' for more information and
'citation()' on how to cite R or R packages in publications.
Type 'demo()' for some demos, 'help()' for on-line help, or
'help.start()' for an HTML browser interface to help.
Type 'q()' to quit R.
> # library(testthat)
> # library(signatureSearch)
> #
> # test_check("signatureSearch")
>
> proc.time()
user system elapsed
0.148 0.030 0.166
signatureSearch.Rcheck/signatureSearch-Ex.timings
| name | user | system | elapsed | |
| addGESSannot | 4.365 | 0.079 | 4.919 | |
| addMOA | 0.183 | 0.000 | 0.183 | |
| add_pcid | 0.234 | 0.004 | 0.237 | |
| append2H5 | 0.071 | 0.000 | 0.070 | |
| build_custom_db | 0.253 | 0.000 | 0.253 | |
| cellNtestPlot | 0.861 | 0.072 | 1.115 | |
| cell_info | 0.020 | 0.000 | 0.021 | |
| cell_info2 | 0.033 | 0.004 | 0.037 | |
| chembl_moa_list | 0.009 | 0.000 | 0.009 | |
| clue_moa_list | 0.010 | 0.000 | 0.009 | |
| comp_fea_res | 0.17 | 0.00 | 0.17 | |
| create_empty_h5 | 0.019 | 0.000 | 0.019 | |
| dim-methods | 0.007 | 0.000 | 0.008 | |
| drug_cell_ranks | 0.009 | 0.000 | 0.009 | |
| drugs-methods | 0.002 | 0.000 | 0.002 | |
| drugs10 | 0.001 | 0.000 | 0.001 | |
| dtnetplot | 2.140 | 0.088 | 2.482 | |
| enrichGO2 | 0 | 0 | 0 | |
| enrichKEGG2 | 0 | 0 | 0 | |
| enrichMOA | 0.045 | 0.000 | 0.045 | |
| enrichReactome | 0 | 0 | 0 | |
| fea | 0.002 | 0.000 | 0.003 | |
| feaResult | 0.002 | 0.000 | 0.002 | |
| gctx2h5 | 0.370 | 0.080 | 0.452 | |
| gess | 0.001 | 0.000 | 0.001 | |
| gessResult | 0.002 | 0.000 | 0.002 | |
| gess_res_vis | 0.411 | 0.012 | 0.424 | |
| getSig | 1.516 | 0.077 | 1.946 | |
| getTreats | 0.604 | 0.023 | 0.815 | |
| get_targets | 2.189 | 0.036 | 2.488 | |
| gmt2h5 | 0.068 | 0.020 | 0.089 | |
| gseGO2 | 0.002 | 0.000 | 0.002 | |
| gseKEGG2 | 0.01 | 0.00 | 0.01 | |
| gseReactome | 0.011 | 0.000 | 0.010 | |
| head-methods | 0.006 | 0.000 | 0.006 | |
| lincs_expr_inst_info | 0.051 | 0.000 | 0.051 | |
| lincs_pert_info | 0.269 | 0.000 | 0.269 | |
| lincs_pert_info2 | 1.253 | 0.008 | 1.261 | |
| lincs_sig_info | 0.061 | 0.000 | 0.061 | |
| list2df | 0.002 | 0.000 | 0.002 | |
| list_rev | 0.001 | 0.000 | 0.001 | |
| mabsGO | 0.002 | 0.000 | 0.002 | |
| mabsKEGG | 0.013 | 0.000 | 0.013 | |
| mabsReactome | 0.012 | 0.000 | 0.012 | |
| matrix2h5 | 0.049 | 0.004 | 0.053 | |
| meanExpr2h5 | 0.554 | 0.016 | 0.570 | |
| moa_conn | 0.031 | 0.004 | 0.035 | |
| parse_gctx | 0.078 | 0.000 | 0.078 | |
| qSig | 1.222 | 0.040 | 1.616 | |
| rand_query_ES | 6.703 | 1.665 | 8.616 | |
| read_gmt | 0.003 | 0.000 | 0.003 | |
| result-methods | 0.338 | 0.152 | 0.031 | |
| runWF | 8.009 | 0.462 | 9.571 | |
| set_readable | 66.310 | 1.816 | 68.380 | |
| show-methods | 0.03 | 0.00 | 0.03 | |
| sim_score_grp | 0.009 | 0.000 | 0.010 | |
| tail-methods | 0.006 | 0.000 | 0.006 | |
| tarReduce | 0 | 0 | 0 | |
| targetList | 0.000 | 0.003 | 0.004 | |
| vec_char_redu | 0 | 0 | 0 | |