| Back to Multiple platform build/check report for BioC 3.18: simplified long |
|
This page was generated on 2023-11-02 11:41:06 -0400 (Thu, 02 Nov 2023).
| Hostname | OS | Arch (*) | R version | Installed pkgs |
|---|---|---|---|---|
| nebbiolo2 | Linux (Ubuntu 22.04.2 LTS) | x86_64 | 4.3.1 (2023-06-16) -- "Beagle Scouts" | 4729 |
| palomino4 | Windows Server 2022 Datacenter | x64 | 4.3.1 (2023-06-16 ucrt) -- "Beagle Scouts" | 4463 |
| lconway | macOS 12.6.5 Monterey | x86_64 | 4.3.1 Patched (2023-06-17 r84564) -- "Beagle Scouts" | 4478 |
| kunpeng2 | Linux (openEuler 22.03 LTS-SP1) | aarch64 | 4.3.1 (2023-06-16) -- "Beagle Scouts" | 4464 |
| Click on any hostname to see more info about the system (e.g. compilers) (*) as reported by 'uname -p', except on Windows and Mac OS X | ||||
| Package 1594/2266 | Hostname | OS / Arch | INSTALL | BUILD | CHECK | BUILD BIN | ||||||||
| projectR 1.18.0 (landing page) Genevieve Stein-O'Brien
| nebbiolo2 | Linux (Ubuntu 22.04.2 LTS) / x86_64 | OK | OK | OK | |||||||||
| palomino4 | Windows Server 2022 Datacenter / x64 | OK | OK | OK | OK | |||||||||
| lconway | macOS 12.6.5 Monterey / x86_64 | OK | OK | OK | OK | |||||||||
| kjohnson1 | macOS 13.6.1 Ventura / arm64 | see weekly results here | ||||||||||||
| kunpeng2 | Linux (openEuler 22.03 LTS-SP1) / aarch64 | OK | OK | OK | ||||||||||
|
To the developers/maintainers of the projectR package: - Allow up to 24 hours (and sometimes 48 hours) for your latest push to git@git.bioconductor.org:packages/projectR.git to reflect on this report. See Troubleshooting Build Report for more information. - Use the following Renviron settings to reproduce errors and warnings. - If 'R CMD check' started to fail recently on the Linux builder(s) over a missing dependency, add the missing dependency to 'Suggests:' in your DESCRIPTION file. See Renviron.bioc for more information. - See Martin Grigorov's blog post for how to debug Linux ARM64 related issues on a x86_64 host. |
| Package: projectR |
| Version: 1.18.0 |
| Command: /home/biocbuild/R/R-4.3.1/bin/R CMD check --install=check:projectR.install-out.txt --library=/home/biocbuild/R/R-4.3.1/site-library --no-vignettes --timings projectR_1.18.0.tar.gz |
| StartedAt: 2023-11-02 13:16:11 -0000 (Thu, 02 Nov 2023) |
| EndedAt: 2023-11-02 13:18:52 -0000 (Thu, 02 Nov 2023) |
| EllapsedTime: 161.3 seconds |
| RetCode: 0 |
| Status: OK |
| CheckDir: projectR.Rcheck |
| Warnings: 0 |
##############################################################################
##############################################################################
###
### Running command:
###
### /home/biocbuild/R/R-4.3.1/bin/R CMD check --install=check:projectR.install-out.txt --library=/home/biocbuild/R/R-4.3.1/site-library --no-vignettes --timings projectR_1.18.0.tar.gz
###
##############################################################################
##############################################################################
* using log directory ‘/home/biocbuild/bbs-3.18-bioc/meat/projectR.Rcheck’
* using R version 4.3.1 (2023-06-16)
* using platform: aarch64-unknown-linux-gnu (64-bit)
* R was compiled by
gcc (GCC) 10.3.1
GNU Fortran (GCC) 10.3.1
* running under: openEuler 22.03 (LTS-SP1)
* using session charset: UTF-8
* using option ‘--no-vignettes’
* checking for file ‘projectR/DESCRIPTION’ ... OK
* checking extension type ... Package
* this is package ‘projectR’ version ‘1.18.0’
* package encoding: UTF-8
* checking package namespace information ... OK
* checking package dependencies ... OK
* checking if this is a source package ... OK
* checking if there is a namespace ... OK
* checking for hidden files and directories ... NOTE
Found the following hidden files and directories:
.travis.yml
These were most likely included in error. See section ‘Package
structure’ in the ‘Writing R Extensions’ manual.
* checking for portable file names ... OK
* checking for sufficient/correct file permissions ... OK
* checking whether package ‘projectR’ can be installed ... OK
* checking installed package size ... NOTE
installed size is 5.1Mb
sub-directories of 1Mb or more:
data 4.8Mb
* checking package directory ... OK
* checking ‘build’ directory ... OK
* checking DESCRIPTION meta-information ... NOTE
Package listed in more than one of Depends, Imports, Suggests, Enhances:
‘rmarkdown’
A package should be listed in only one of these fields.
* checking top-level files ... NOTE
File
LICENSE
is not mentioned in the DESCRIPTION file.
* checking for left-over files ... OK
* checking index information ... OK
* checking package subdirectories ... OK
* checking R files for non-ASCII characters ... OK
* checking R files for syntax errors ... OK
* checking whether the package can be loaded ... OK
* checking whether the package can be loaded with stated dependencies ... OK
* checking whether the package can be unloaded cleanly ... OK
* checking whether the namespace can be loaded with stated dependencies ... OK
* checking whether the namespace can be unloaded cleanly ... OK
* checking loading without being on the library search path ... OK
* checking dependencies in R code ... NOTE
Namespace in Imports field not imported from: ‘Matrix’
All declared Imports should be used.
* checking S3 generic/method consistency ... OK
* checking replacement functions ... OK
* checking foreign function calls ... OK
* checking R code for possible problems ... NOTE
alluvialMat: no visible binding for global variable ‘celltype’
alluvialMat: no visible binding for global variable ‘variable’
alluvialMat: no visible binding for global variable ‘value’
alluvialMat: no visible binding for global variable ‘nCells’
alluvialMat: no visible binding for global variable ‘nCells_per_type’
alluvialMat: no visible binding for global variable
‘nCells_per_pattern’
alluvialMat: no visible binding for global variable ‘prop’
alluvialMat: no visible binding for global variable ‘stratum’
plotConfidenceIntervals: no visible binding for global variable ‘high’
plotConfidenceIntervals: no visible binding for global variable ‘low’
plotConfidenceIntervals: no visible binding for global variable ‘mid’
plotConfidenceIntervals: no visible binding for global variable ‘idx’
plotConfidenceIntervals: no visible binding for global variable
‘positive’
Undefined global functions or variables:
celltype high idx low mid nCells nCells_per_pattern nCells_per_type
positive prop stratum value variable
* checking Rd files ... OK
* checking Rd metadata ... OK
* checking Rd cross-references ... OK
* checking for missing documentation entries ... OK
* checking for code/documentation mismatches ... OK
* checking Rd \usage sections ... OK
* checking Rd contents ... OK
* checking for unstated dependencies in examples ... OK
* checking contents of ‘data’ directory ... OK
* checking data for non-ASCII characters ... OK
* checking LazyData ... OK
* checking data for ASCII and uncompressed saves ... OK
* checking files in ‘vignettes’ ... OK
* checking examples ... OK
Examples with CPU (user + system) or elapsed time > 5s
user system elapsed
projectR-methods 11.111 0.447 11.58
* checking for unstated dependencies in ‘tests’ ... OK
* checking tests ...
Running ‘testthat.R’
OK
* checking for unstated dependencies in vignettes ... OK
* checking package vignettes in ‘inst/doc’ ... OK
* checking running R code from vignettes ... SKIPPED
* checking re-building of vignette outputs ... SKIPPED
* checking PDF version of manual ... OK
* DONE
Status: 6 NOTEs
See
‘/home/biocbuild/bbs-3.18-bioc/meat/projectR.Rcheck/00check.log’
for details.
projectR.Rcheck/00install.out
############################################################################## ############################################################################## ### ### Running command: ### ### /home/biocbuild/R/R-4.3.1/bin/R CMD INSTALL projectR ### ############################################################################## ############################################################################## * installing to library ‘/home/biocbuild/R/R-4.3.1/site-library’ * installing *source* package ‘projectR’ ... ** using staged installation ** R ** data *** moving datasets to lazyload DB ** inst ** byte-compile and prepare package for lazy loading in method for ‘projectR’ with signature ‘data="matrix",loadings="LinearEmbeddingMatrix"’: no definition for class “LinearEmbeddingMatrix” ** help *** installing help indices ** building package indices ** installing vignettes ** testing if installed package can be loaded from temporary location ** testing if installed package can be loaded from final location ** testing if installed package keeps a record of temporary installation path * DONE (projectR)
projectR.Rcheck/tests/testthat.Rout
R version 4.3.1 (2023-06-16) -- "Beagle Scouts"
Copyright (C) 2023 The R Foundation for Statistical Computing
Platform: aarch64-unknown-linux-gnu (64-bit)
R is free software and comes with ABSOLUTELY NO WARRANTY.
You are welcome to redistribute it under certain conditions.
Type 'license()' or 'licence()' for distribution details.
R is a collaborative project with many contributors.
Type 'contributors()' for more information and
'citation()' on how to cite R or R packages in publications.
Type 'demo()' for some demos, 'help()' for on-line help, or
'help.start()' for an HTML browser interface to help.
Type 'q()' to quit R.
> library(testthat)
> library(projectR)
>
> test_check("projectR")
[1] "93 row names matched between data and loadings"
[1] "Updated dimension of data: 93 9"
[1] "93 row names matched between data and loadings"
[1] "Updated dimension of data: 93 9"
[1] "93 row names matched between data and loadings"
[1] "Updated dimension of data: 93 9"
[ FAIL 0 | WARN 0 | SKIP 0 | PASS 25 ]
>
> proc.time()
user system elapsed
15.617 0.600 16.233
projectR.Rcheck/projectR-Ex.timings
| name | user | system | elapsed | |
| alluvialMat | 0.856 | 0.032 | 0.889 | |
| aucMat | 0.095 | 0.000 | 0.095 | |
| cluster2pattern-methods | 0.057 | 0.004 | 0.060 | |
| clusterPlotR-methods | 0 | 0 | 0 | |
| correlateR | 0.174 | 0.000 | 0.173 | |
| geneMatchR | 0.013 | 0.012 | 0.025 | |
| getTSNE | 1.662 | 0.004 | 1.668 | |
| getUMAP | 0.152 | 0.016 | 0.168 | |
| intersectoR-methods | 0.065 | 0.000 | 0.065 | |
| projectR-methods | 11.111 | 0.447 | 11.580 | |
| rotatoR | 0.005 | 0.000 | 0.005 | |