| Back to Multiple platform build/check report for BioC 3.18: simplified long |
|
This page was generated on 2023-11-02 11:41:05 -0400 (Thu, 02 Nov 2023).
| Hostname | OS | Arch (*) | R version | Installed pkgs |
|---|---|---|---|---|
| nebbiolo2 | Linux (Ubuntu 22.04.2 LTS) | x86_64 | 4.3.1 (2023-06-16) -- "Beagle Scouts" | 4729 |
| palomino4 | Windows Server 2022 Datacenter | x64 | 4.3.1 (2023-06-16 ucrt) -- "Beagle Scouts" | 4463 |
| lconway | macOS 12.6.5 Monterey | x86_64 | 4.3.1 Patched (2023-06-17 r84564) -- "Beagle Scouts" | 4478 |
| kunpeng2 | Linux (openEuler 22.03 LTS-SP1) | aarch64 | 4.3.1 (2023-06-16) -- "Beagle Scouts" | 4464 |
| Click on any hostname to see more info about the system (e.g. compilers) (*) as reported by 'uname -p', except on Windows and Mac OS X | ||||
| Package 1562/2266 | Hostname | OS / Arch | INSTALL | BUILD | CHECK | BUILD BIN | ||||||||
| plotgardener 1.8.0 (landing page) Nicole Kramer
| nebbiolo2 | Linux (Ubuntu 22.04.2 LTS) / x86_64 | OK | OK | OK | |||||||||
| palomino4 | Windows Server 2022 Datacenter / x64 | OK | OK | OK | OK | |||||||||
| lconway | macOS 12.6.5 Monterey / x86_64 | OK | OK | OK | OK | |||||||||
| kjohnson1 | macOS 13.6.1 Ventura / arm64 | see weekly results here | ||||||||||||
| kunpeng2 | Linux (openEuler 22.03 LTS-SP1) / aarch64 | OK | OK | OK | ||||||||||
|
To the developers/maintainers of the plotgardener package: - Allow up to 24 hours (and sometimes 48 hours) for your latest push to git@git.bioconductor.org:packages/plotgardener.git to reflect on this report. See Troubleshooting Build Report for more information. - Use the following Renviron settings to reproduce errors and warnings. - If 'R CMD check' started to fail recently on the Linux builder(s) over a missing dependency, add the missing dependency to 'Suggests:' in your DESCRIPTION file. See Renviron.bioc for more information. - See Martin Grigorov's blog post for how to debug Linux ARM64 related issues on a x86_64 host. |
| Package: plotgardener |
| Version: 1.8.0 |
| Command: /home/biocbuild/R/R-4.3.1/bin/R CMD check --install=check:plotgardener.install-out.txt --library=/home/biocbuild/R/R-4.3.1/site-library --no-vignettes --timings plotgardener_1.8.0.tar.gz |
| StartedAt: 2023-11-02 13:08:47 -0000 (Thu, 02 Nov 2023) |
| EndedAt: 2023-11-02 13:16:29 -0000 (Thu, 02 Nov 2023) |
| EllapsedTime: 461.8 seconds |
| RetCode: 0 |
| Status: OK |
| CheckDir: plotgardener.Rcheck |
| Warnings: 0 |
##############################################################################
##############################################################################
###
### Running command:
###
### /home/biocbuild/R/R-4.3.1/bin/R CMD check --install=check:plotgardener.install-out.txt --library=/home/biocbuild/R/R-4.3.1/site-library --no-vignettes --timings plotgardener_1.8.0.tar.gz
###
##############################################################################
##############################################################################
* using log directory ‘/home/biocbuild/bbs-3.18-bioc/meat/plotgardener.Rcheck’
* using R version 4.3.1 (2023-06-16)
* using platform: aarch64-unknown-linux-gnu (64-bit)
* R was compiled by
gcc (GCC) 10.3.1
GNU Fortran (GCC) 10.3.1
* running under: openEuler 22.03 (LTS-SP1)
* using session charset: UTF-8
* using option ‘--no-vignettes’
* checking for file ‘plotgardener/DESCRIPTION’ ... OK
* this is package ‘plotgardener’ version ‘1.8.0’
* package encoding: UTF-8
* checking package namespace information ... OK
* checking package dependencies ... OK
* checking if this is a source package ... OK
* checking if there is a namespace ... OK
* checking for hidden files and directories ... OK
* checking for portable file names ... OK
* checking for sufficient/correct file permissions ... OK
* checking whether package ‘plotgardener’ can be installed ... OK
* used C++ compiler: ‘g++ (GCC) 10.3.1’
* checking installed package size ... NOTE
installed size is 5.2Mb
sub-directories of 1Mb or more:
R 1.5Mb
help 1.4Mb
libs 1.8Mb
* checking package directory ... OK
* checking ‘build’ directory ... OK
* checking DESCRIPTION meta-information ... NOTE
Packages listed in more than one of Depends, Imports, Suggests, Enhances:
‘GenomeInfoDb’ ‘GenomicRanges’
A package should be listed in only one of these fields.
* checking top-level files ... OK
* checking for left-over files ... OK
* checking index information ... OK
* checking package subdirectories ... OK
* checking R files for non-ASCII characters ... OK
* checking R files for syntax errors ... OK
* checking whether the package can be loaded ... OK
* checking whether the package can be loaded with stated dependencies ... OK
* checking whether the package can be unloaded cleanly ... OK
* checking whether the namespace can be loaded with stated dependencies ... OK
* checking whether the namespace can be unloaded cleanly ... OK
* checking loading without being on the library search path ... OK
* checking startup messages can be suppressed ... OK
* checking dependencies in R code ... OK
* checking S3 generic/method consistency ... OK
* checking replacement functions ... OK
* checking foreign function calls ... OK
* checking R code for possible problems ... NOTE
pgParams: no visible binding for global variable ‘width’
pgParams: no visible binding for global variable ‘strand’
Undefined global functions or variables:
strand width
* checking Rd files ... OK
* checking Rd metadata ... OK
* checking Rd cross-references ... OK
* checking for missing documentation entries ... OK
* checking for code/documentation mismatches ... OK
* checking Rd \usage sections ... OK
* checking Rd contents ... OK
* checking for unstated dependencies in examples ... OK
* checking R/sysdata.rda ... OK
* checking line endings in C/C++/Fortran sources/headers ... OK
* checking compiled code ... NOTE
Note: information on .o files is not available
* checking files in ‘vignettes’ ... OK
* checking examples ... OK
Examples with CPU (user + system) or elapsed time > 5s
user system elapsed
plotRaster 13.718 0.726 14.476
plotGenes 6.614 0.163 6.791
plotIdeogram 5.946 0.296 11.853
* checking for unstated dependencies in ‘tests’ ... OK
* checking tests ...
Running ‘testthat.R’
OK
* checking for unstated dependencies in vignettes ... OK
* checking package vignettes in ‘inst/doc’ ... OK
* checking running R code from vignettes ... SKIPPED
* checking re-building of vignette outputs ... SKIPPED
* checking PDF version of manual ... OK
* DONE
Status: 4 NOTEs
See
‘/home/biocbuild/bbs-3.18-bioc/meat/plotgardener.Rcheck/00check.log’
for details.
plotgardener.Rcheck/00install.out
############################################################################## ############################################################################## ### ### Running command: ### ### /home/biocbuild/R/R-4.3.1/bin/R CMD INSTALL plotgardener ### ############################################################################## ############################################################################## * installing to library ‘/home/biocbuild/R/R-4.3.1/site-library’ * installing *source* package ‘plotgardener’ ... ** using staged installation ** libs using C++ compiler: ‘g++ (GCC) 10.3.1’ g++ -std=gnu++17 -I"/home/biocbuild/R/R-4.3.1/include" -DNDEBUG -I'/home/biocbuild/R/R-4.3.1/site-library/Rcpp/include' -I/usr/local/include -fPIC -g -O2 -Wall -c RcppExports.cpp -o RcppExports.o g++ -std=gnu++17 -I"/home/biocbuild/R/R-4.3.1/include" -DNDEBUG -I'/home/biocbuild/R/R-4.3.1/site-library/Rcpp/include' -I/usr/local/include -fPIC -g -O2 -Wall -c checkRow.cpp -o checkRow.o g++ -std=gnu++17 -I"/home/biocbuild/R/R-4.3.1/include" -DNDEBUG -I'/home/biocbuild/R/R-4.3.1/site-library/Rcpp/include' -I/usr/local/include -fPIC -g -O2 -Wall -c rebinBigwig.cpp -o rebinBigwig.o g++ -std=gnu++17 -shared -L/home/biocbuild/R/R-4.3.1/lib -L/usr/local/lib -o plotgardener.so RcppExports.o checkRow.o rebinBigwig.o -L/home/biocbuild/R/R-4.3.1/lib -lR installing to /home/biocbuild/R/R-4.3.1/site-library/00LOCK-plotgardener/00new/plotgardener/libs ** R ** inst ** byte-compile and prepare package for lazy loading ** help *** installing help indices *** copying figures ** building package indices ** installing vignettes ** testing if installed package can be loaded from temporary location ** checking absolute paths in shared objects and dynamic libraries ** testing if installed package can be loaded from final location ** testing if installed package keeps a record of temporary installation path * DONE (plotgardener)
plotgardener.Rcheck/tests/testthat.Rout
R version 4.3.1 (2023-06-16) -- "Beagle Scouts"
Copyright (C) 2023 The R Foundation for Statistical Computing
Platform: aarch64-unknown-linux-gnu (64-bit)
R is free software and comes with ABSOLUTELY NO WARRANTY.
You are welcome to redistribute it under certain conditions.
Type 'license()' or 'licence()' for distribution details.
R is a collaborative project with many contributors.
Type 'contributors()' for more information and
'citation()' on how to cite R or R packages in publications.
Type 'demo()' for some demos, 'help()' for on-line help, or
'help.start()' for an HTML browser interface to help.
Type 'q()' to quit R.
> library(testthat)
> library(plotgardener)
Attaching package: 'plotgardener'
The following object is masked from 'package:base':
c
>
> test_check("plotgardener")
Loading required package: GenomicFeatures
Loading required package: BiocGenerics
Attaching package: 'BiocGenerics'
The following objects are masked from 'package:stats':
IQR, mad, sd, var, xtabs
The following objects are masked from 'package:base':
Filter, Find, Map, Position, Reduce, anyDuplicated, aperm, append,
as.data.frame, basename, cbind, colnames, dirname, do.call,
duplicated, eval, evalq, get, grep, grepl, intersect, is.unsorted,
lapply, mapply, match, mget, order, paste, pmax, pmax.int, pmin,
pmin.int, rank, rbind, rownames, sapply, setdiff, sort, table,
tapply, union, unique, unsplit, which.max, which.min
Loading required package: S4Vectors
Loading required package: stats4
Attaching package: 'S4Vectors'
The following object is masked from 'package:utils':
findMatches
The following objects are masked from 'package:base':
I, expand.grid, unname
Loading required package: IRanges
Loading required package: GenomeInfoDb
Loading required package: GenomicRanges
Loading required package: AnnotationDbi
Loading required package: Biobase
Welcome to Bioconductor
Vignettes contain introductory material; view with
'browseVignettes()'. To cite Bioconductor, see
'citation("Biobase")', and for packages 'citation("pkgname")'.
Using poppler version 0.90.0
Loading required package: BiocFileCache
Loading required package: dbplyr
Attaching package: 'AnnotationHub'
The following object is masked from 'package:Biobase':
cache
pairs[pairs1]
arches[arches1]
ranges[ranges1]
transcripts[transcripts1]
start, endLoading required package: SummarizedExperiment
Loading required package: MatrixGenerics
Loading required package: matrixStats
Attaching package: 'matrixStats'
The following objects are masked from 'package:Biobase':
anyMissing, rowMedians
Attaching package: 'MatrixGenerics'
The following objects are masked from 'package:matrixStats':
colAlls, colAnyNAs, colAnys, colAvgsPerRowSet, colCollapse,
colCounts, colCummaxs, colCummins, colCumprods, colCumsums,
colDiffs, colIQRDiffs, colIQRs, colLogSumExps, colMadDiffs,
colMads, colMaxs, colMeans2, colMedians, colMins, colOrderStats,
colProds, colQuantiles, colRanges, colRanks, colSdDiffs, colSds,
colSums2, colTabulates, colVarDiffs, colVars, colWeightedMads,
colWeightedMeans, colWeightedMedians, colWeightedSds,
colWeightedVars, rowAlls, rowAnyNAs, rowAnys, rowAvgsPerColSet,
rowCollapse, rowCounts, rowCummaxs, rowCummins, rowCumprods,
rowCumsums, rowDiffs, rowIQRDiffs, rowIQRs, rowLogSumExps,
rowMadDiffs, rowMads, rowMaxs, rowMeans2, rowMedians, rowMins,
rowOrderStats, rowProds, rowQuantiles, rowRanges, rowRanks,
rowSdDiffs, rowSds, rowSums2, rowTabulates, rowVarDiffs, rowVars,
rowWeightedMads, rowWeightedMeans, rowWeightedMedians,
rowWeightedSds, rowWeightedVars
The following object is masked from 'package:Biobase':
rowMedians
Read in hic file with KR normalization at 1e+05 BP resolution.
signal[signal1_h]
signal[signal1_h]
[ FAIL 0 | WARN 0 | SKIP 0 | PASS 118 ]
>
> proc.time()
user system elapsed
55.910 3.834 64.653
plotgardener.Rcheck/plotgardener-Ex.timings
| name | user | system | elapsed | |
| annoDomains | 1.818 | 0.031 | 1.857 | |
| annoGenomeLabel | 3.831 | 0.104 | 3.942 | |
| annoHeatmapLegend | 1.747 | 0.076 | 1.827 | |
| annoHighlight | 0.959 | 0.024 | 0.986 | |
| annoPixels | 1.057 | 0.012 | 1.072 | |
| annoSegments | 1.801 | 0.024 | 1.830 | |
| annoText | 0.727 | 0.008 | 0.737 | |
| annoXaxis | 1.866 | 0.032 | 1.903 | |
| annoYaxis | 0.779 | 0.012 | 0.793 | |
| annoZoomLines | 2.752 | 0.020 | 2.778 | |
| assembly | 0.001 | 0.000 | 0.001 | |
| c | 0.001 | 0.000 | 0.001 | |
| calcSignalRange | 0.334 | 0.000 | 0.337 | |
| colorby | 0.377 | 0.008 | 0.385 | |
| defaultPackages | 0.012 | 0.000 | 0.012 | |
| genomes | 0 | 0 | 0 | |
| mapColors | 0.106 | 0.000 | 0.106 | |
| pageCreate | 0.06 | 0.00 | 0.06 | |
| pageGuideHide | 0.051 | 0.000 | 0.051 | |
| pageGuideHorizontal | 0.047 | 0.000 | 0.047 | |
| pageGuideShow | 0.957 | 0.024 | 0.983 | |
| pageGuideVertical | 0.113 | 0.004 | 0.117 | |
| pageLayoutCol | 0.001 | 0.000 | 0.001 | |
| pageLayoutRow | 0.001 | 0.000 | 0.001 | |
| pagePlotPlace | 0.724 | 0.012 | 0.737 | |
| pagePlotRemove | 0.597 | 0.012 | 0.613 | |
| pgParams | 2.446 | 0.095 | 2.553 | |
| plotCircle | 0.042 | 0.000 | 0.042 | |
| plotGG | 0.320 | 0.008 | 0.329 | |
| plotGenes | 6.614 | 0.163 | 6.791 | |
| plotGenomeLabel | 2.546 | 0.052 | 2.603 | |
| plotHicRectangle | 0.641 | 0.008 | 0.650 | |
| plotHicSquare | 0.766 | 0.020 | 0.791 | |
| plotHicTriangle | 1.541 | 0.012 | 1.557 | |
| plotIdeogram | 5.946 | 0.296 | 11.853 | |
| plotLegend | 0.418 | 0.008 | 0.429 | |
| plotManhattan | 1.828 | 0.043 | 1.882 | |
| plotMultiSignal | 1.954 | 0.024 | 1.982 | |
| plotPairs | 0.152 | 0.000 | 0.152 | |
| plotPairsArches | 0.166 | 0.000 | 0.166 | |
| plotPolygon | 0.071 | 0.000 | 0.070 | |
| plotRanges | 0.226 | 0.004 | 0.229 | |
| plotRaster | 13.718 | 0.726 | 14.476 | |
| plotRect | 0.558 | 0.020 | 0.578 | |
| plotSegments | 0.086 | 0.004 | 0.089 | |
| plotSignal | 1.082 | 0.004 | 1.088 | |
| plotText | 0.064 | 0.000 | 0.064 | |
| plotTranscripts | 1.244 | 0.008 | 1.255 | |
| readBigwig | 0.410 | 0.000 | 0.411 | |
| readHic | 0.012 | 0.000 | 0.014 | |