| Back to Multiple platform build/check report for BioC 3.18: simplified long |
|
This page was generated on 2023-06-27 11:37:41 -0400 (Tue, 27 Jun 2023).
| Hostname | OS | Arch (*) | R version | Installed pkgs |
|---|---|---|---|---|
| nebbiolo2 | Linux (Ubuntu 22.04.2 LTS) | x86_64 | 4.3.1 (2023-06-16) -- "Beagle Scouts" | 4589 |
| palomino4 | Windows Server 2022 Datacenter | x64 | 4.3.1 (2023-06-16 ucrt) -- "Beagle Scouts" | 4286 |
| lconway | macOS 12.6.5 Monterey | x86_64 | 4.3.1 Patched (2023-06-17 r84564) -- "Beagle Scouts" | 4291 |
| kunpeng2 | Linux (openEuler 22.03 LTS-SP1) | aarch64 | 4.3.1 (2023-06-16) -- "Beagle Scouts" | 4194 |
| Click on any hostname to see more info about the system (e.g. compilers) (*) as reported by 'uname -p', except on Windows and Mac OS X | ||||
| Package 1513/2206 | Hostname | OS / Arch | INSTALL | BUILD | CHECK | BUILD BIN | ||||||||
| plethy 1.39.0 (landing page) Daniel Bottomly
| nebbiolo2 | Linux (Ubuntu 22.04.2 LTS) / x86_64 | OK | OK | ERROR | |||||||||
| palomino4 | Windows Server 2022 Datacenter / x64 | OK | OK | ERROR | OK | |||||||||
| lconway | macOS 12.6.5 Monterey / x86_64 | OK | OK | ERROR | OK | |||||||||
| kunpeng2 | Linux (openEuler 22.03 LTS-SP1) / aarch64 | OK | OK | ERROR | ||||||||||
| The builds on kunpeng2 (Linux ARM64) are experimental! |
|
To the developers/maintainers of the plethy package: - Allow up to 24 hours (and sometimes 48 hours) for your latest push to git@git.bioconductor.org:packages/plethy.git to reflect on this report. See Troubleshooting Build Report for more information. - Use the following Renviron settings to reproduce errors and warnings. - If 'R CMD check' started to fail recently on the Linux builder(s) over a missing dependency, add the missing dependency to 'Suggests:' in your DESCRIPTION file. See Renviron.bioc for more information. |
| Package: plethy |
| Version: 1.39.0 |
| Command: rm -rf plethy.buildbin-libdir && mkdir plethy.buildbin-libdir && F:\biocbuild\bbs-3.18-bioc\R\bin\R.exe CMD INSTALL --build --library=plethy.buildbin-libdir plethy_1.39.0.tar.gz |
| StartedAt: 2023-06-27 08:38:36 -0400 (Tue, 27 Jun 2023) |
| EndedAt: 2023-06-27 08:39:04 -0400 (Tue, 27 Jun 2023) |
| EllapsedTime: 28.6 seconds |
| RetCode: 0 |
| Status: OK |
| PackageFile: plethy_1.39.0.zip |
| PackageFileSize: 1.3 MiB |
############################################################################## ############################################################################## ### ### Running command: ### ### rm -rf plethy.buildbin-libdir && mkdir plethy.buildbin-libdir && F:\biocbuild\bbs-3.18-bioc\R\bin\R.exe CMD INSTALL --build --library=plethy.buildbin-libdir plethy_1.39.0.tar.gz ### ############################################################################## ############################################################################## * installing *source* package 'plethy' ... ** using staged installation ** R ** inst ** byte-compile and prepare package for lazy loading ** help *** installing help indices ** building package indices ** installing vignettes ** testing if installed package can be loaded from temporary location ** testing if installed package can be loaded from final location ** testing if installed package keeps a record of temporary installation path * MD5 sums packaged installation of 'plethy' as plethy_1.39.0.zip * DONE (plethy)