| Back to Multiple platform build/check report for BioC 3.18: simplified long |
|
This page was generated on 2023-11-02 11:41:02 -0400 (Thu, 02 Nov 2023).
| Hostname | OS | Arch (*) | R version | Installed pkgs |
|---|---|---|---|---|
| nebbiolo2 | Linux (Ubuntu 22.04.2 LTS) | x86_64 | 4.3.1 (2023-06-16) -- "Beagle Scouts" | 4729 |
| palomino4 | Windows Server 2022 Datacenter | x64 | 4.3.1 (2023-06-16 ucrt) -- "Beagle Scouts" | 4463 |
| lconway | macOS 12.6.5 Monterey | x86_64 | 4.3.1 Patched (2023-06-17 r84564) -- "Beagle Scouts" | 4478 |
| kunpeng2 | Linux (openEuler 22.03 LTS-SP1) | aarch64 | 4.3.1 (2023-06-16) -- "Beagle Scouts" | 4464 |
| Click on any hostname to see more info about the system (e.g. compilers) (*) as reported by 'uname -p', except on Windows and Mac OS X | ||||
| Package 1484/2266 | Hostname | OS / Arch | INSTALL | BUILD | CHECK | BUILD BIN | ||||||||
| packFinder 1.14.0 (landing page) Jack Gisby
| nebbiolo2 | Linux (Ubuntu 22.04.2 LTS) / x86_64 | OK | OK | OK | |||||||||
| palomino4 | Windows Server 2022 Datacenter / x64 | OK | OK | OK | OK | |||||||||
| lconway | macOS 12.6.5 Monterey / x86_64 | OK | OK | OK | OK | |||||||||
| kjohnson1 | macOS 13.6.1 Ventura / arm64 | see weekly results here | ||||||||||||
| kunpeng2 | Linux (openEuler 22.03 LTS-SP1) / aarch64 | OK | OK | OK | ||||||||||
|
To the developers/maintainers of the packFinder package: - Allow up to 24 hours (and sometimes 48 hours) for your latest push to git@git.bioconductor.org:packages/packFinder.git to reflect on this report. See Troubleshooting Build Report for more information. - Use the following Renviron settings to reproduce errors and warnings. - If 'R CMD check' started to fail recently on the Linux builder(s) over a missing dependency, add the missing dependency to 'Suggests:' in your DESCRIPTION file. See Renviron.bioc for more information. - See Martin Grigorov's blog post for how to debug Linux ARM64 related issues on a x86_64 host. |
| Package: packFinder |
| Version: 1.14.0 |
| Command: /home/biocbuild/R/R-4.3.1/bin/R CMD check --install=check:packFinder.install-out.txt --library=/home/biocbuild/R/R-4.3.1/site-library --no-vignettes --timings packFinder_1.14.0.tar.gz |
| StartedAt: 2023-11-02 12:52:43 -0000 (Thu, 02 Nov 2023) |
| EndedAt: 2023-11-02 12:53:32 -0000 (Thu, 02 Nov 2023) |
| EllapsedTime: 49.1 seconds |
| RetCode: 0 |
| Status: OK |
| CheckDir: packFinder.Rcheck |
| Warnings: 0 |
##############################################################################
##############################################################################
###
### Running command:
###
### /home/biocbuild/R/R-4.3.1/bin/R CMD check --install=check:packFinder.install-out.txt --library=/home/biocbuild/R/R-4.3.1/site-library --no-vignettes --timings packFinder_1.14.0.tar.gz
###
##############################################################################
##############################################################################
* using log directory ‘/home/biocbuild/bbs-3.18-bioc/meat/packFinder.Rcheck’
* using R version 4.3.1 (2023-06-16)
* using platform: aarch64-unknown-linux-gnu (64-bit)
* R was compiled by
gcc (GCC) 10.3.1
GNU Fortran (GCC) 10.3.1
* running under: openEuler 22.03 (LTS-SP1)
* using session charset: UTF-8
* using option ‘--no-vignettes’
* checking for file ‘packFinder/DESCRIPTION’ ... OK
* checking extension type ... Package
* this is package ‘packFinder’ version ‘1.14.0’
* package encoding: UTF-8
* checking package namespace information ... OK
* checking package dependencies ... OK
* checking if this is a source package ... OK
* checking if there is a namespace ... OK
* checking for hidden files and directories ... OK
* checking for portable file names ... OK
* checking for sufficient/correct file permissions ... OK
* checking whether package ‘packFinder’ can be installed ... OK
* checking installed package size ... OK
* checking package directory ... OK
* checking ‘build’ directory ... OK
* checking DESCRIPTION meta-information ... OK
* checking top-level files ... OK
* checking for left-over files ... OK
* checking index information ... OK
* checking package subdirectories ... OK
* checking R files for non-ASCII characters ... OK
* checking R files for syntax errors ... OK
* checking whether the package can be loaded ... OK
* checking whether the package can be loaded with stated dependencies ... OK
* checking whether the package can be unloaded cleanly ... OK
* checking whether the namespace can be loaded with stated dependencies ... OK
* checking whether the namespace can be unloaded cleanly ... OK
* checking loading without being on the library search path ... OK
* checking dependencies in R code ... OK
* checking S3 generic/method consistency ... OK
* checking replacement functions ... OK
* checking foreign function calls ... OK
* checking R code for possible problems ... OK
* checking Rd files ... OK
* checking Rd metadata ... OK
* checking Rd cross-references ... OK
* checking for missing documentation entries ... OK
* checking for code/documentation mismatches ... OK
* checking Rd \usage sections ... OK
* checking Rd contents ... OK
* checking for unstated dependencies in examples ... OK
* checking contents of ‘data’ directory ... OK
* checking data for non-ASCII characters ... OK
* checking data for ASCII and uncompressed saves ... OK
* checking files in ‘vignettes’ ... OK
* checking examples ... OK
Examples with CPU (user + system) or elapsed time > 5s
user system elapsed
arabidopsisThalianaRefseq 5.412 0.244 5.697
* checking for unstated dependencies in ‘tests’ ... OK
* checking tests ...
Running ‘testthat.R’
OK
* checking for unstated dependencies in vignettes ... OK
* checking package vignettes in ‘inst/doc’ ... OK
* checking running R code from vignettes ... SKIPPED
* checking re-building of vignette outputs ... SKIPPED
* checking PDF version of manual ... OK
* DONE
Status: OK
packFinder.Rcheck/00install.out
############################################################################## ############################################################################## ### ### Running command: ### ### /home/biocbuild/R/R-4.3.1/bin/R CMD INSTALL packFinder ### ############################################################################## ############################################################################## * installing to library ‘/home/biocbuild/R/R-4.3.1/site-library’ * installing *source* package ‘packFinder’ ... ** using staged installation ** R ** data ** inst ** byte-compile and prepare package for lazy loading ** help *** installing help indices ** building package indices ** installing vignettes ** testing if installed package can be loaded from temporary location ** testing if installed package can be loaded from final location ** testing if installed package keeps a record of temporary installation path * DONE (packFinder)
packFinder.Rcheck/tests/testthat.Rout
R version 4.3.1 (2023-06-16) -- "Beagle Scouts"
Copyright (C) 2023 The R Foundation for Statistical Computing
Platform: aarch64-unknown-linux-gnu (64-bit)
R is free software and comes with ABSOLUTELY NO WARRANTY.
You are welcome to redistribute it under certain conditions.
Type 'license()' or 'licence()' for distribution details.
R is a collaborative project with many contributors.
Type 'contributors()' for more information and
'citation()' on how to cite R or R packages in publications.
Type 'demo()' for some demos, 'help()' for on-line help, or
'help.start()' for an HTML browser interface to help.
Type 'q()' to quit R.
> library(testthat)
> library(packFinder)
>
> test_check("packFinder")
DNAStringSet object of length 1:
width seq names
[1] 3800001 GGTGTTAAAAGGTTCTTGAGTG...TAGTCAGGTTTCTAACAGAAAA Chr3
[1] "File successfully written to tempTestOutput/packMatches.csv"
[1] "FASTA written to tempTestOutput/packMatches.fasta"
[ FAIL 0 | WARN 0 | SKIP 0 | PASS 31 ]
>
> proc.time()
user system elapsed
8.507 0.493 9.245
packFinder.Rcheck/packFinder-Ex.timings
| name | user | system | elapsed | |
| arabidopsisThalianaRefseq | 5.412 | 0.244 | 5.697 | |
| blastAnalysis | 0.000 | 0.000 | 0.001 | |
| blastAnnotate | 0.000 | 0.007 | 0.008 | |
| collapseSeqs | 0.625 | 0.000 | 0.626 | |
| filterWildcards | 0.080 | 0.004 | 0.085 | |
| getPackSeqs | 1.406 | 0.008 | 1.417 | |
| getPacksFromCsv | 0.004 | 0.000 | 0.006 | |
| getPacksFromFasta | 0.061 | 0.004 | 0.067 | |
| getPacksFromGRanges | 0.068 | 0.000 | 0.069 | |
| getTsds | 0.078 | 0.004 | 0.082 | |
| identifyPotentialPackElements | 0.624 | 0.004 | 0.629 | |
| identifyTirMatches | 0.078 | 0.004 | 0.082 | |
| makeBlastDb | 0.000 | 0.000 | 0.001 | |
| packAlign | 0.055 | 0.004 | 0.059 | |
| packBlast | 0.000 | 0.000 | 0.001 | |
| packClust | 0.056 | 0.004 | 0.060 | |
| packMatches | 1.289 | 0.175 | 1.467 | |
| packSearch | 1.264 | 0.008 | 1.274 | |
| packsToCsv | 0.004 | 0.001 | 0.006 | |
| packsToFasta | 0.085 | 0.003 | 0.090 | |
| packsToGRanges | 0.02 | 0.00 | 0.02 | |
| readBlast | 0.006 | 0.001 | 0.006 | |
| readUc | 0.005 | 0.000 | 0.006 | |
| tirClust | 0.586 | 0.043 | 0.655 | |